Workbook

Sheet OBSAH
A1: Seznam tabulek a grafů
A3: ='1999 - 2025'!A1 -> Počet podaných přihlášek, přihlášených, přijatých a zapsaných ke studiu na terciární úrovni vzdělávání (VŠ a VOŠ) v letech 1999/00–2025/26
B4: ='1999 - 2025'!A4 -> Přehled za rok 1999/00
B5: ='1999 - 2025'!F4 -> Přehled za rok 2000/01
B6: ='1999 - 2025'!A44 -> Přehled za rok 2001/02
B7: ='1999 - 2025'!F44 -> Přehled za rok 2002/03
B8: ='1999 - 2025'!A84 -> Přehled za rok 2003/04
B9: ='1999 - 2025'!F84 -> Přehled za rok 2004/05
B10: ='1999 - 2025'!A124 -> Přehled za rok 2005/06
B11: ='1999 - 2025'!F124 -> Přehled za rok 2006/07
B12: ='1999 - 2025'!A164 -> Přehled za rok 2007/08
B13: ='1999 - 2025'!F164 -> Přehled za rok 2008/09
B14: ='1999 - 2025'!A204 -> Přehled za rok 2009/10
B15: ='1999 - 2025'!F204 -> Přehled za rok 2010/11
B16: ='1999 - 2025'!A244 -> Přehled za rok 2011/12
B17: =+'1999 - 2025'!F244 -> Přehled za rok 2012/13
B18: =+'1999 - 2025'!A284 -> Přehled za rok 2013/14
B19: =+'1999 - 2025'!F284 -> Přehled za rok 2014/15
B20: =+'1999 - 2025'!A324 -> Přehled za rok 2015/16
B21: =+'1999 - 2025'!F324 -> Přehled za rok 2016/17
B22: =+'1999 - 2025'!A364 -> Přehled za rok 2017/18
B23: =+'1999 - 2025'!F364 -> Přehled za rok 2018/19
B24: =+'1999 - 2025'!A404 -> Přehled za rok 2019/20
B25: =+'1999 - 2025'!F404 -> Přehled za rok 2020/21
B26: =+'1999 - 2025'!A444 -> Přehled za rok 2021/22
B27: =+'1999 - 2025'!F444 -> Přehled za rok 2022/23
B28: =+'1999 - 2025'!A484 -> Přehled za rok 2023/24
B29: =+'1999 - 2025'!F484 -> Přehled za rok 2024/25
B30: =+'1999 - 2025'!A524 -> Přehled za rok 2025/26
A31: =+CONCATENATE('čerství absolventi'!A1," ",'čerství absolventi'!A2) -> Podíl uchazečů, kteří se hlásí na vysokou či vyšší odbornou školu bezprostředně po ukončení střední školy, na celkovém počtu absolventů maturitních oborů středních škol denní formy vzdělávání v letech 1999/2000-2025/26
A33: ='vše _ kam'!A1 -> Uchazeči o studium na VŠ a VOŠ v letech 1999/00–2025/26
B34: ='vše _ kam'!A2 -> Počet přihlášených, přijatých a zapsaných ke studiu na terciární úrovni vzdělávání (VŠ a VOŠ) v letech 1999/00–2025/26
B35: ='vše _ kam'!A25 -> Počet přihlášených, přijatých a zapsaných ke studiu na terciární úrovni vzdělávání (VŠ a VOŠ) v letech 1999/00–2025/26 (v %)
B37: =vše_terc!$A$1 -> Počet podaných přihlášek, přihlášených, přijatých a zapsaných ke studiu na terciární úrovni vzdělávání (VŠ a VOŠ) v letech 1999/00–2025/26 (v tis.)
B38: =vše_terc!$A$10 -> Počet přihlášených a zapsaných ve vztahu k populaci 18/19letých a k počtu maturantů v denní formě vzdělávání v letech 1999/00–2025/26 (v tis.)
B39: =vše_terc!$A$22 -> Počet přihlášených a zapsaných do denního/prezenčního studia ve vztahu k populaci 18/19letých a k počtu maturantů v denní formě vzdělávání v letech 1999/00–2025/26 (v tis.)
B40: =vše_terc!$A$34 -> Počet podaných přihlášek, přihlášených, přijatých a zapsaných ke studiu na terciární úrovni vzdělávání 1999/00–2025/26 (v tis.)
A42: ='vše _ druh studia '!A1 -> Základní přehled o přijímacím řízení na vysoké a vyšší odborné školy podle druhu a formy studia
B43: ='vše _ druh studia '!$A$2 -> Počet podaných přihlášek, přihlášených, přijatých a zapsaných ke studiu na terciární úrovni vzdělávání (VŠ a VOŠ) v letech 1999/00–2025/26
A45: ='vše _ věk x dfst '!A1 -> Struktura přihlášených, přijatých a zapsaných na VŠ a VOŠ podle formy studia a věku v letech 1999/00–2025/2026
A86: Ležatá čárka ( - ) na místě čísla značí, že jev se nevyskytoval
A87: Tečka ( . ) na místě čísla značí, že údaj není k dispozici nebo je nespolehlivý
A88: Ležatý křížek ( x ) značí, že zápis není možný z logických důvodů

Sheet 1999 - 2025
A1: Počet podaných přihlášek, přihlášených, přijatých a zapsaných ke studiu na terciární úrovni vzdělávání (VŠ a VOŠ) v letech 1999/00–2025/26
A3: Přijímací řízení na VŠ i VOŠ | F3: Přijímací řízení na VŠ i VOŠ
A4: Přehled za rok 1999/00 | F4: Přehled za rok 2000/01
A6: Počet podaných přihlášek, uchazečů a zapsaných | F6: Počet podaných přihlášek, uchazečů a zapsaných
B7: VŠ | C7: VOŠ | D7: celkem | G7: VŠ | H7: VOŠ | I7: celkem
A8: podané přihlášky | B8: 233819 | C8: 35902 | D8: =B8+C8 -> 269721 | F8: podané přihlášky | G8: 208173 | H8: 21220 | I8: 229393
A9: z toho "čerstvých" absolventů | B9: 136311 | C9: 27116 | D9: 163427 | F9: z toho "čerstvých" absolventů | G9: 61516 | H9: 8102 | I9: 69618
A10: přijetí1) | B10: 66337 | C10: 16940 | D10: 83277 | F10: přijetí1) | G10: 61049 | H10: 11286 | I10: 72335
A11: z toho "čerstvých" absolventů | B11: 40271 | C11: 12054 | D11: 52325 | F11: z toho "čerstvých" absolventů | G11: 21462 | H11: 4023 | I11: 25485
A12: zápisy2) | B12: 47425 | C12: 13705 | D12: 61130 | F12: zápisy2) | G12: 47091 | H12: 8873 | I12: 55964
A13: z toho "čerstvých" absolventů | B13: 26059 | C13: 9628 | D13: 35687 | F13: z toho "čerstvých" absolventů | G13: 13664 | H13: 3099 | I13: 16763
A14: přihlášky uchazečů, kteří se dostavili k přij. řízení | B14: 185636 | C14: 29549 | D14: 215185 | F14: přihlášky uchazečů, kteří se dostavili k přij. řízení | G14: 165603 | H14: 16853 | I14: 182456
A15: z toho "čerstvých" absolventů | B15: 108820 | C15: 22162 | D15: 130982 | F15: z toho "čerstvých" absolventů | G15: 49385 | H15: 6309 | I15: 55694
B18: VŠ | C18: VOŠ | D18: celkem | G18: VŠ | H18: VOŠ | I18: celkem
A19: uchazeči | B19: 105437 | C19: 24551 | D19: 116644 | F19: uchazeči | G19: 103485 | H19: 15406 | I19: 110486
A20: z toho "čerstvých" absolventů | B20: 49617 | C20: 18449 | D20: 57212 | F20: z toho "čerstvých" absolventů | G20: 20338 | H20: 5978 | I20: 22971
A21: přijatí | B21: 47405 | C21: 15398 | D21: 52137 | F21: přijatí | G21: 45214 | H21: 10446 | I21: 54456
A22: z toho "čerstvých" absolventů | B22: 25460 | C22: 10944 | D22: 28229 | F22: z toho "čerstvých" absolventů | G22: 12374 | H22: 3732 | I22: 15578
A23: zapsaní | B23: 44554 | C23: 13456 | D23: 48512 | F23: zapsaní | G23: 43713 | H23: 8797 | I23: 52248
A24: z toho "čerstvých" absolventů | B24: 24054 | C24: 9452 | D24: 25788 | F24: z toho "čerstvých" absolventů | G24: 12009 | H24: 3073 | I24: 14984
A25: uchazeči, kteří se dostavili alespoň k jednomu přij. řízení | B25: 94142 | C25: 21322 | D25: 104542 | F25: uchazeči, kteří se dostavili alespoň k jednomu přij. řízení | G25: 90800 | H25: 13598 | I25: 97624
A26: z toho "čerstvých" absolventů | B26: 46008 | C26: 19602 | D26: 54852 | F26: z toho "čerstvých" absolventů | G26: 18975 | H26: 5171 | I26: 21462
B29: zároveň VŠ i VOŠ | C29: jen VŠ | D29: jen VOŠ | G29: zároveň VŠ i VOŠ | H29: jen VŠ | I29: jen VOŠ
A30: uchazeči | B30: 13344 | C30: 92093 | D30: 11207 | F30: uchazeči | G30: 8405 | H30: 95080 | I30: 7001
A31: z toho "čerstvých" absolventů | B31: 10854 | C31: 38763 | D31: 7595 | F31: z toho "čerstvých" absolventů | G31: 3345 | H31: 16993 | I31: 2633
A32: přijatí | B32: 10666 | C32: 36739 | D32: 4732 | F32: přijatí | G32: 1204 | H32: 44010 | I32: 9242
A33: z toho "čerstvých" absolventů | B33: 8175 | C33: 17285 | D33: 2769 | F33: z toho "čerstvých" absolventů | G33: 528 | H33: 11846 | I33: 3204
A34: zapsaní | B34: 9498 | C34: 35056 | D34: 3958 | F34: zapsaní | G34: 262 | H34: 43451 | I34: 8535
A35: z toho "čerstvých" absolventů | B35: 7718 | C35: 16336 | D35: 1734 | F35: z toho "čerstvých" absolventů | G35: 98 | H35: 11911 | I35: 2975
A36: uchazeči, kteří se dostavili alespoň k jednomu přij. řízení | B36: 10922 | C36: 83220 | D36: =D25-B36-C36 -> 10400 | F36: uchazeči, kteří se dostavili alespoň k jednomu přij. řízení | G36: 6774 | H36: 84026 | I36: 6824
A37: z toho "čerstvých" absolventů | B37: 10758 | C37: 35250 | D37: =D26-B37-C37 -> 8844 | F37: z toho "čerstvých" absolventů | G37: 2684 | H37: 16291 | I37: 2487
A39: Pozn:
A40: 1) přijetí – počet "přijatých" přihlášek (každý uchazeč je započítán tolikrát, kolikrát byl přijat)
A41: 2) zápisy – počet "zapsaných" přihlášek (každý uchazeč je započítán tolikrát, kolikrát se zapsal ke studiu)
A43: Přijímací řízení na VŠ i VOŠ | F43: Přijímací řízení na VŠ i VOŠ
A44: Přehled za rok 2001/02 | F44: Přehled za rok 2002/03
A46: Počet podaných přihlášek, uchazečů a zapsaných | F46: Počet podaných přihlášek, uchazečů a zapsaných
B47: VŠ | C47: VOŠ | D47: celkem | G47: VŠ | H47: VOŠ | I47: celkem
A48: podané přihlášky | B48: 237452 | C48: 28211 | D48: 265663 | F48: podané přihlášky | G48: 234026 | H48: 29450 | I48: 263476
A49: z toho "čerstvých" absolventů | B49: 149480 | C49: 21198 | D49: 170678 | F49: z toho "čerstvých" absolventů | G49: 129534 | H49: 20405 | I49: 149939
A50: přijetí1) | B50: 78352 | C50: 15023 | D50: 93375 | F50: přijetí1) | G50: 88276 | H50: 15960 | I50: 104236
A51: z toho "čerstvých" absolventů | B51: 50027 | C51: 10781 | D51: 60808 | F51: z toho "čerstvých" absolventů | G51: 50027 | H51: 10700 | I51: 60727
A52: zápisy2) | B52: 57123 | C52: 11943 | D52: 69066 | F52: zápisy2) | G52: 64114 | H52: 12789 | I52: 76903
A53: z toho "čerstvých" absolventů | B53: 32766 | C53: 8288 | D53: 41054 | F53: z toho "čerstvých" absolventů | G53: 32049 | H53: 8351 | I53: 40400
A54: přihlášky uchazečů, kteří se dostavili k přij. řízení | B54: 192616 | C54: 21707 | D54: 214323 | F54: přihlášky uchazečů, kteří se dostavili k přij. řízení | G54: 191809 | H54: 23543 | I54: 215352
A55: z toho "čerstvých" absolventů | B55: 112848 | C55: 16115 | D55: 128963 | F55: z toho "čerstvých" absolventů | G55: 106283 | H55: 16168 | I55: 122451
B58: VŠ | C58: VOŠ | D58: celkem | G58: VŠ | H58: VOŠ | I58: celkem
A59: uchazeči | B59: 105000 | C59: 20319 | D59: 113714 | F59: uchazeči | G59: 108848 | H59: 22220 | I59: 119130
A60: z toho "čerstvých" absolventů | B60: 49393 | C60: 14843 | D60: 55025 | F60: z toho "čerstvých" absolventů | G60: 45201 | H60: 15160 | I60: 51788
A61: přijatí | B61: 54676 | C61: 13835 | D61: 66698 | F61: přijatí | G61: 61077 | H61: 14823 | I61: 73720
A62: z toho "čerstvých" absolventů | B62: 30117 | C62: 8960 | D62: 38496 | F62: z toho "čerstvých" absolventů | G62: 29074 | H62: 9903 | I62: 37350
A63: zapsaní | B63: 52527 | C63: 11803 | D63: 64001 | F63: zapsaní | G63: 58342 | H63: 12602 | I63: 70464
A64: z toho "čerstvých" absolventů | B64: 29306 | C64: 8189 | D64: 37258 | F64: z toho "čerstvých" absolventů | G64: 28153 | H64: 8234 | I64: 36072
A65: uchazeči, kteří se dostavili alespoň k jednomu přij. řízení | B65: 94367 | C65: 17579 | D65: 102855 | F65: uchazeči, kteří se dostavili alespoň k jednomu přij. řízení | G65: 98337 | H65: 19520 | I65: 108491
A66: z toho "čerstvých" absolventů | B66: 46352 | C66: 12756 | D66: 51842 | F66: z toho "čerstvých" absolventů | G66: 42389 | H66: 13201 | I66: 48820
B69: zároveň VŠ i VOŠ | C69: jen VŠ | D69: jen VOŠ | G69: zároveň VŠ i VOŠ | H69: jen VŠ | I69: jen VOŠ
A70: uchazeči | B70: 11605 | C70: 93395 | D70: 8714 | F70: uchazeči | G70: 11938 | H70: 96910 | I70: 10282
A71: z toho "čerstvých" absolventů | B71: 9211 | C71: 40182 | D71: 5632 | F71: z toho "čerstvých" absolventů | G71: 8573 | H71: 36628 | I71: 6587
A72: přijatí | B72: 1813 | C72: 52863 | D72: 12022 | F72: přijatí | G72: 2180 | H72: 58897 | I72: 12643
A73: z toho "čerstvých" absolventů | B73: 1481 | C73: 28636 | D73: 8379 | F73: z toho "čerstvých" absolventů | G73: 1627 | H73: 27447 | I73: 8276
A74: zapsaní | B74: 329 | C74: 52198 | D74: 11474 | F74: zapsaní | G74: 480 | H74: 57862 | I74: 12122
A75: z toho "čerstvých" absolventů | B75: 237 | C75: 29069 | D75: 7952 | F75: z toho "čerstvých" absolventů | G75: 315 | H75: 27838 | I75: 7919
A76: uchazeči, kteří se dostavili alespoň k jednomu přij. řízení | B76: 9091 | C76: 85276 | D76: 8488 | F76: uchazeči, kteří se dostavili alespoň k jednomu přij. řízení | G76: 9366 | H76: 88971 | I76: 10154
A77: z toho "čerstvých" absolventů | B77: 7266 | C77: 39086 | D77: 5490 | F77: z toho "čerstvých" absolventů | G77: 6770 | H77: 35619 | I77: 6431
A79: Pozn:
A80: 1) přijetí – počet "přijatých" přihlášek (každý uchazeč je započítán tolikrát, kolikrát byl přijat)
A81: 2) zápisy – počet "zapsaných" přihlášek (každý uchazeč je započítán tolikrát, kolikrát se zapsal ke studiu)
A83: Přijímací řízení na VŠ i VOŠ | F83: Přijímací řízení na VŠ i VOŠ
A84: Přehled za rok 2003/04 | F84: Přehled za rok 2004/05
A86: Počet podaných přihlášek, uchazečů a zapsaných | F86: Počet podaných přihlášek, uchazečů a zapsaných
B87: VŠ | C87: VOŠ | D87: celkem | G87: VŠ | H87: VOŠ | I87: celkem
A88: podané přihlášky | B88: 253273 | C88: 32673 | D88: 285946 | F88: podané přihlášky | G88: 284977 | H88: 27007 | I88: 311984
A89: z toho "čerstvých" absolventů | B89: 151682 | C89: 22912 | D89: 174594 | F89: z toho "čerstvých" absolventů | G89: 168393 | H89: 18788 | I89: 187181
A90: přijetí1) | B90: 98999 | C90: 16556 | D90: 115555 | F90: přijetí1) | G90: 108813 | H90: 14415 | I90: 123228
A91: z toho "čerstvých" absolventů | B91: 59353 | C91: 10926 | D91: 70279 | F91: z toho "čerstvých" absolventů | G91: 66118 | H91: 9618 | I91: 75736
A92: zápisy2) | B92: 70406 | C92: 13586 | D92: 83992 | F92: zápisy2) | G92: 76296 | H92: 11444 | I92: 87740
A93: z toho "čerstvých" absolventů | B93: 37243 | C93: 8631 | D93: 45874 | F93: z toho "čerstvých" absolventů | G93: 40719 | H93: 7475 | I93: 48194
A94: přihlášky uchazečů, kteří se dostavili k přij. řízení | B94: 209436 | C94: 26183 | D94: 235619 | F94: přihlášky uchazečů, kteří se dostavili k přij. řízení | G94: 240977 | H94: 21334 | I94: 262311
A95: z toho "čerstvých" absolventů | B95: 125208 | C95: 18039 | D95: 143247 | F95: z toho "čerstvých" absolventů | G95: 142599 | H95: 14755 | I95: 157354
B98: VŠ | C98: VOŠ | D98: celkem | G98: VŠ | H98: VOŠ | I98: celkem
A99: uchazeči | B99: 117544 | C99: 24339 | D99: 129009 | F99: uchazeči | G99: 130353 | H99: 20595 | I99: 139354
A100: z toho "čerstvých" absolventů | B100: 52297 | C100: 16644 | D100: 59448 | F100: z toho "čerstvých" absolventů | G100: 56051 | H100: 14019 | I100: 61599
A101: přijatí | B101: 69582 | C101: 15507 | D101: 82968 | F101: přijatí | G101: 75613 | H101: 13361 | I101: 87009
A102: z toho "čerstvých" absolventů | B102: 35491 | C102: 10147 | D102: 44008 | F102: z toho "čerstvých" absolventů | G102: 38767 | H102: 8862 | I102: 46156
A103: zapsaní | B103: 66517 | C103: 13434 | D103: 79524 | F103: zapsaní | G103: 72199 | H103: 11300 | I103: 83108
A104: z toho "čerstvých" absolventů | B104: 34559 | C104: 8529 | D104: 42787 | F104: z toho "čerstvých" absolventů | G104: 37828 | H104: 7367 | I104: 44940
A105: uchazeči, kteří se dostavili alespoň k jednomu přij. řízení | B105: 107169 | C105: 21394 | D105: 118461 | F105: uchazeči, kteří se dostavili alespoň k jednomu přij. řízení | G105: 119446 | H105: 17577 | I105: 128126
A106: z toho "čerstvých" absolventů | B106: 49559 | C106: 14457 | D106: 56539 | F106: z toho "čerstvých" absolventů | G106: 53405 | H106: 11921 | I106: 58819
B109: zároveň VŠ i VOŠ | C109: jen VŠ | D109: jen VOŠ | G109: zároveň VŠ i VOŠ | H109: jen VŠ | I109: jen VOŠ
A110: uchazeči | B110: 12874 | C110: 104670 | D110: 11465 | F110: uchazeči | G110: 11594 | H110: 118759 | I110: 9001
A111: z toho "čerstvých" absolventů | B111: 9493 | C111: 42804 | D111: 7151 | F111: z toho "čerstvých" absolventů | G111: 8471 | H111: 47580 | I111: 5548
A112: přijatí | B112: 2121 | C112: 67461 | D112: 13386 | F112: přijatí | G112: 1965 | H112: 73648 | I112: 11396
A113: z toho "čerstvých" absolventů | B113: 1630 | C113: 33861 | D113: 8517 | F113: z toho "čerstvých" absolventů | G113: 1473 | H113: 37294 | I113: 7389
A114: zapsaní | B114: 427 | C114: 66090 | D114: 13007 | F114: zapsaní | G114: 391 | H114: 71808 | I114: 10909
A115: z toho "čerstvých" absolventů | B115: 301 | C115: 34258 | D115: 8228 | F115: z toho "čerstvých" absolventů | G115: 255 | H115: 37573 | I115: 7112
A116: uchazeči, kteří se dostavili alespoň k jednomu přij. řízení | B116: 10102 | C116: 97067 | D116: 11292 | F116: uchazeči, kteří se dostavili alespoň k jednomu přij. řízení | G116: 8897 | H116: 110549 | I116: 8680
A117: z toho "čerstvých" absolventů | B117: 7477 | C117: 42082 | D117: 6980 | F117: z toho "čerstvých" absolventů | G117: 6507 | H117: 46898 | I117: 5414
A119: Pozn:
A120: 1) přijetí – počet "přijatých" přihlášek (každý uchazeč je započítán tolikrát, kolikrát byl přijat)
A121: 2) zápisy – počet "zapsaných" přihlášek (každý uchazeč je započítán tolikrát, kolikrát se zapsal ke studiu)
...

Sheet čerství absolventi
A1: Podíl uchazečů, kteří se hlásí na vysokou či vyšší odbornou školu bezprostředně po ukončení střední školy, na celkovém počtu absolventů maturitních oborů středních škol
A2: denní formy vzdělávání v letech 1999/2000-2025/26
B4: 1999/2000 | C4: 2000/01 | D4: 2001/02 | E4: 2002/03 | F4: 2003/04 | G4: 2004/05 | H4: 2005/06 | I4: 2006/07 | J4: 2007/08 | K4: 2008/09 | L4: 2009/10 | M4: 2010/11 | N4: 2011/12 | O4: 2012/13 | P4: 2013/14 | Q4: 2014/15 | R4: 2015/16 | S4: 2016/17 | T4: 2017/18 | U4: 2018/19 | V4: 2019/20 | W4: 2020/21 | X4: 2021/22 | Y4: 2022/23 | Z4: 2023/24 | AA4: 2024/25 | AB4: 2025/26
A5: vysoké a vyšší odborné školy celkem
A6: přihlášení | B6: =+B29/B28 -> 0.62837185 | C6: =+C29/C28 -> 0.65507899 | D6: =+D29/D28 -> 0.7524169 | E6: =+E29/E28 -> 0.69898772 | F6: =+F29/F28 -> 0.74915882 | G6: =+G29/G28 -> 0.75408572 | H6: =+H29/H28 -> 0.74626866 | I6: =+I29/I28 -> 0.74209115 | ... AB6: =+AB29/AB28 -> 0.87354243
A7: přijatí | B7: =+B31/B28 -> 0.31004525 | C7: =+C31/C28 -> 0.44424799 | D7: =+D31/D28 -> 0.52639783 | E7: =+E31/E28 -> 0.50411661 | F7: =+F31/F28 -> 0.55458521 | G7: =+G31/G28 -> 0.56503483 | H7: =+H31/H28 -> 0.57205271 | I7: =+I31/I28 -> 0.60810035 | ... AB7: =+AB31/AB28 -> 0.76752993
A8: zapsaní | B8: =+B33/B28 -> 0.28323522 | C8: =+C33/C28 -> 0.4273085 | D8: =+D33/D28 -> 0.50946931 | E8: =+E33/E28 -> 0.48686732 | F8: =+F33/F28 -> 0.53919827 | G8: =+G33/G28 -> 0.55014874 | H8: =+H33/H28 -> 0.55393916 | I8: =+I33/I28 -> 0.58865763 | ... AB8: =+AB33/AB28 -> 0.74873642
A9: vysoké školy
A10: přihlášení na VŠ | B10: =+B36/B$28 -> 0.54495431 | C10: =+C36/C$28 -> 0.57999202 | D10: =+D36/D$28 -> 0.67540441 | E10: =+E36/E$28 -> 0.61008233 | F10: =+F36/F$28 -> 0.65904251 | G10: =+G36/G$28 -> 0.68616793 | H10: =+H36/H$28 -> 0.68095834 | I10: =+I36/I$28 -> 0.70690685 | ... AB10: =+AB36/AB$28 -> 0.841266
A11: přijatí na VŠ | B11: =B38/B$28 -> 0.27963272 | C11: =C38/C$28 -> 0.35287743 | D11: =D38/D$28 -> 0.41182262 | E11: =E38/E$28 -> 0.39241463 | F11: =F38/F$28 -> 0.44725467 | G11: =G38/G$28 -> 0.4745798 | H11: =H38/H$28 -> 0.48725912 | I11: =I38/I$28 -> 0.52749505 | ... AB11: =AB38/AB$28 -> 0.70989649
A12: zapsaní na VŠ | B12: =+B40/B$28 -> 0.26419032 | C12: =+C40/C$28 -> 0.34246849 | D12: =+D40/D$28 -> 0.40073293 | E12: =+E40/E$28 -> 0.3799838 | F12: =+F40/F$28 -> 0.43550968 | G12: =+G40/G$28 -> 0.4630847 | H12: =+H40/H$28 -> 0.4728651 | I12: =+I40/I$28 -> 0.5112147 | ... AB12: =+AB40/AB$28 -> 0.69134502
A13: vyšší odborné školy
A14: přihlášení na VOŠ | B14: =+B43/B$28 -> 0.20262938 | C14: =+C43/C$28 -> 0.17047853 | D14: =+D43/D$28 -> 0.20296454 | E14: =+E43/E$28 -> 0.20461601 | F14: =+F43/F$28 -> 0.20974632 | G14: =+G43/G$28 -> 0.17161849 | H14: =+H43/H$28 -> 0.15472086 | I14: =+I43/I$28 -> 0.13009054 | ... AB14: =+AB43/AB$28 -> 0.10313652
A15: přijatí na VOŠ | B15: =+B45/B$28 -> 0.12020033 | C15: =+C45/C$28 -> 0.10642788 | D15: =+D45/D$28 -> 0.12251986 | E15: =+E45/E$28 -> 0.13366176 | F15: =+F45/F$28 -> 0.12787166 | G15: =+G45/G$28 -> 0.10848727 | H15: =+H45/H$28 -> 0.10235216 | I15: =+I45/I$28 -> 0.096358589 | ... AB15: =+AB45/AB$28 -> 0.080085995
A16: zapsaní na VOŠ | B16: =+B47/B$28 -> 0.10381337 | C16: =+C47/C$28 -> 0.087634746 | D16: =+D47/D$28 -> 0.11197714 | E16: =+E47/E$28 -> 0.11113511 | F16: =+F47/F$28 -> 0.10748176 | G16: =+G47/G$28 -> 0.090185709 | H16: =+H47/H$28 -> 0.084167769 | I16: =+I47/I$28 -> 0.080464751 | ... AB16: =+AB47/AB$28 -> 0.06290132
A18: Podíl uchazečů, kteří se hlásí na vysokou či vyšší odbornou školu bezprostředně po ukončení střední školy, na celkovém počtu absolventů maturitních oborů středních škol
A19: denní formy vzdělávání v letech 1999/2000-2025/26
A27: maturanti celkem
A28: maturanti | B28: =+vše_terc!D19*1000 -> 91048 | C28: =+vše_terc!E19*1000 -> 35066 | D28: =+vše_terc!F19*1000 -> 73131 | E28: =+vše_terc!G19*1000 -> 74090 | F28: =+vše_terc!H19*1000 -> 79353 | G28: =+vše_terc!I19*1000 -> 81687 | H28: =+vše_terc!J19*1000 -> 84688 | I28: =+vše_terc!K19*1000 -> 85379 | ... AB28: =+vše_terc!AD19*1000 -> 70237
A29: přihlášení | B29: =+'1999 - 2025'!D20 -> 57212 | C29: =+'1999 - 2025'!I20 -> 22971 | D29: =+'1999 - 2025'!D60 -> 55025 | E29: =+'1999 - 2025'!I60 -> 51788 | F29: =+'1999 - 2025'!D100 -> 59448 | G29: =+'1999 - 2025'!I100 -> 61599 | H29: =+'1999 - 2025'!D140 -> 63200 | I29: =+'1999 - 2025'!I140 -> 63359 | J29: =+'1999 - 2025'!D180 -> 66828 | K29: =+'1999 - 2025'!I180 -> 66920 | L29: =+'1999 - 2025'!D220 -> 70129 | M29: =+'1999 - 2025'!I220 -> 72587 | N29: =+'1999 - 2025'!D260 -> 68706 | O29: =+'1999 - 2025'!I260 -> 66873 | P29: =+'1999 - 2025'!D300 -> 62002 | Q29: =+'1999 - 2025'!I300 -> 53431 | R29: =+'1999 - 2025'!D340 -> 50240 | S29: =+'1999 - 2025'!I340 -> 47706 | T29: =+'1999 - 2025'!D380 -> 47460 | U29: =+'1999 - 2025'!I380 -> 47556 | V29: =+'1999 - 2025'!D420 -> 49058 | W29: =+'1999 - 2025'!I420 -> 49641 | X29: =+'1999 - 2025'!D460 -> 52633 | Y29: =+'1999 - 2025'!I460 -> 50739 | Z29: =+'1999 - 2025'!D500 -> 53781 | AA29: =+'1999 - 2025'!I500 -> 58623 | AB29: =+'1999 - 2025'!D540 -> 61355
A31: přijatí | B31: =+'1999 - 2025'!D22 -> 28229 | C31: =+'1999 - 2025'!I22 -> 15578 | D31: =+'1999 - 2025'!D62 -> 38496 | E31: =+'1999 - 2025'!I62 -> 37350 | F31: =+'1999 - 2025'!D102 -> 44008 | G31: =+'1999 - 2025'!I102 -> 46156 | H31: =+'1999 - 2025'!D142 -> 48446 | I31: =+'1999 - 2025'!I142 -> 51919 | J31: =+'1999 - 2025'!D182 -> 54230 | K31: =+'1999 - 2025'!I182 -> 55645 | L31: =+'1999 - 2025'!D222 -> 59010 | M31: =+'1999 - 2025'!I222 -> 60225 | N31: =+'1999 - 2025'!D262 -> 56080 | O31: =+'1999 - 2025'!I262 -> 53950 | P31: =+'1999 - 2025'!D302 -> 51253 | Q31: =+'1999 - 2025'!I302 -> 43864 | R31: =+'1999 - 2025'!D342 -> 40984 | S31: =+'1999 - 2025'!I342 -> 39276 | T31: =+'1999 - 2025'!D382 -> 40380 | U31: =+'1999 - 2025'!I382 -> 40778 | V31: =+'1999 - 2025'!D422 -> 42767 | W31: =+'1999 - 2025'!I422 -> 44439 | X31: =+'1999 - 2025'!D462 -> 47131 | Y31: =+'1999 - 2025'!I462 -> 43879 | Z31: =+'1999 - 2025'!D502 -> 46688 | AA31: =+'1999 - 2025'!I502 -> 51180 | AB31: =+'1999 - 2025'!D542 -> 53909
A33: zapsaní | B33: =+'1999 - 2025'!D24 -> 25788 | C33: =+'1999 - 2025'!I24 -> 14984 | D33: =+'1999 - 2025'!D64 -> 37258 | E33: =+'1999 - 2025'!I64 -> 36072 | F33: =+'1999 - 2025'!D104 -> 42787 | G33: =+'1999 - 2025'!I104 -> 44940 | H33: =+'1999 - 2025'!D144 -> 46912 | I33: =+'1999 - 2025'!I144 -> 50259 | J33: =+'1999 - 2025'!D184 -> 52288 | K33: =+'1999 - 2025'!I184 -> 53680 | L33: =+'1999 - 2025'!D224 -> 56674 | M33: =+'1999 - 2025'!I224 -> 58197 | N33: =+'1999 - 2025'!D264 -> 53831 | O33: =+'1999 - 2025'!I264 -> 51852 | P33: =+'1999 - 2025'!D304 -> 49245 | Q33: =+'1999 - 2025'!I304 -> 42023 | R33: =+'1999 - 2025'!D344 -> 39263 | S33: =+'1999 - 2025'!I344 -> 37852 | T33: =+'1999 - 2025'!D384 -> 38689 | U33: =+'1999 - 2025'!I384 -> 39017 | V33: =+'1999 - 2025'!D424 -> 41100 | W33: =+'1999 - 2025'!I424 -> 43134 | X33: =+'1999 - 2025'!D464 -> 45861 | Y33: =+'1999 - 2025'!I464 -> 42673 | Z33: =+'1999 - 2025'!D504 -> 45582 | AA33: =+'1999 - 2025'!I504 -> 49908 | AB33: =+'1999 - 2025'!D544 -> 52589
A35: na VŠ
A36: přihlášení | B36: =+'1999 - 2025'!B20 -> 49617 | C36: =+'1999 - 2025'!G20 -> 20338 | D36: =+'1999 - 2025'!B60 -> 49393 | E36: =+'1999 - 2025'!G60 -> 45201 | F36: =+'1999 - 2025'!B100 -> 52297 | G36: =+'1999 - 2025'!G100 -> 56051 | H36: =+'1999 - 2025'!B140 -> 57669 | I36: =+'1999 - 2025'!G140 -> 60355 | J36: =+'1999 - 2025'!B180 -> 62507 | K36: =+'1999 - 2025'!G180 -> 61700 | L36: =+'1999 - 2025'!B220 -> 65339 | M36: =+'1999 - 2025'!G220 -> 68243 | N36: =+'1999 - 2025'!B260 -> 65207 | O36: =+'1999 - 2025'!G260 -> 63505 | P36: =+'1999 - 2025'!B300 -> 59143 | Q36: =+'1999 - 2025'!G300 -> 50927 | R36: =+'1999 - 2025'!B340 -> 47908 | S36: =+'1999 - 2025'!G340 -> 45510 | T36: =+'1999 - 2025'!B380 -> 45490 | U36: =+'1999 - 2025'!G380 -> 45696 | V36: =+'1999 - 2025'!B420 -> 47205 | W36: =+'1999 - 2025'!G420 -> 47592 | X36: =+'1999 - 2025'!B460 -> 50432 | Y36: =+'1999 - 2025'!G460 -> 50073 | Z36: =+'1999 - 2025'!B500 -> 53067 | AA36: =+'1999 - 2025'!G500 -> 56451 | AB36: =+'1999 - 2025'!B540 -> 59088
A38: přijatí | B38: =+'1999 - 2025'!B22 -> 25460 | C38: =+'1999 - 2025'!G22 -> 12374 | D38: =+'1999 - 2025'!B62 -> 30117 | E38: =+'1999 - 2025'!G62 -> 29074 | F38: =+'1999 - 2025'!B102 -> 35491 | G38: =+'1999 - 2025'!G102 -> 38767 | H38: =+'1999 - 2025'!B142 -> 41265 | I38: =+'1999 - 2025'!G142 -> 45037 | J38: =+'1999 - 2025'!B182 -> 47866 | K38: =+'1999 - 2025'!G182 -> 49441 | L38: =+'1999 - 2025'!B222 -> 52642 | M38: =+'1999 - 2025'!G222 -> 53734 | N38: =+'1999 - 2025'!B262 -> 50584 | O38: =+'1999 - 2025'!G262 -> 48412 | P38: =+'1999 - 2025'!B302 -> 46011 | Q38: =+'1999 - 2025'!G302 -> 39257 | R38: =+'1999 - 2025'!B342 -> 36935 | S38: =+'1999 - 2025'!G342 -> 36008 | T38: =+'1999 - 2025'!B382 -> 37387 | U38: =+'1999 - 2025'!G382 -> 37938 | V38: =+'1999 - 2025'!B422 -> 39862 | W38: =+'1999 - 2025'!G422 -> 41453 | X38: =+'1999 - 2025'!B462 -> 43328 | Y38: =+'1999 - 2025'!G462 -> 41551 | Z38: =+'1999 - 2025'!B502 -> 44110 | AA38: =+'1999 - 2025'!G502 -> 47324 | AB38: =+'1999 - 2025'!B542 -> 49861
A40: zapsaní | B40: =+'1999 - 2025'!B24 -> 24054 | C40: =+'1999 - 2025'!G24 -> 12009 | D40: =+'1999 - 2025'!B64 -> 29306 | E40: =+'1999 - 2025'!G64 -> 28153 | F40: =+'1999 - 2025'!B104 -> 34559 | G40: =+'1999 - 2025'!G104 -> 37828 | H40: =+'1999 - 2025'!B144 -> 40046 | I40: =+'1999 - 2025'!G144 -> 43647 | J40: =+'1999 - 2025'!B184 -> 46303 | K40: =+'1999 - 2025'!G184 -> 47773 | L40: =+'1999 - 2025'!B224 -> 50504 | M40: =+'1999 - 2025'!G224 -> 51887 | N40: =+'1999 - 2025'!B264 -> 48499 | O40: =+'1999 - 2025'!G264 -> 46298 | P40: =+'1999 - 2025'!B304 -> 44030 | Q40: =+'1999 - 2025'!G304 -> 37396 | R40: =+'1999 - 2025'!B344 -> 35232 | S40: =+'1999 - 2025'!G344 -> 34366 | T40: =+'1999 - 2025'!B384 -> 35681 | U40: =+'1999 - 2025'!G384 -> 36197 | V40: =+'1999 - 2025'!B424 -> 38160 | W40: =+'1999 - 2025'!G424 -> 40108 | X40: =+'1999 - 2025'!B464 -> 42030 | Y40: =+'1999 - 2025'!G464 -> 40338 | Z40: =+'1999 - 2025'!B504 -> 42949 | AA40: =+'1999 - 2025'!G504 -> 46070 | AB40: =+'1999 - 2025'!B544 -> 48558
A42: na VOŠ
A43: přihlášení | B43: =+'1999 - 2025'!C20 -> 18449 | C43: =+'1999 - 2025'!H20 -> 5978 | D43: =+'1999 - 2025'!C60 -> 14843 | E43: =+'1999 - 2025'!H60 -> 15160 | F43: =+'1999 - 2025'!C100 -> 16644 | G43: =+'1999 - 2025'!H100 -> 14019 | H43: =+'1999 - 2025'!C140 -> 13103 | I43: =+'1999 - 2025'!H140 -> 11107 | J43: =+'1999 - 2025'!C180 -> 10022 | K43: =+'1999 - 2025'!H180 -> 10205 | L43: =+'1999 - 2025'!C220 -> 10379 | M43: =+'1999 - 2025'!H220 -> 10392 | N43: =+'1999 - 2025'!C260 -> 8932 | O43: =+'1999 - 2025'!H260 -> 9565 | P43: =+'1999 - 2025'!C300 -> 8060 | Q43: =+'1999 - 2025'!H300 -> 7173 | R43: =+'1999 - 2025'!C340 -> 6338 | S43: =+'1999 - 2025'!H340 -> 5638 | T43: =+'1999 - 2025'!C380 -> 4962 | U43: =+'1999 - 2025'!H380 -> 4631 | V43: =+'1999 - 2025'!C420 -> 4794 | W43: =+'1999 - 2025'!H420 -> 4987 | X43: =+'1999 - 2025'!C460 -> 6028 | Y43: =+'1999 - 2025'!H460 -> 5543 | Z43: =+'1999 - 2025'!C500 -> 6066 | AA43: =+'1999 - 2025'!H500 -> 6423 | AB43: =+'1999 - 2025'!C540 -> 7244
A45: přijatí | B45: =+'1999 - 2025'!C22 -> 10944 | C45: =+'1999 - 2025'!H22 -> 3732 | D45: =+'1999 - 2025'!C62 -> 8960 | E45: =+'1999 - 2025'!H62 -> 9903 | F45: =+'1999 - 2025'!C102 -> 10147 | G45: =+'1999 - 2025'!H102 -> 8862 | H45: =+'1999 - 2025'!C142 -> 8668 | I45: =+'1999 - 2025'!H142 -> 8227 | J45: =+'1999 - 2025'!C182 -> 7878 | K45: =+'1999 - 2025'!H182 -> 7646 | L45: =+'1999 - 2025'!C222 -> 8031 | M45: =+'1999 - 2025'!H222 -> 7989 | N45: =+'1999 - 2025'!C262 -> 6888 | O45: =+'1999 - 2025'!H262 -> 6942 | P45: =+'1999 - 2025'!C302 -> 6530 | Q45: =+'1999 - 2025'!H302 -> 5790 | R45: =+'1999 - 2025'!C342 -> 5114 | S45: =+'1999 - 2025'!H342 -> 3835 | T45: =+'1999 - 2025'!C382 -> 3990 | U45: =+'1999 - 2025'!H382 -> 3726 | V45: =+'1999 - 2025'!C422 -> 3901 | W45: =+'1999 - 2025'!H422 -> 3974 | X45: =+'1999 - 2025'!C462 -> 4967 | Y45: =+'1999 - 2025'!H462 -> 4347 | Z45: =+'1999 - 2025'!C502 -> 4713 | AA45: =+'1999 - 2025'!H502 -> 5067 | AB45: =+'1999 - 2025'!C542 -> 5625
A47: zapsaní | B47: =+'1999 - 2025'!C24 -> 9452 | C47: =+'1999 - 2025'!H24 -> 3073 | D47: =+'1999 - 2025'!C64 -> 8189 | E47: =+'1999 - 2025'!H64 -> 8234 | F47: =+'1999 - 2025'!C104 -> 8529 | G47: =+'1999 - 2025'!H104 -> 7367 | H47: =+'1999 - 2025'!C144 -> 7128 | I47: =+'1999 - 2025'!H144 -> 6870 | J47: =+'1999 - 2025'!C184 -> 6304 | K47: =+'1999 - 2025'!H184 -> 6265 | L47: =+'1999 - 2025'!C224 -> 6520 | M47: =+'1999 - 2025'!H224 -> 6711 | N47: =+'1999 - 2025'!C264 -> 5657 | O47: =+'1999 - 2025'!H264 -> 5920 | P47: =+'1999 - 2025'!C304 -> 5546 | Q47: =+'1999 - 2025'!H304 -> 4983 | R47: =+'1999 - 2025'!C344 -> 4332 | S47: =+'1999 - 2025'!H344 -> 3835 | T47: =+'1999 - 2025'!C384 -> 3358 | U47: =+'1999 - 2025'!H384 -> 3141 | V47: =+'1999 - 2025'!C424 -> 3294 | W47: =+'1999 - 2025'!H424 -> 3375 | X47: =+'1999 - 2025'!C464 -> 4218 | Y47: =+'1999 - 2025'!H464 -> 3547 | Z47: =+'1999 - 2025'!C504 -> 3958 | AA47: 4218 | AB47: =+'1999 - 2025'!C544 -> 4418

Sheet vše _ kam
A1: Uchazeči o studium na VŠ a VOŠ v letech 1999/00–2025/26
A2: Počet přihlášených, přijatých a zapsaných ke studiu na terciární úrovni vzdělávání (VŠ a VOŠ) v letech 1999/00–2025/26
B3: 1999/2000 | C3: 2000/01 | D3: 2001/02 | E3: 2002/03 | F3: 2003/04 | G3: 2004/05 | H3: 2005/06 | I3: 2006/07 | J3: 2007/08 | K3: 2008/09 | L3: 2009/10 | M3: 2010/11 | N3: 2011/12 | O3: 2012/13 | P3: 2013/14 | Q3: 2014/15 | R3: 2015/16 | S3: 2016/17 | T3: 2017/18 | U3: 2018/19 | V3: 2019/20 | W3: 2020/21 | X3: 2021/22 | Y3: 2022/23 | Z3: 2023/24 | AA3: 2024/25 | AB3: 2025/26
A4: přihlášení
A5: jen na VŠ | B5: 92093 | C5: 95080 | D5: 93395 | E5: 96910 | F5: 104670 | G5: 118759 | H5: 120506 | I5: 129355 | J5: 138575 | K5: 140095 | L5: 138742 | M5: 141912 | N5: 141199 | O5: 132806 | P5: ='1999 - 2025'!C310 -> 126233 | Q5: ='1999 - 2025'!H310 -> 114385 | R5: ='1999 - 2025'!C350 -> 106872 | S5: ='1999 - 2025'!H350 -> 97464 | T5: ='1999 - 2025'!C390 -> 93307 | U5: ='1999 - 2025'!H390 -> 90828 | V5: ='1999 - 2025'!C430 -> 93605 | W5: ='1999 - 2025'!H430 -> 94275 | X5: ='1999 - 2025'!C470 -> 96479 | Y5: ='1999 - 2025'!H470 -> 94952 | Z5: ='1999 - 2025'!C510 -> 98385 | AA5: ='1999 - 2025'!H510 -> 100593 | AB5: ='1999 - 2025'!C550 -> 104015
A6: jen na VOŠ | B6: 11207 | C6: 7001 | D6: 8714 | E6: 10282 | F6: 11465 | G6: 9001 | H6: 9013 | I6: 8683 | J6: 9258 | K6: 9522 | L6: 9818 | M6: 10365 | N6: 9450 | O6: 9357 | P6: ='1999 - 2025'!D310 -> 8762 | Q6: ='1999 - 2025'!I310 -> 8329 | R6: ='1999 - 2025'!D350 -> 8112 | S6: ='1999 - 2025'!I350 -> 7324 | T6: ='1999 - 2025'!D390 -> 7017 | U6: ='1999 - 2025'!I390 -> 6664 | V6: ='1999 - 2025'!D430 -> 6394 | W6: ='1999 - 2025'!I430 -> 6961 | X6: ='1999 - 2025'!D470 -> 7840 | Y6: ='1999 - 2025'!I470 -> 7429 | Z6: ='1999 - 2025'!D510 -> 8047 | AA6: ='1999 - 2025'!I510 -> 8125 | AB6: ='1999 - 2025'!D550 -> 8598
A7: na VŠ a VOŠ | B7: 13344 | C7: 8405 | D7: 11605 | E7: 11938 | F7: 12874 | G7: 11594 | H7: 10428 | I7: 8481 | J7: 8226 | K7: 7181 | L7: 7878 | M7: 8676 | N7: 8414 | O7: 8248 | P7: ='1999 - 2025'!B310 -> 8024 | Q7: ='1999 - 2025'!G310 -> 7376 | R7: ='1999 - 2025'!B350 -> 6285 | S7: ='1999 - 2025'!G350 -> 5375 | T7: ='1999 - 2025'!B390 -> 4715 | U7: ='1999 - 2025'!G390 -> 4342 | V7: ='1999 - 2025'!B430 -> 4522 | W7: ='1999 - 2025'!G430 -> 4593 | X7: ='1999 - 2025'!B470 -> 5876 | Y7: ='1999 - 2025'!G470 -> 5997 | Z7: ='1999 - 2025'!B510 -> 6211 | AA7: ='1999 - 2025'!G510 -> 6700 | AB7: ='1999 - 2025'!B550 -> 7357
A8: Celkem | B8: =SUM(B5:B7) -> 116644 | C8: =+'vše _ druh studia '!D24 -> 110486 | D8: 113714 | E8: 119130 | F8: 129009 | G8: 139354 | H8: 139947 | I8: 146519 | J8: 156059 | K8: 156798 | L8: 156438 | M8: 160953 | N8: 159063 | O8: 150411 | P8: =SUM(P5:P7) -> 143019 | Q8: =SUM(Q5:Q7) -> 130090 | R8: =SUM(R5:R7) -> 121269 | S8: =SUM(S5:S7) -> 110163 | T8: =SUM(T5:T7) -> 105039 | U8: =SUM(U5:U7) -> 101834 | V8: =SUM(V5:V7) -> 104521 | W8: =SUM(W5:W7) -> 105829 | ... AB8: =SUM(AB5:AB7) -> 119970
A9: přihlášení, kteří se dostavili alespoň k jednomu přijímacímu řízení
A10: jen na VŠ | B10: 83220 | C10: 84026 | D10: 85276 | E10: 88971 | F10: 97067 | G10: 110549 | H10: 111926 | I10: 120312 | J10: 128517 | K10: 130259 | L10: 130203 | M10: 132686 | N10: 132195 | O10: 123839 | P10: ='1999 - 2025'!C316 -> 117000 | Q10: ='1999 - 2025'!H316 -> 105073 | R10: ='1999 - 2025'!C356 -> 97771 | S10: ='1999 - 2025'!H356 -> 89253 | T10: ='1999 - 2025'!C396 -> 86688 | U10: ='1999 - 2025'!H396 -> 83977 | V10: ='1999 - 2025'!C436 -> 87966 | W10: ='1999 - 2025'!H436 -> 90633 | X10: ='1999 - 2025'!C476 -> 92098 | Y10: ='1999 - 2025'!H476 -> 88850 | Z10: ='1999 - 2025'!C516 -> 92356 | AA10: ='1999 - 2025'!H516 -> 94561 | AB10: ='1999 - 2025'!C556 -> 98080
A11: jen na VOŠ | B11: 11300 | C11: 6824 | D11: 8488 | E11: 10154 | F11: 11292 | G11: 8680 | H11: 8548 | I11: 8176 | J11: 8885 | K11: 8736 | L11: 9408 | M11: 10032 | N11: 9373 | O11: 9307 | P11: ='1999 - 2025'!D316 -> 8995 | Q11: ='1999 - 2025'!I316 -> 8441 | R11: ='1999 - 2025'!D356 -> 8112 | S11: ='1999 - 2025'!I356 -> 7324 | T11: ='1999 - 2025'!D396 -> 6921 | U11: ='1999 - 2025'!I396 -> 6245 | V11: ='1999 - 2025'!D436 -> 6131 | W11: ='1999 - 2025'!I436 -> 6818 | X11: ='1999 - 2025'!D476 -> 7733 | Y11: ='1999 - 2025'!I476 -> 7533 | Z11: ='1999 - 2025'!D516 -> 8235 | AA11: ='1999 - 2025'!I516 -> 8318 | AB11: ='1999 - 2025'!D556 -> 8863
A12: na VŠ a VOŠ | B12: 10922 | C12: 6774 | D12: 9091 | E12: 9366 | F12: 10102 | G12: 8897 | H12: 7761 | I12: 6813 | J12: 6715 | K12: 5857 | L12: 6564 | M12: 7386 | N12: 7085 | O12: 6889 | P12: ='1999 - 2025'!B316 -> 6766 | Q12: ='1999 - 2025'!G316 -> 5993 | R12: ='1999 - 2025'!B356 -> 5713 | S12: ='1999 - 2025'!G356 -> 4822 | T12: ='1999 - 2025'!B396 -> 3693 | U12: ='1999 - 2025'!G396 -> 3520 | V12: ='1999 - 2025'!B436 -> 3569 | W12: ='1999 - 2025'!G436 -> 3829 | X12: ='1999 - 2025'!B476 -> 4980 | Y12: ='1999 - 2025'!G476 -> 4941 | Z12: ='1999 - 2025'!B516 -> 5289 | AA12: ='1999 - 2025'!G516 -> 5631 | AB12: ='1999 - 2025'!B556 -> 6338
A13: Celkem | B13: 105442 | C13: 97624 | D13: 102855 | E13: 108491 | F13: 118461 | G13: 128126 | H13: 128235 | I13: 135301 | J13: 144117 | K13: 144852 | L13: 146175 | M13: 150104 | N13: 148653 | O13: 140035 | P13: =SUM(P10:P12) -> 132761 | Q13: =SUM(Q10:Q12) -> 119507 | R13: =SUM(R10:R12) -> 111596 | S13: =SUM(S10:S12) -> 101399 | T13: =SUM(T10:T12) -> 97302 | U13: =SUM(U10:U12) -> 93742 | V13: =SUM(V10:V12) -> 97666 | W13: =SUM(W10:W12) -> 101280 | ... AB13: =SUM(AB10:AB12) -> 113281
A14: přijatí
A15: jen na VŠ | B15: 45752 | C15: 44010 | D15: 52863 | E15: 58897 | F15: 67461 | G15: 73648 | H15: 77933 | I15: 87237 | J15: 95078 | K15: 101946 | L15: 103273 | M15: 104281 | N15: 101584 | O15: 96121 | P15: ='1999 - 2025'!C312 -> 91707 | Q15: ='1999 - 2025'!H312 -> 82853 | R15: ='1999 - 2025'!C352 -> 79381 | S15: ='1999 - 2025'!H352 -> 73837 | T15: ='1999 - 2025'!C392 -> 73027 | U15: ='1999 - 2025'!H392 -> 71882 | V15: ='1999 - 2025'!C432 -> 75882 | W15: ='1999 - 2025'!H432 -> 78220 | X15: ='1999 - 2025'!C472 -> 77794 | Y15: ='1999 - 2025'!H472 -> 74413 | Z15: ='1999 - 2025'!C512 -> 76979 | AA15: ='1999 - 2025'!H512 -> 79465 | AB15: ='1999 - 2025'!C552 -> 83958
A16: jen na VOŠ | B16: 13745 | C16: 9242 | D16: 12022 | E16: 12643 | F16: 13386 | G16: 11396 | H16: 11150 | I16: 10807 | J16: 11517 | K16: 10536 | L16: 11444 | M16: 12291 | N16: 11643 | O16: 11658 | P16: ='1999 - 2025'!D312 -> 11360 | Q16: ='1999 - 2025'!I312 -> 10382 | R16: ='1999 - 2025'!D352 -> 9074 | S16: ='1999 - 2025'!I352 -> 8067 | T16: ='1999 - 2025'!D392 -> 7905 | U16: ='1999 - 2025'!I392 -> 7548 | V16: ='1999 - 2025'!D432 -> 7297 | W16: ='1999 - 2025'!I432 -> 7632 | X16: ='1999 - 2025'!D472 -> 8966 | Y16: ='1999 - 2025'!I472 -> 8701 | Z16: ='1999 - 2025'!D512 -> 8874 | AA16: ='1999 - 2025'!I512 -> 9572 | AB16: ='1999 - 2025'!D552 -> 9934
A17: na VŠ a VOŠ | B17: 1653 | C17: 1204 | D17: 1813 | E17: 2180 | F17: 2121 | G17: 1965 | H17: 2053 | I17: 1838 | J17: 2112 | K17: 2057 | L17: 2297 | M17: 2156 | N17: 2177 | O17: 2140 | P17: ='1999 - 2025'!B312 -> 2007 | Q17: ='1999 - 2025'!G312 -> 1911 | R17: ='1999 - 2025'!B352 -> 958 | S17: ='1999 - 2025'!G352 -> 958 | T17: ='1999 - 2025'!B392 -> 1607 | U17: ='1999 - 2025'!G392 -> 1480 | V17: ='1999 - 2025'!B432 -> 1603 | W17: ='1999 - 2025'!G432 -> 1580 | X17: ='1999 - 2025'!B472 -> 1827 | Y17: ='1999 - 2025'!G472 -> 1725 | Z17: ='1999 - 2025'!B512 -> 1771 | AA17: ='1999 - 2025'!G512 -> 1963 | AB17: ='1999 - 2025'!B552 -> 2323
A18: Celkem | B18: =SUM(B15:B17) -> 61150 | C18: =+'vše _ druh studia '!J24 -> 52248 | D18: 66698 | E18: 73720 | F18: 82968 | G18: 87009 | H18: 91136 | I18: 99882 | J18: 108707 | K18: 114539 | L18: 117014 | M18: 118728 | N18: 115404 | O18: 109919 | P18: =SUM(P15:P17) -> 105074 | Q18: =SUM(Q15:Q17) -> 95146 | R18: =SUM(R15:R17) -> 89413 | S18: =SUM(S15:S17) -> 82862 | T18: =SUM(T15:T17) -> 82539 | U18: =SUM(U15:U17) -> 80910 | V18: =SUM(V15:V17) -> 84782 | W18: =SUM(W15:W17) -> 87432 | ... AB18: =SUM(AB15:AB17) -> 96215
A19: zapsaní
A20: jen na VŠ | B20: 44163 | C20: 43451 | D20: 52198 | E20: 57862 | F20: 66090 | G20: 71808 | H20: 75727 | I20: 85038 | J20: 92187 | K20: 98125 | L20: 99213 | M20: 100005 | N20: 97229 | O20: 91779 | P20: ='1999 - 2025'!C314 -> 87520 | Q20: ='1999 - 2025'!H314 -> 78409 | R20: ='1999 - 2025'!C354 -> 74246 | S20: ='1999 - 2025'!H354 -> 69232 | T20: ='1999 - 2025'!C394 -> 69283 | U20: ='1999 - 2025'!H394 -> 68168 | V20: ='1999 - 2025'!C434 -> 72094 | W20: ='1999 - 2025'!H434 -> 74987 | X20: ='1999 - 2025'!C474 -> 74609 | Y20: ='1999 - 2025'!H474 -> 72088 | Z20: ='1999 - 2025'!C514 -> 74576 | AA20: ='1999 - 2025'!H514 -> 77032 | AB20: ='1999 - 2025'!C554 -> 81663
A21: jen na VOŠ | B21: 13065 | C21: 8535 | D21: 11474 | E21: 12122 | F21: 13007 | G21: 10909 | H21: 10667 | I21: 10414 | J21: 10802 | K21: 10057 | L21: 10958 | M21: 11844 | N21: 11196 | O21: 11394 | P21: ='1999 - 2025'!D314 -> 11036 | Q21: ='1999 - 2025'!I314 -> 10156 | R21: ='1999 - 2025'!D354 -> 9431 | S21: ='1999 - 2025'!I354 -> 8394 | T21: ='1999 - 2025'!D394 -> 7668 | U21: ='1999 - 2025'!I394 -> 7249 | V21: ='1999 - 2025'!D434 -> 7189 | W21: ='1999 - 2025'!I434 -> 7458 | X21: ='1999 - 2025'!D474 -> 8713 | Y21: ='1999 - 2025'!I474 -> 8230 | Z21: ='1999 - 2025'!D514 -> 8545 | AA21: ='1999 - 2025'!I514 -> 9121 | AB21: ='1999 - 2025'!D554 -> 9473
A22: na VŠ a VOŠ | B22: 391 | C22: 262 | D22: 329 | E22: 480 | F22: 427 | G22: 391 | H22: 482 | I22: 444 | J22: 540 | K22: 601 | L22: 605 | M22: 671 | N22: 608 | O22: 649 | P22: ='1999 - 2025'!B314 -> 589 | Q22: ='1999 - 2025'!G314 -> 664 | R22: ='1999 - 2025'!B354 -> 601 | S22: ='1999 - 2025'!G354 -> 631 | T22: ='1999 - 2025'!B394 -> 636 | U22: ='1999 - 2025'!G394 -> 595 | V22: ='1999 - 2025'!B434 -> 636 | W22: ='1999 - 2025'!G434 -> 617 | X22: ='1999 - 2025'!B474 -> 656 | Y22: ='1999 - 2025'!G474 -> 625 | Z22: ='1999 - 2025'!B514 -> 639 | AA22: ='1999 - 2025'!G514 -> 639 | AB22: ='1999 - 2025'!B554 -> 660
A23: Celkem | B23: =SUM(B20:B22) -> 57619 | C23: 52248 | D23: 64001 | E23: 70464 | F23: 79524 | G23: 83108 | H23: 86876 | I23: 95896 | J23: 103529 | K23: 108783 | L23: 110776 | M23: 112520 | N23: 109033 | O23: 103822 | P23: =SUM(P20:P22) -> 99145 | Q23: =SUM(Q20:Q22) -> 89229 | R23: =SUM(R20:R22) -> 84278 | S23: =SUM(S20:S22) -> 78257 | T23: =SUM(T20:T22) -> 77587 | U23: =SUM(U20:U22) -> 76012 | V23: =SUM(V20:V22) -> 79919 | W23: =SUM(W20:W22) -> 83062 | ... AB23: =SUM(AB20:AB22) -> 91796
A25: Počet přihlášených, přijatých a zapsaných ke studiu na terciární úrovni vzdělávání (VŠ a VOŠ) v letech 1999/00–2025/26 (v %)
B26: 1999/2000 | C26: 2000/01 | D26: 2001/02 | E26: 2002/03 | F26: 2003/04 | G26: 2004/05 | H26: 2005/06 | I26: 2006/07 | J26: 2007/08 | K26: 2008/09 | L26: 2009/10 | M26: 2010/11 | N26: 2011/12 | O26: 2012/13 | P26: 2013/14 | Q26: 2014/15 | R26: 2015/16 | S26: 2016/17 | T26: 2017/18 | U26: 2018/19 | V26: 2019/20 | W26: 2020/21 | X26: 2020/21 | Y26: 2022/23 | Z26: 2023/24 | AA26: 2024/25 | AB26: 2025/26
A27: přihlášení
A28: jen na VŠ | B28: =+B5/B$8 -> 0.78952196 | C28: =+C5/C$8 -> 0.86056152 | D28: =+D5/D$8 -> 0.82131488 | E28: =+E5/E$8 -> 0.81348107 | F28: =F5/F8 -> 0.81133874 | G28: =G5/G8 -> 0.85221092 | H28: =H5/H8 -> 0.86108312 | I28: =I5/I8 -> 0.88285478 | J28: =J5/J8 -> 0.88796545 | K28: =K5/K8 -> 0.89347441 | L28: =L5/L8 -> 0.8868817 | M28: =M5/M8 -> 0.88169838 | N28: 0.8876923 | O28: =O5/O8 -> 0.88295404 | P28: =P5/P8 -> 0.88263098 | Q28: =Q5/Q8 -> 0.87927589 | R28: =R5/R8 -> 0.88128046 | S28: =S5/S8 -> 0.88472536 | T28: =T5/T8 -> 0.88830815 | U28: =U5/U8 -> 0.89192215 | V28: =V5/V8 -> 0.89556166 | ... AB28: =AB5/AB8 -> 0.86700842
A29: jen na VOŠ | B29: =+B6/B$8 -> 0.096078667 | C29: =+C6/C$8 -> 0.063365494 | D29: =+D6/D$8 -> 0.076630846 | E29: =+E6/E$8 -> 0.086309074 | F29: =F6/F8 -> 0.088869769 | G29: =G6/G8 -> 0.064590898 | H29: =H6/H8 -> 0.064402953 | I29: =I6/I8 -> 0.059261939 | J29: =J6/J8 -> 0.059323717 | K29: =K6/K8 -> 0.060727815 | L29: =L6/L8 -> 0.062759688 | M29: =M6/M8 -> 0.064397681 | N29: 0.059410422 | O29: =O6/O8 -> 0.062209546 | P29: =P6/P8 -> 0.061264587 | Q29: =Q6/Q8 -> 0.064024906 | R29: =R6/R8 -> 0.066892611 | S29: =S6/S8 -> 0.066483302 | T29: =T6/T8 -> 0.066803759 | U29: =U6/U8 -> 0.065439833 | V29: =V6/V8 -> 0.061174309 | ... AB29: =AB6/AB8 -> 0.071667917
A30: na VŠ a VOŠ | B30: =+B7/B$8 -> 0.11439937 | C30: =+C7/C$8 -> 0.076072987 | D30: =+D7/D$8 -> 0.10205428 | E30: =+E7/E$8 -> 0.10020985 | F30: =F7/F8 -> 0.099791487 | G30: =G7/G8 -> 0.083198186 | H30: =H7/H8 -> 0.074513923 | I30: =I7/I8 -> 0.057883278 | J30: =J7/J8 -> 0.052710834 | K30: =K7/K8 -> 0.045797778 | L30: =L7/L8 -> 0.050358609 | M30: =M7/M8 -> 0.053903935 | N30: 0.05289728 | O30: =O7/O8 -> 0.054836415 | P30: =P7/P8 -> 0.056104434 | Q30: =Q7/Q8 -> 0.056699208 | R30: =R7/R8 -> 0.05182693 | S30: =S7/S8 -> 0.048791336 | T30: =T7/T8 -> 0.044888089 | U30: =U7/U8 -> 0.042638019 | V30: =V7/V8 -> 0.043264033 | ... AB30: =AB7/AB8 -> 0.061323664
A31: Celkem | B31: =+B8/B$8 -> 1 | C31: =+C8/C$8 -> 1 | D31: =+D8/D$8 -> 1 | E31: =+E8/E$8 -> 1 | F31: 1 | G31: =G8/G8 -> 1 | H31: =H8/H8 -> 1 | I31: =I8/I8 -> 1 | J31: =J8/J8 -> 1 | K31: =K8/K8 -> 1 | L31: =L8/L8 -> 1 | M31: =M8/M8 -> 1 | N31: 1 | O31: =O8/O8 -> 1 | P31: =P8/P8 -> 1 | Q31: =Q8/Q8 -> 1 | R31: =R8/R8 -> 1 | S31: =S8/S8 -> 1 | T31: =T8/T8 -> 1 | U31: =U8/U8 -> 1 | V31: =V8/V8 -> 1 | ... AB31: =AB8/AB8 -> 1
A32: přihlášení, kteří se dostavili alespoň k jednomu přijímacímu řízení
A33: jen na VŠ | B33: =B10/B13 -> 0.78924907 | C33: =C10/C13 -> 0.86071048 | D33: =D10/D13 -> 0.82908949 | E33: =E10/E13 -> 0.82007724 | F33: =F10/F13 -> 0.81940048 | G33: =G10/G13 -> 0.86281473 | H33: =H10/H13 -> 0.87281943 | I33: =I10/I13 -> 0.88921737 | ... M33: =M10/M13 -> 0.88396045 | N33: 0.88928579 | O33: =O10/O13 -> 0.8843432 | P33: =P10/P13 -> 0.88128291 | Q33: =Q10/Q13 -> 0.87922046 | R33: =R10/R13 -> 0.87611563 | S33: =S10/S13 -> 0.88021578 | T33: =T10/T13 -> 0.89091694 | U33: =U10/U13 -> 0.89583111 | V33: =V10/V13 -> 0.90068192 | ... AB33: =AB10/AB13 -> 0.86581157
A34: jen na VOŠ | B34: =B11/B13 -> 0.10716792 | C34: =C11/C13 -> 0.069900844 | D34: =D11/D13 -> 0.082523941 | E34: =E11/E13 -> 0.093593017 | F34: =F11/F13 -> 0.095322511 | G34: =G11/G13 -> 0.067745813 | H34: =H11/H13 -> 0.066658868 | I34: =I11/I13 -> 0.06042823 | ... M34: =M11/M13 -> 0.066833662 | N34: 0.063052882 | O34: =O11/O13 -> 0.066461956 | P34: =P11/P13 -> 0.067753331 | Q34: =Q11/Q13 -> 0.070631846 | R34: =R11/R13 -> 0.072690777 | S34: =S11/S13 -> 0.072229509 | T34: =T11/T13 -> 0.071129062 | U34: =U11/U13 -> 0.066619018 | V34: =V11/V13 -> 0.062775173 | ... AB34: =AB11/AB13 -> 0.078239069
A35: na VŠ a VOŠ | B35: =B12/B13 -> 0.10358301 | C35: =C12/C13 -> 0.069388675 | D35: =D12/D13 -> 0.088386564 | E35: =E12/E13 -> 0.086329742 | F35: =F12/F13 -> 0.085277011 | G35: =G12/G13 -> 0.069439458 | H35: =H12/H13 -> 0.060521698 | I35: =I12/I13 -> 0.050354395 | ... M35: =M12/M13 -> 0.049205884 | N35: 0.047661332 | O35: =O12/O13 -> 0.049194844 | P35: =P12/P13 -> 0.050963762 | Q35: =Q12/Q13 -> 0.05014769 | R35: =R12/R13 -> 0.051193591 | S35: =S12/S13 -> 0.04755471 | T35: =T12/T13 -> 0.037953999 | U35: =U12/U13 -> 0.037549871 | V35: =V12/V13 -> 0.036542912 | ... AB35: =AB12/AB13 -> 0.055949365
A36: Celkem | B36: =B13/B13 -> 1 | C36: =C13/C13 -> 1 | D36: =D13/D13 -> 1 | E36: =E13/E13 -> 1 | F36: =F13/F13 -> 1 | G36: =G13/G13 -> 1 | H36: =H13/H13 -> 1 | I36: =I13/I13 -> 1 | ... M36: =M13/M13 -> 1 | N36: 1 | O36: =O13/O13 -> 1 | P36: =P13/P13 -> 1 | Q36: =Q13/Q13 -> 1 | R36: =R13/R13 -> 1 | S36: =S13/S13 -> 1 | T36: =T13/T13 -> 1 | U36: =U13/U13 -> 1 | V36: =V13/V13 -> 1 | ... AB36: =AB13/AB13 -> 1
A37: přijatí
A38: jen na VŠ | B38: =+B15/B$18 -> 0.74819297 | C38: =+C15/C$18 -> 0.84232889 | D38: =+D15/D$18 -> 0.79257249 | E38: =+E15/E$18 -> 0.79892838 | F38: =F15/F18 -> 0.81309662 | G38: =G15/G18 -> 0.84644117 | H38: =H15/H18 -> 0.8551286 | I38: =I15/I18 -> 0.87340061 | J38: =J15/J18 -> 0.87462629 | K38: =K15/K18 -> 0.89005492 | L38: =L15/L18 -> 0.88256961 | M38: =M15/M18 -> 0.87831851 | N38: 0.88024679 | O38: =O15/O18 -> 0.8744712 | P38: =P15/P18 -> 0.87278489 | Q38: =Q15/Q18 -> 0.87079856 | R38: =R15/R18 -> 0.88780155 | S38: =S15/S18 -> 0.89108397 | T38: =T15/T18 -> 0.88475751 | U38: =U15/U18 -> 0.88841923 | V38: =V15/V18 -> 0.89502489 | ... AB38: =AB15/AB18 -> 0.87260822
A39: jen na VOŠ | B39: =+B16/B$18 -> 0.22477514 | C39: =+C16/C$18 -> 0.17688715 | D39: =+D16/D$18 -> 0.18024528 | E39: =+E16/E$18 -> 0.17150027 | F39: =F16/F18 -> 0.16133931 | G39: =G16/G18 -> 0.13097496 | H39: =H16/H18 -> 0.12234463 | I39: =I16/I18 -> 0.10819767 | J39: =J16/J18 -> 0.10594534 | K39: =K16/K18 -> 0.091986136 | L39: =L16/L18 -> 0.097800263 | M39: =M16/M18 -> 0.10352234 | N39: 0.10088905 | O39: =O16/O18 -> 0.10605992 | P39: =P16/P18 -> 0.10811428 | Q39: =Q16/Q18 -> 0.10911652 | R39: =R16/R18 -> 0.10148412 | S39: =S16/S18 -> 0.097354638 | T39: =T16/T18 -> 0.095772907 | U39: =U16/U18 -> 0.093288839 | V39: =V16/V18 -> 0.086067797 | ... AB39: =AB16/AB18 -> 0.10324793
A40: na VŠ a VOŠ | B40: =+B17/B$18 -> 0.027031889 | C40: =+C17/C$18 -> 0.023043944 | D40: =+D17/D$18 -> 0.027182224 | E40: =+E17/E$18 -> 0.029571351 | F40: =F17/F18 -> 0.025564073 | G40: =G17/G18 -> 0.022583871 | H40: =H17/H18 -> 0.022526773 | I40: =I17/I18 -> 0.018401714 | J40: =J17/J18 -> 0.019428372 | K40: =K17/K18 -> 0.017958948 | L40: =L17/L18 -> 0.01963013 | M40: =M17/M18 -> 0.018159154 | N40: 0.018864164 | O40: =O17/O18 -> 0.019468882 | P40: =P17/P18 -> 0.019100824 | Q40: =Q17/Q18 -> 0.020084922 | R40: =R17/R18 -> 0.010714326 | S40: =S17/S18 -> 0.011561391 | T40: =T17/T18 -> 0.019469584 | U40: =U17/U18 -> 0.018291929 | V40: =V17/V18 -> 0.018907315 | ... AB40: =AB17/AB18 -> 0.024143845
A41: Celkem | B41: =+B18/B$18 -> 1 | C41: =+C18/C$18 -> 1 | D41: =+D18/D$18 -> 1 | E41: =+E18/E$18 -> 1 | F41: 1 | G41: =G18/G18 -> 1 | H41: =H18/H18 -> 1 | I41: =I18/I18 -> 1 | J41: =J18/J18 -> 1 | K41: =K18/K18 -> 1 | L41: =L18/L18 -> 1 | M41: =M18/M18 -> 1 | N41: 1 | O41: =O18/O18 -> 1 | P41: =P18/P18 -> 1 | Q41: =Q18/Q18 -> 1 | R41: =R18/R18 -> 1 | S41: =S18/S18 -> 1 | T41: =T18/T18 -> 1 | U41: =U18/U18 -> 1 | V41: =V18/V18 -> 1 | ... AB41: =AB18/AB18 -> 1
A42: zapsaní
A43: jen na VŠ | B43: =+B20/B$23 -> 0.76646592 | C43: =+C20/C$23 -> 0.83162992 | D43: =+D20/D$23 -> 0.81558101 | E43: =+E20/E$23 -> 0.8211569 | F43: =F20/F23 -> 0.83106987 | G43: =G20/G23 -> 0.86403234 | H43: =H20/H23 -> 0.87166766 | I43: =I20/I23 -> 0.88677317 | J43: =J20/J23 -> 0.89044616 | K43: =K20/K23 -> 0.90202513 | L43: =L20/L23 -> 0.89561818 | M43: =M20/M23 -> 0.88877533 | N43: 0.8917392 | O43: =O20/O23 -> 0.88400339 | P43: =P20/P23 -> 0.88274749 | Q43: =Q20/Q23 -> 0.87873897 | R43: =R20/R23 -> 0.88096538 | S43: =S20/S23 -> 0.88467485 | T43: =T20/T23 -> 0.89297176 | U43: =U20/U23 -> 0.89680577 | V43: =V20/V23 -> 0.90208836 | ... AB43: =AB20/AB23 -> 0.88961393
A44: jen na VOŠ | B44: =+B21/B$23 -> 0.22674812 | C44: =+C21/C$23 -> 0.16335554 | D44: =+D21/D$23 -> 0.17927845 | E44: =+E21/E$23 -> 0.17203111 | F44: =F21/F23 -> 0.16356069 | G44: =G21/G23 -> 0.13126293 | H44: =H21/H23 -> 0.1227842 | I44: =I21/I23 -> 0.10859681 | J44: =J21/J23 -> 0.10433791 | K44: =K21/K23 -> 0.092450107 | L44: =L21/L23 -> 0.098920344 | M44: =M21/M23 -> 0.10526129 | N44: 0.10268451 | O44: =O21/O23 -> 0.10974553 | P44: =P21/P23 -> 0.11131172 | Q44: =Q21/Q23 -> 0.1138195 | R44: =R21/R23 -> 0.11190346 | S44: =S21/S23 -> 0.10726197 | T44: =T21/T23 -> 0.09883099 | U44: =U21/U23 -> 0.095366521 | V44: =V21/V23 -> 0.089953578 | ... AB44: =AB21/AB23 -> 0.10319622
A45: na VŠ a VOŠ | B45: =+B22/B$23 -> 0.006785956 | C45: =+C22/C$23 -> 0.005014546 | D45: =+D22/D$23 -> 0.0051405447 | E45: =+E22/E$23 -> 0.0068119891 | F45: =F22/F23 -> 0.0053694482 | G45: =G22/G23 -> 0.0047047216 | H45: =H22/H23 -> 0.0055481376 | I45: =I22/I23 -> 0.0046300159 | J45: =J22/J23 -> 0.0052159298 | K45: =K22/K23 -> 0.0055247603 | L45: =L22/L23 -> 0.0054614718 | M45: =M22/M23 -> 0.0059633843 | N45: 0.0055762934 | O45: =O22/O23 -> 0.0062510836 | P45: =P22/P23 -> 0.0059407938 | Q45: =Q22/Q23 -> 0.0074415269 | R45: =R22/R23 -> 0.0071311612 | S45: =S22/S23 -> 0.0080631765 | T45: =T22/T23 -> 0.0081972495 | U45: =U22/U23 -> 0.0078277114 | V45: =V22/V23 -> 0.0079580575 | ... AB45: =AB22/AB23 -> 0.0071898558
A46: Celkem | B46: =+B23/B$23 -> 1 | C46: =+C23/C$23 -> 1 | D46: =+D23/D$23 -> 1 | E46: =+E23/E$23 -> 1 | F46: =SUM(F43:F45) -> 1 | G46: =G23/G23 -> 1 | H46: =H23/H23 -> 1 | I46: =I23/I23 -> 1 | J46: =J23/J23 -> 1 | K46: =K23/K23 -> 1 | L46: =L23/L23 -> 1 | M46: =M23/M23 -> 1 | N46: 1 | O46: =O23/O23 -> 1 | P46: =P23/P23 -> 1 | Q46: =Q23/Q23 -> 1 | R46: =R23/R23 -> 1 | S46: =S23/S23 -> 1 | T46: =T23/T23 -> 1 | U46: =U23/U23 -> 1 | V46: =V23/V23 -> 1 | ... AB46: =AB23/AB23 -> 1

Sheet vše_terc
A1: Počet podaných přihlášek, přihlášených, přijatých a zapsaných ke studiu na terciární úrovni vzdělávání (VŠ a VOŠ) v letech 1999/00–2025/26 (v tis.)
B2: 1997/98 | C2: 1998/99 | D2: 1999/2000 | E2: 2000/01 | F2: 2001/02 | G2: 2002/03 | H2: 2003/04 | I2: 2004/05 | J2: 2005/06 | K2: 2006/07 | L2: 2007/08 | M2: 2008/09 | N2: 2009/10 | O2: 2010/11 | P2: 2011/12 | Q2: 2012/13 | R2: 2013/14 | S2: 2014/15 | T2: 2015/16 | U2: 2016/17 | V2: 2017/18 | W2: 2018/19 | X2: 2019/20 | Y2: 2020/21 | Z2: 2021/22 | AA2: 2022/23 | AB2: 2023/24 | AC2: 2024/25 | AD2: 2025/26
A3: počet podaných přihlášek | B3: 291.3 | C3: 294.8 | D3: 269.7 | E3: 229.393 | F3: 265.663 | G3: 263.476 | H3: 285.946 | I3: 312 | J3: 319.7 | K3: 326 | L3: 345 | M3: 339.262 | N3: =345616/1000 -> 345.616 | O3: 353.682 | P3: 351.424 | Q3: =+'vše _ druh studia '!C144/1000 -> 330.443 | R3: =+'vše _ druh studia '!C154/1000 -> 311.426 | S3: =+'vše _ druh studia '!C164/1000 -> 279.423 | T3: =+'vše _ druh studia '!C174/1000 -> 261.103 | U3: =+'vše _ druh studia '!C184/1000 -> 239.187 | V3: =+'vše _ druh studia '!C194/1000 -> 227.06 | W3: =+'vše _ druh studia '!C204/1000 -> 216.903 | X3: =+'vše _ druh studia '!C214/1000 -> 224.496 | Y3: =+'vše _ druh studia '!C224/1000 -> 225.646 | Z3: =+'vše _ druh studia '!C234/1000 -> 245.99 | AA3: =+'vše _ druh studia '!C244/1000 -> 249.505 | AB3: =+'vše _ druh studia '!C254/1000 -> 266.128 | AC3: =+'vše _ druh studia '!C264/1000 -> 276.064 | AD3: =+'vše _ druh studia '!C274/1000 -> 291.583
A4: přihlášené osoby | B4: 116.1 | C4: 118.3 | D4: 116.6 | E4: 110.486 | F4: 113.14 | G4: 119.13 | H4: 129 | I4: 139.4 | J4: 139.9 | K4: 146.5 | L4: 156.1 | M4: =156798/1000 -> 156.798 | N4: =156438/1000 -> 156.438 | O4: 160.953 | P4: 159.1 | Q4: =+'vše _ druh studia '!D144/1000 -> 150.411 | R4: =+'vše _ druh studia '!D154/1000 -> 143.019 | S4: =+'vše _ druh studia '!D164/1000 -> 130.09 | T4: =+'vše _ druh studia '!D174/1000 -> 121.269 | U4: =+'vše _ druh studia '!D184/1000 -> 110.163 | V4: =+'vše _ druh studia '!D194/1000 -> 105.039 | W4: =+'vše _ druh studia '!D204/1000 -> 101.834 | X4: =+'vše _ druh studia '!D214/1000 -> 104.521 | Y4: =+'vše _ druh studia '!D224/1000 -> 106.209 | Z4: =+'vše _ druh studia '!D234/1000 -> 110.482 | AA4: =+'vše _ druh studia '!D244/1000 -> 108.378 | AB4: =+'vše _ druh studia '!D254/1000 -> 112.643 | AC4: =+'vše _ druh studia '!D264/1000 -> 115.418 | AD4: =+'vše _ druh studia '!D274/1000 -> 119.97
A5: počet přijatých osob | B5: 57.3 | C5: 59 | D5: 61.2 | E5: 54.456 | F5: 66.698 | G5: 73.7 | H5: 82.968 | I5: 87 | J5: 91.1 | K5: 99.9 | L5: 108.7 | M5: =114539/1000 -> 114.539 | N5: =117014/1000 -> 117.014 | O5: 118.728 | P5: 115.404 | Q5: =+'vše _ druh studia '!I144/1000 -> 109.919 | R5: =+'vše _ druh studia '!I154/1000 -> 105.074 | S5: =+'vše _ druh studia '!I164/1000 -> 95.146 | T5: =+'vše _ druh studia '!I174/1000 -> 90.138 | U5: =+'vše _ druh studia '!I184/1000 -> 82.862 | V5: =+'vše _ druh studia '!I194/1000 -> 82.539 | W5: =+'vše _ druh studia '!I204/1000 -> 80.91 | X5: =+'vše _ druh studia '!I214/1000 -> 84.782 | Y5: =+'vše _ druh studia '!I224/1000 -> 87.637 | Z5: =+'vše _ druh studia '!I234/1000 -> 88.751 | AA5: =+'vše _ druh studia '!I244/1000 -> 84.839 | AB5: =+'vše _ druh studia '!I254/1000 -> 87.624 | AC5: =+'vše _ druh studia '!I264/1000 -> 91 | AD5: =+'vše _ druh studia '!I274/1000 -> 96.215
A6: počet zapsaných osob | B6: * | C6: 56.3 | D6: 57.6 | E6: 52.248 | F6: 64.001 | G6: 70.464 | H6: 79.524 | I6: 83.1 | J6: 86.9 | K6: 95.9 | L6: 103.5 | M6: =108783/1000 -> 108.783 | N6: =110776/1000 -> 110.776 | O6: 112.52 | P6: 109.033 | Q6: =+'vše _ druh studia '!J144/1000 -> 103.822 | R6: =+'vše _ druh studia '!J154/1000 -> 99.145 | S6: =+'vše _ druh studia '!J164/1000 -> 89.229 | T6: =+'vše _ druh studia '!J174/1000 -> 84.278 | U6: =+'vše _ druh studia '!J184/1000 -> 78.257 | V6: =+'vše _ druh studia '!J194/1000 -> 77.587 | W6: =+'vše _ druh studia '!J204/1000 -> 76.012 | X6: =+'vše _ druh studia '!J214/1000 -> 79.919 | Y6: =+'vše _ druh studia '!J224/1000 -> 83.222 | Z6: =+'vše _ druh studia '!J234/1000 -> 84.092 | AA6: =+'vše _ druh studia '!J244/1000 -> 80.943 | AB6: =+'vše _ druh studia '!J254/1000 -> 83.76 | AC6: =+'vše _ druh studia '!J264/1000 -> 86.792 | AD6: =+'vše _ druh studia '!J274/1000 -> 91.796
A7: 19letí k 31.12. | C7: =C30/1000 -> 150.618 | D7: =D30 -> 141.248 | E7: =E30 -> 138.716 | F7: =F30 -> 139.704 | G7: =G30 -> 134.929 | H7: =H30 -> 135.777 | I7: =I30 -> 135.5 | J7: =J30 -> 133.059 | K7: =K30 -> 131.319 | ... W7: =W30 -> 92.144
A8: Údaje za všechny formy a druhy studia.
A10: Počet přihlášených a zapsaných ve vztahu k populaci 18/19letých a k počtu maturantů v denní formě vzdělávání v letech 1999/00–2025/26 (v tis.)
B11: 1997/98 | C11: 1998/99 | D11: 1999/00 | E11: 2000/01 | F11: 2001//02 | G11: 2002/03 | H11: 2003/04 | I11: 2004/05 | J11: 2005/06 | K11: 2006/07 | L11: 2007/08 | M11: 2008/09 | N11: 2009/10 | O11: 2010/11 | P11: 2011/12 | Q11: 2012/13 | R11: 2013/14 | S11: 2014/15 | T11: 2015/16 | U11: 2016/17 | V11: =V2 -> 2017/18 | W11: =W2 -> 2018/19 | X11: =X2 -> 2019/20 | Y11: =Y2 -> 2020/21 | Z11: =Z2 -> 2021/22 | AA11: 2022/23 | AB11: =AB2 -> 2023/24 | AC11: =AC2 -> 2024/25 | AD11: =AD2 -> 2025/26
A12: přihlášení | B12: 101.6 | C12: 103.891 | D12: 116.6 | E12: 110.486 | F12: 113.14 | G12: 119.13 | H12: 129 | I12: 139.4 | J12: 139.9 | K12: 146.5 | L12: 156.1 | M12: 156.798 | N12: 156.438 | O12: 160.953 | P12: 159.063 | Q12: =+Q4 -> 150.411 | R12: =+R4 -> 143.019 | S12: =+S4 -> 130.09 | T12: =+T4 -> 121.269 | U12: =+U4 -> 110.163 | V12: =+V4 -> 105.039 | W12: =+W4 -> 101.834 | X12: =+X4 -> 104.521 | ... AD12: =+AD4 -> 119.97
A13: podíl na počtu 18/19letých | B13: 0.60463095 | C13: 0.68976484 | D13: =D12/D18 -> 0.82549841 | E13: =E12/E18 -> 0.79649067 | F13: =F12/F18 -> 0.80985512 | G13: =G12/G18 -> 0.88290879 | H13: =H12/H18 -> 0.95008728 | I13: =I12/I18 -> 1.0287823 | J13: =J12/J18 -> 1.0514133 | K13: =K12/K18 -> 1.115604 | ... AD13: =AD12/AD18 -> 0.96732838
A14: podíl na počtu maturantů | B14: 1.2791213 | C14: 1.265374 | D14: =D12/D19 -> 1.2806432 | E14: =E12/E19 -> 3.1508013 | F14: =F12/F19 -> 1.5470867 | G14: =G12/G19 -> 1.6079093 | H14: =H12/H19 -> 1.6256474 | I14: =I12/I19 -> 1.7065139 | J14: =J12/J19 -> 1.651946 | K14: =K12/K19 -> 1.7158786 | ... AD14: =AD12/AD19 -> 1.7080741
A15: zapsaní | B15: x | C15: 50.439 | D15: 57.6 | E15: 52.248 | F15: 64.001 | G15: 70.464 | H15: 79.524 | I15: 83.1 | J15: 86.9 | K15: 95.9 | L15: 103.5 | M15: 108.783 | N15: 110.776 | O15: 112.52 | P15: 109.033 | Q15: =+Q6 -> 103.822 | R15: =+R6 -> 99.145 | S15: =+S6 -> 89.229 | T15: =+T6 -> 84.278 | U15: =+U6 -> 78.257 | V15: =+V6 -> 77.587 | W15: =+W6 -> 76.012 | X15: =+X6 -> 79.919 | ... AD15: =+AD6 -> 91.796
A16: podíl na počtu 18/19letých | B16: x | C16: 0.33488029 | D16: =D15/D18 -> 0.40779338 | E16: =E15/E18 -> 0.37665446 | F16: =F15/F18 -> 0.45811859 | G16: =G15/G18 -> 0.52223021 | H16: =H15/H18 -> 0.58569566 | I16: =I15/I18 -> 0.61328413 | J16: =J15/J18 -> 0.65309374 | K16: =K15/K18 -> 0.73028275 | ... AD16: =AD15/AD18 -> 0.740159
A17: podíl na počtu maturantů | B17: x | C17: 0.61433809 | D17: =D15/D19 -> 0.63263334 | E17: =E15/E19 -> 1.4899903 | F17: =F15/F19 -> 0.87515554 | G17: =G15/G19 -> 0.95105952 | H17: =H15/H19 -> 1.0021549 | I17: =I15/I19 -> 1.0172977 | J17: =J15/J19 -> 1.0261194 | K17: =K15/K19 -> 1.123227 | ... AD17: =AD15/AD19 -> 1.3069465
A18: 18/19letí k 31.12.* | B18: 167957 | C18: 150618 | D18: 141.248 | E18: 138.716 | F18: 139.704 | G18: 134.929 | H18: 135.777 | I18: 135.5 | J18: 133.059 | K18: 131.319 | L18: 134.946 | M18: 131.517 | N18: 132.555 | O18: 130.795 | P18: =+P30 -> 123.426 | Q18: =+Q30 -> 122.809 | R18: =+R30 -> 109.039 | S18: =+S30 -> 98.773 | T18: =+T30 -> 93.352 | U18: =+U30 -> 93.131 | V18: =+V30 -> 92.799 | W18: =+W30 -> 92.144 | ... AD18: =+AD30 -> 124.022
A19: maturanti v předch. roce (denní forma vzdělávání) | B19: 79392 | C19: 82103 | D19: 91.048 | E19: 35.066 | F19: 73.131 | G19: 74.09 | H19: 79.353 | I19: 81.687 | J19: 84.688 | K19: =+K31 -> 85.379 | L19: =+L31 -> 85.779 | M19: =+M31 -> 84.318 | N19: =+N31 -> 83.906 | O19: =+O31 -> 81.064 | P19: =+P31 -> 74.57 | Q19: =+Q31 -> 72.607 | R19: =+R31 -> 70.027 | ... AD19: =+AD31 -> 70.237
A20: * Do roku 2000 populace 18letých, od roku 2001 populace 19letých.
A22: Počet přihlášených a zapsaných do denního/prezenčního studia ve vztahu k populaci 18/19letých a k počtu maturantů v denní formě vzdělávání v letech 1999/00–2025/26 (v tis.)
B23: 1997/98 | C23: 1998/99 | D23: 1999/00 | E23: 2000/01 | F23: 2001//02 | G23: 2002/03 | H23: 2003/04 | I23: 2004/05 | J23: 2005/06 | K23: 2006/07 | L23: 2007/08 | M23: 2008/09 | N23: 2009/10 | O23: 2010/11 | P23: 2011/12 | Q23: 2012/13 | R23: 2013/14 | S23: 2014/15 | T23: 2015/16 | U23: 2016/17 | V23: =V2 -> 2017/18 | W23: =W2 -> 2018/19 | X23: =X2 -> 2019/20 | Y23: =Y2 -> 2020/21 | Z23: =Z2 -> 2021/22 | AA23: 2022/23 | AB23: =AB2 -> 2023/24 | AC23: =AC2 -> 2024/25 | AD23: =AD2 -> 2025/26
A24: přihlášení | B24: 101.6 | C24: 103.891 | D24: 100.459 | E24: 82.941 | F24: 89.208 | G24: 91.831 | H24: 100.3 | I24: 101.8 | J24: 101.5 | K24: 103.3 | L24: 105.6 | M24: =105523/1000 -> 105.523 | N24: 107.073 | O24: 112.224 | P24: 109.975 | Q24: =+'vše _ druh studia '!D136/1000 -> 107.169 | R24: =+'vše _ druh studia '!D146/1000 -> 103.054 | S24: =+'vše _ druh studia '!D156/1000 -> 92.734 | T24: =+'vše _ druh studia '!D166/1000 -> 86.823 | U24: =+'vše _ druh studia '!D176/1000 -> 79.985 | V24: =+'vše _ druh studia '!D186/1000 -> 76.471 | W24: =+'vše _ druh studia '!D196/1000 -> 75.301 | X24: =+'vše _ druh studia '!D206/1000 -> 78.647 | Y24: =+'vše _ druh studia '!D216/1000 -> 79.85 | Z24: =+'vše _ druh studia '!D226/1000 -> 81.117 | AA24: =+'vše _ druh studia '!D236/1000 -> 82.802 | AB24: =+'vše _ druh studia '!D246/1000 -> 86.062 | AC24: =+'vše _ druh studia '!D256/1000 -> 89.711 | AD24: =+'vše _ druh studia '!D266/1000 -> 94.343
A25: podíl na počtu 18/19letých | B25: 0.60463095 | C25: 0.68976484 | D25: =D24/D30 -> 0.71122423 | E25: =E24/E30 -> 0.59791949 | F25: =F24/F30 -> 0.63855008 | G25: =G24/G30 -> 0.68058757 | H25: =H24/H30 -> 0.73871127 | I25: =I24/I30 -> 0.75129151 | J25: =J24/J30 -> 0.7628195 | K25: =K24/K30 -> 0.78663407 | ... AD25: =AD24/AD30 -> 0.76069568
A26: podíl na počtu maturantů | B26: 1.2791213 | C26: 1.265374 | D26: =D24/D31 -> 1.10346 | E26: =E24/E31 -> 2.3652826 | F26: =F24/F31 -> 1.2200052 | G26: =G24/G31 -> 1.239452 | H26: =H24/H31 -> 1.2642113 | I26: =I24/I31 -> 1.2464034 | J26: =J24/J31 -> 1.1985169 | K26: =K24/K31 -> 1.2098994 | ... AD26: =AD24/AD31 -> 1.3432094
A27: zapsaní | B27: x | C27: 50.439 | D27: 51.334 | E27: 42.328 | F27: 53.49 | G27: 58.005 | H27: 65.333 | I27: 65.7 | J27: 67.7 | K27: 72.5 | L27: 74.3 | M27: =77023/1000 -> 77.023 | N27: 78.825 | O27: 81.89 | P27: 79.341 | Q27: =+'vše _ druh studia '!J136/1000 -> 76.869 | R27: =+'vše _ druh studia '!J146/1000 -> 74.406 | S27: =+'vše _ druh studia '!J156/1000 -> 66.149 | T27: =+'vše _ druh studia '!J166/1000 -> 62.028 | U27: =+'vše _ druh studia '!J176/1000 -> 57.837 | V27: =+'vše _ druh studia '!J186/1000 -> 57.269 | W27: =+'vše _ druh studia '!J196/1000 -> 56.972 | X27: =+'vše _ druh studia '!J206/1000 -> 61.136 | Y27: =+'vše _ druh studia '!J216/1000 -> 63.495 | Z27: =+'vše _ druh studia '!J226/1000 -> 63.893 | AA27: =+'vše _ druh studia '!J236/1000 -> 63.248 | AB27: =+'vše _ druh studia '!J246/1000 -> 65.93 | AC27: =+'vše _ druh studia '!J256/1000 -> 68.97 | AD27: =+'vše _ druh studia '!J266/1000 -> 73.377
A28: podíl na počtu 18/19letých | B28: x | C28: 0.33488029 | D28: =D27/D30 -> 0.36343169 | E28: =E27/E30 -> 0.30514144 | F28: =F27/F30 -> 0.38288095 | G28: =G27/G30 -> 0.42989276 | H28: =H27/H30 -> 0.4811787 | I28: =I27/I30 -> 0.48487085 | J28: =J27/J30 -> 0.50879685 | K28: =K27/K30 -> 0.55209071 | ... AD28: =AD27/AD30 -> 0.59164503
A29: podíl na počtu maturantů | B29: x | C29: 0.61433809 | D29: =D27/D31 -> 0.56386204 | E29: =E27/E31 -> 1.2070952 | F29: =F27/F31 -> 0.73152719 | G29: =G27/G31 -> 0.78289918 | H29: =H27/H31 -> 0.82347677 | I29: =I27/I31 -> 0.80440771 | J29: =J27/J31 -> 0.79940487 | K29: =K27/K31 -> 0.84915494 | ... AD29: =AD27/AD31 -> 1.0447058
A30: 18/19letí k 31.12.* | B30: 167957 | C30: 150618 | D30: 141.248 | E30: 138.716 | F30: 139.704 | G30: 134.929 | H30: 135.777 | I30: 135.5 | J30: 133.059 | K30: 131.319 | L30: 134.946 | M30: 131.517 | N30: 132.555 | O30: 130.795 | P30: 123.426 | Q30: 122.809 | R30: 109.039 | S30: 98.773 | T30: 93.352 | U30: 93.131 | V30: 92.799 | W30: 92.144 | X30: 94.396 | Y30: 95.638 | Z30: 96.895 | AA30: 103.7 | AB30: 110.906 | AC30: 116.665 | AD30: 124.022
A31: maturanti v předch. roce (denní forma vzdělávání) | B31: 79392 | C31: 82103 | D31: 91.04 | E31: 35.066 | F31: 73.121 | G31: 74.09 | H31: 79.338 | I31: 81.675 | J31: 84.688 | K31: 85.379 | L31: 85.779 | M31: 84.318 | N31: 83.906 | O31: 81.064 | P31: 74.57 | Q31: 72.607 | R31: 70.027 | S31: 60.796 | T31: 56.121 | U31: 52.335 | V31: 52.455 | W31: 52.764 | X31: 54.534 | Y31: 57.572 | Z31: 61.577 | AA31: 58.8 | AB31: 62.266 | AC31: 66.665 | AD31: 70.237
A32: * Do roku 2000 populace 18letých, od roku 2001 populace 19letých.
A34: Počet podaných přihlášek, přihlášených, přijatých a zapsaných ke studiu na terciární úrovni vzdělávání 1999/00–2025/26 (v tis.)

Sheet vše _ druh studia 
A1: Základní přehled o přijímacím řízení na vysoké a vyšší odborné školy podle druhu a formy studia
A2: Počet podaných přihlášek, přihlášených, přijatých a zapsaných ke studiu na terciární úrovni vzdělávání (VŠ a VOŠ) v letech 1999/00–2025/26
A3: Druh a forma studia | C3: Počet podaných přihlášek | D3: Počet přihlášených | E3: Index přihlášek | F3: Počet přihlášek uchazečů, kteří se dostavili k přijímacímu řízení | G3: Podíl přihlášek uchazečů, kteří se dostavili k přijímacímu řízení | H3: Počet přihlášených, kteří se dostavili k přijímacímu řízení | I3: Počet přijatých | J3: Počet zapsaných | K3: Počet přijatých / počet přihlášených | L3: Úspěšnost uchazečů *)
A4: 1999/2000
A5: Studium denní / prezenční | C5: 246842 | D5: 100459 | E5: 2.4571417 | F5: 197363 | G5: 0.79955194 | H5: x | I5: 54671 | J5: 51334 | K5: 0.54421207 | L5: x
A6: v tom | B6: bakalářské studijní programy | C6: 44324 | D6: 33419 | E6: 1.9859313 | F6: 35648 | G6: 0.80425954 | H6: 28166 | I6: 9337 | J6: 7090 | K6: 0.41834312 | L6: =I6/H6 -> 0.33149897
B7: magisterské studijní programy | C7: 168690 | D7: 79618 | E7: 2.118742 | F7: 133919 | G7: 0.79387634 | H7: 71239 | I7: 35771 | J7: 32975 | K7: 0.44928283 | L7: =I7/H7 -> 0.50212664
B8: vyšší odborné studium | C8: 33828 | D8: 22793 | E8: 1.4841399 | F8: 27796 | G8: 0.82168618 | H8: x | I8: 14008 | J8: 12148 | K8: 0.61457465 | L8: x
A9: Studium dálkové / kombinované, distanční | C9: 22879 | D9: 19671 | E9: 1.1630827 | F9: 17822 | G9: 0.77896761 | H9: x | I9: 6934 | J9: 6491 | K9: 0.3524986 | L9: x
A10: v tom | B10: bakalářské studijní programy | C10: 11939 | D10: 10610 | E10: 1.1252592 | F10: 9514 | G10: 0.79688416 | H10: 8682 | I10: 2662 | J10: 2506 | K10: 0.25089538 | L10: =I10/H10 -> 0.30661138
B11: magisterské studijní programy | C11: 8866 | D11: 8030 | E11: 1.1041096 | F11: 6555 | G11: 0.7393413 | H11: 6110 | I11: 2936 | J11: 2691 | K11: 0.36562889 | L11: =I11/H11 -> 0.48052373
B12: vyšší odborné studium | C12: 2074 | D12: 1960 | E12: 1.0581633 | F12: 1753 | G12: 0.84522662 | H12: x | I12: 1424 | J12: 1321 | K12: 0.72653061 | L12: x
A13: Všechny formy studia celkem | C13: 269721 | D13: 116644 | E13: 2.3123435 | F13: 215185 | G13: 0.79780588 | H13: 105442 | I13: 61150 | J13: 57619 | K13: 0.52424471 | L13: =I13/H13 -> 0.57993968
A14: 2000/01
A15: Studium denní / prezenční | C15: 190184 | D15: 82941 | E15: 2.2930035 | F15: 151403 | G15: 0.79608695 | H15: 74124 | I15: 44112 | J15: 42328 | K15: 0.53184794 | L15: =I15/H15 -> 0.5951109
A17: v tom | B17: bakalářské studijní programy | C17: 42247 | D17: 31231 | E17: 1.3527265 | F17: 34731 | G17: 0.82209388 | H17: 26813 | I17: 10186 | J17: 8365 | K17: 0.3261503 | L17: =I17/H17 -> 0.37989035
B18: magisterské studijní programy | C18: 130043 | D18: 65969 | E18: 1.9712744 | F18: 102524 | G18: 0.78838538 | H18: 57523 | I18: 29500 | J18: 27904 | K18: 0.44717974 | L18: =I18/H18 -> 0.51283834
B19: vyšší odborné studium | C19: 17894 | D19: 12565 | E19: 1.4241146 | F19: 14148 | G19: 0.79065609 | H19: 11126 | I19: 8275 | J19: 6949 | K19: 0.65857541 | L19: =I19/H19 -> 0.74375337
A20: Studium dálkové / kombinované, distanční | C20: 39209 | D20: 32323 | E20: 1.2130372 | F20: 31053 | G20: 0.79198653 | H20: 26678 | I20: 10859 | J20: 10166 | K20: 0.33595273 | L20: =I20/H20 -> 0.40703951
A21: v tom | B21: bakalářské studijní programy | C21: 20497 | D21: 17886 | E21: 1.1459801 | F21: 16532 | G21: 0.80655706 | H21: 14871 | I21: 4746 | J21: 4476 | K21: 0.2653472 | L21: =I21/H21 -> 0.31914464
B22: magisterské studijní programy | C22: 15386 | D22: 13595 | E22: 1.1317396 | F22: 11816 | G22: 0.76797088 | H22: 10702 | I22: 4054 | J22: 3876 | K22: 0.29819787 | L22: =I22/H22 -> 0.3788077
B23: vyšší odborné studium | C23: 3326 | D23: 3068 | E23: 1.0840939 | F23: 2705 | G23: 0.81328924 | H23: 2574 | I23: 2207 | J23: 1856 | K23: 0.71936115 | L23: =I23/H23 -> 0.85742036
A24: Všechny formy studia celkem | C24: 229393 | D24: 110486 | E24: 2.0762178 | F24: 182456 | G24: 0.79538608 | H24: 97624 | I24: 54456 | J24: 52248 | K24: 0.49287693 | L24: =I24/H24 -> 0.55781365
A25: 2001/02
A26: Studium denní / prezenční | C26: 230746 | D26: 89208 | E26: 2.5866066 | F26: 186309 | G26: 0.80742028 | H26: 81805 | I26: 55791 | J26: 53490 | K26: 0.62540355 | L26: =I26/H26 -> 0.68199988
A27: v tom | B27: bakalářské studijní programy | C27: 58921 | D27: 39750 | E27: 1.4822893 | F27: 48418 | G27: 0.82174437 | H27: 34331 | I27: 15850 | J27: 12744 | K27: 0.39874214 | L27: =I27/H27 -> 0.46168186
B28: magisterské studijní programy | C28: 146249 | D28: 67509 | E28: 2.166363 | F28: 118261 | G28: 0.80862775 | H28: 60722 | I28: 34468 | J28: 31938 | K28: 0.51056896 | L28: =I28/H28 -> 0.56763611
B29: vyšší odborné studium | C29: 25576 | D29: 17963 | E29: 1.4238156 | F29: 19630 | G29: 0.76751642 | H29: 15609 | I29: 12162 | J29: 10239 | K29: 0.6770584 | L29: =I29/H29 -> 0.77916587
A30: Studium dálkové / kombinované, distanční | C30: 34917 | D30: 28875 | E30: 1.2092468 | F30: 28014 | G30: 0.8023026 | H30: 24109 | I30: 11534 | J30: 10769 | K30: 0.39944589 | L30: =I30/H30 -> 0.47841055
A31: v tom | B31: bakalářské studijní programy | C31: 21699 | D31: 18787 | E31: 1.1550008 | F31: 17462 | G31: 0.80473755 | H31: 15639 | I31: 6442 | J31: 5942 | K31: 0.34289668 | L31: =I31/H31 -> 0.41191892
B32: magisterské studijní programy | C32: 10583 | D32: 9545 | E32: 1.108748 | F32: 8475 | G32: 0.80081262 | H32: 7806 | I32: 3562 | J32: 3299 | K32: 0.37317968 | L32: =I32/H32 -> 0.45631565
B33: vyšší odborné studium | C33: 2635 | D33: 2519 | E33: 1.04605 | F33: 2077 | G33: 0.78823529 | H33: 2039 | I33: 1708 | J33: 1577 | K33: 0.67804684 | L33: =I33/H33 -> 0.83766552
A34: Všechny formy studia celkem | C34: 265663 | D34: 113714 | E34: 2.3362383 | F34: 214323 | G34: 0.80674765 | H34: 102855 | I34: 66698 | J34: 64001 | K34: 0.58654167 | L34: =I34/H34 -> 0.64846629
A35: 2002/03
A36: Studium denní / prezenční | C36: 224554 | D36: 91831 | E36: 2.4452963 | F36: 183280 | G36: 0.81619566 | H36: 84512 | I36: 60602 | J36: 58005 | K36: 0.65992965 | L36: =I36/H36 -> 0.7170816
A37: v tom | B37: bakalářské studijní programy | C37: 77180 | D37: 50322 | E37: 1.5337228 | F37: 64201 | G37: 0.83183467 | H37: 44167 | I37: 24946 | J37: 20431 | K37: 0.49572751 | L37: =I37/H37 -> 0.56481083
B38: magisterské studijní programy | C38: 121213 | D38: 61248 | E38: 1.9790524 | F38: 98288 | G38: 0.81087012 | H38: 54602 | I38: 32705 | J38: 29181 | K38: 0.53397662 | L38: =I38/H38 -> 0.59897073
B39: vyšší odborné studium | C39: 26161 | D39: 19402 | E39: 1.3483661 | F39: 20791 | G39: 0.79473262 | H39: 16990 | I39: 12769 | J39: 10736 | K39: 0.65812803 | L39: =I39/H39 -> 0.75155974
A40: Studium dálkové / kombinované, distanční | C40: 38922 | D40: 32100 | E40: 1.2125234 | F40: 32072 | G40: 0.82400699 | H40: 27525 | I40: 13961 | J40: 12823 | K40: 0.43492212 | L40: =I40/H40 -> 0.50721163
A41: v tom | B41: bakalářské studijní programy | C41: 26211 | D41: 22278 | E41: 1.1765419 | F41: 21805 | G41: 0.83190264 | H41: 19150 | I41: 8743 | J41: 8008 | K41: 0.39244995 | L41: =I41/H41 -> 0.45655352
B42: magisterské studijní programy | C42: 9421 | D42: 8557 | E42: 1.10097 | F42: 7514 | G42: 0.79757987 | H42: 6942 | I42: 3279 | J42: 2991 | K42: 0.38319504 | L42: =I42/H42 -> 0.47234226
B43: vyšší odborné studium | C43: 3289 | D43: 3097 | E43: 1.0619955 | F43: 2752 | G43: 0.83672849 | H43: 2674 | I43: 2116 | J43: 1881 | K43: 0.68324185 | L43: =I43/H43 -> 0.79132386
A44: Všechny formy studia celkem | C44: 263476 | D44: 119130 | E44: 2.2116679 | F44: 215352 | G44: 0.81734959 | H44: 108491 | I44: 73720 | J44: 70464 | K44: 0.61881978 | L44: =I44/H44 -> 0.67950337
A45: 2003/04
A46: Studium denní / prezenční | C46: 245322 | D46: 100302 | E46: 2.4458336 | F46: 201769 | G46: 0.82246598 | H46: 93006 | I46: 68217 | J46: 65333 | K46: 0.68011605 | L46: =I46/H46 -> 0.73346881
A47: v tom | B47: bakalářské studijní programy | C47: 122985 | D47: 69258 | E47: 1.7757515 | F47: 101510 | G47: 0.82538521 | H47: 62211 | I47: 39130 | J47: 33296 | K47: 0.56498888 | L47: =I47/H47 -> 0.62898844
B48: magisterské studijní programy | C48: 93107 | D48: 52057 | E48: 1.7885587 | F48: 76980 | G48: 0.82679068 | H48: 46402 | I48: 26368 | J48: 22313 | K48: 0.5065217 | L48: =I48/H48 -> 0.56825137
B49: vyšší odborné studium | C49: 29230 | D49: 21302 | E49: 1.3721716 | F49: 23279 | G49: 0.7964078 | H49: 18687 | I49: 13315 | J49: 11384 | K49: 0.62505868 | L49: =I49/H49 -> 0.71252743
A50: Studium dálkové / kombinované, distanční | C50: 40624 | D50: 33707 | E50: 1.2052096 | F50: 33850 | G50: 0.83325128 | H50: 29180 | I50: 15635 | J50: 14577 | K50: 0.46385024 | L50: =I50/H50 -> 0.5358122
A51: v tom | B51: bakalářské studijní programy | C51: 31188 | D51: 26434 | E51: 1.1798441 | F51: 26164 | G51: 0.8389124 | H51: 22845 | I51: 11180 | J51: 10310 | K51: 0.42294015 | L51: =I51/H51 -> 0.48938499
B52: magisterské studijní programy | C52: 5993 | D52: 5595 | E52: 1.0711349 | F52: 4782 | G52: 0.79793092 | H52: 4546 | I52: 2388 | J52: 2253 | K52: 0.42680965 | L52: =I52/H52 -> 0.52529696
B53: vyšší odborné studium | C53: 3443 | D53: 3251 | E53: 0.16162802 | F53: 2904 | G53: 0.84345048 | H53: 2824 | I53: 2222 | J53: 2060 | K53: =I53/D53 -> 0.68348201 | L53: =I53/H53 -> 0.7868272
A54: Všechny formy studia celkem | C54: 285946 | D54: 129009 | E54: 2.216481 | F54: 235619 | G54: 0.82399824 | H54: 118461 | I54: 82968 | J54: 79524 | K54: 0.64311792 | L54: =I54/H54 -> 0.7003824
A55: 2004/05
A56: Studium denní / prezenční | C56: 257837 | D56: 101839 | E56: =C56/D56 -> 2.53181 | F56: 216629 | G56: =F56/C56 -> 0.8401781 | H56: 94884 | I56: 68920 | J56: 65717 | K56: =I56/D56 -> 0.67675449 | L56: =I56/H56 -> 0.72636061
A57: v tom | B57: bakalářské studijní programy | C57: 158898 | D57: 78931 | E57: =C57/D57 -> 2.0131254 | F57: 134677 | G57: =F57/C57 -> 0.84756888 | H57: 72271 | I57: 48224 | J57: 43002 | K57: =I57/D57 -> 0.61096401 | L57: =I57/H57 -> 0.66726626
B58: magisterské studijní programy | C58: 74699 | D58: 41964 | E58: =C58/D58 -> 1.7800734 | F58: 62708 | G58: =F58/C58 -> 0.83947576 | H58: 37668 | I58: 17348 | J58: 14116 | K58: =I58/D58 -> 0.41340196 | L58: =I58/H58 -> 0.46055007
B59: vyšší odborné studium | C59: 24240 | D59: 18103 | E59: =C59/D59 -> 1.3390046 | F59: 19244 | G59: =F59/C59 -> 0.79389439 | H59: 15609 | I59: 11732 | J59: 9937 | K59: =I59/D59 -> 0.64806938 | L59: =I59/H59 -> 0.75161766
A60: Studium dálkové / kombinované, distanční | C60: 54147 | D60: 43227 | E60: =C60/D60 -> 1.2526199 | F60: 45682 | G60: =F60/C60 -> 0.84366632 | H60: 37650 | I60: 19036 | J60: 17851 | K60: =I60/D60 -> 0.44037292 | L60: =I60/H60 -> 0.50560425
A61: v tom | B61: bakalářské studijní programy | C61: 44770 | D61: 36598 | E61: =C61/D61 -> 1.2232909 | F61: 37962 | G61: =F61/C61 -> 0.84793388 | H61: 31956 | I61: 15586 | J61: 14710 | K61: =I61/D61 -> 0.42587027 | L61: =I61/H61 -> 0.48773313
B62: magisterské studijní programy | C62: 6610 | D62: 6020 | E62: =C62/D62 -> 1.0980066 | F62: 5630 | G62: =F62/C62 -> 0.85173979 | H62: 5142 | I62: 1990 | J62: 1829 | K62: =I62/D62 -> 0.33056478 | L62: =I62/H62 -> 0.38700895
B63: vyšší odborné studium | C63: 2767 | D63: 2627 | E63: =C63/D63 -> 1.0532927 | F63: 2090 | G63: =F63/C63 -> 0.75533068 | H63: 2037 | I63: 1654 | J63: 1371 | K63: =I63/D63 -> 0.62961553 | L63: =I63/H63 -> 0.8119784
A64: Všechny formy studia celkem | C64: 311984 | D64: 139354 | E64: =C64/D64 -> 2.2387875 | F64: 262311 | G64: =F64/C64 -> 0.8407835 | H64: 128126 | I64: 87009 | J64: 83108 | K64: =I64/D64 -> 0.6243739 | L64: =I64/H64 -> 0.67908933
A65: 2005/06
A66: Studium denní / prezenční | C66: 262992 | D66: 101505 | E66: =C66/D66 -> 2.5909266 | F66: 221038 | G66: =F66/C66 -> 0.84047423 | H66: 94552 | I66: 71302 | J66: 67733 | K66: =I66/D66 -> 0.70244816 | L66: =I66/H66 -> 0.75410356
A67: v tom | B67: bakalářské studijní programy | C67: 176307 | D67: 81173 | E67: =C67/D67 -> 2.1719907 | F67: 149650 | G67: =F67/C67 -> 0.84880351 | H67: 75059 | I67: 52791 | J67: 47566 | K67: =I67/D67 -> 0.65035172 | L67: =I67/H67 -> 0.70332672
B68: magisterské studijní programy | C68: 64595 | D68: 34629 | E68: =C68/D68 -> 1.8653441 | F68: 54598 | G68: =F68/C68 -> 0.8452357 | H68: 31024 | I68: 14332 | J68: 11963 | K68: =I68/D68 -> 0.41387277 | L68: =I68/H68 -> 0.46196493
B69: vyšší odborné studium | C69: 22090 | D69: 16841 | E69: =C69/D69 -> 1.3116798 | F69: 16790 | G69: =F69/C69 -> 0.76007243 | H69: 14092 | I69: 11398 | J69: 9499 | K69: =I69/D69 -> 0.67680067 | L69: =I69/H69 -> 0.8088277
A70: Studium dálkové / kombinované, distanční | C70: 56739 | D70: 44961 | E70: =C70/D70 -> 1.2619604 | F70: 46840 | G70: =F70/C70 -> 0.82553446 | H70: 38682 | I70: 20978 | J70: 19681 | K70: =I70/D70 -> 0.46658215 | L70: =I70/H70 -> 0.54231943
A71: v tom | B71: bakalářské studijní programy | C71: 49763 | D71: 39925 | E71: =C71/D71 -> 1.246412 | F71: 41061 | G71: =F71/C71 -> 0.82513112 | H71: 34230 | I71: 18092 | J71: 16957 | K71: =I71/D71 -> 0.45314966 | L71: =I71/H71 -> 0.52854221
B72: magisterské studijní programy | C72: 4093 | D72: 3723 | E72: =C72/D72 -> 1.0993822 | F72: 3438 | G72: =F72/C72 -> 0.83997068 | H72: 3156 | I72: 1195 | J72: 1118 | K72: =I72/D72 -> 0.32097771 | L72: =I72/H72 -> 0.37864385
B73: vyšší odborné studium | C73: 2883 | D73: 2753 | E73: =C73/D73 -> 1.0472212 | F73: 2341 | G73: =F73/C73 -> 0.81200139 | H73: 2285 | I73: 1829 | J73: 1658 | K73: =I73/D73 -> 0.66436615 | L73: =I73/H73 -> 0.80043764
A74: Všechny formy studia celkem | C74: 319731 | D74: 139947 | E74: =C74/D74 -> 2.2846578 | F74: 267878 | G74: =F74/C74 -> 0.83782304 | H74: 128235 | I74: 91136 | J74: 86876 | K74: =I74/D74 -> 0.65121796 | L74: =I74/H74 -> 0.71069521
A75: 2006/07
A76: Studium denní / prezenční | C76: 263306 | D76: 103331 | E76: 2.5481801 | F76: 221592 | G76: 0.84157596 | H76: 96585 | I76: 75664 | J76: 72456 | K76: 0.73224879 | L76: 0.78339287
A77: v tom | B77: bakalářské studijní programy | C77: 190932 | D77: 87073 | E77: 2.1927808 | F77: 161784 | G77: 0.84733832 | H77: 80757 | I77: 59987 | J77: 54815 | K77: 0.68892768 | L77: 0.74280867
B78: magisterské studijní programy | C78: 52919 | D78: 28873 | E78: 1.8328196 | F78: 44867 | G78: 0.84784293 | H78: 26020 | I78: 11735 | J78: 9748 | K78: 0.40643508 | L78: 0.45099923
B79: vyšší odborné studium | C79: 19455 | D79: 14282 | E79: 1.3622042 | F79: 14941 | G79: 0.76797738 | H79: 12576 | I79: 10723 | J79: 9081 | K79: 0.75080521 | L79: 0.85265585
A80: Studium dálkové / kombinované, distanční | C80: 62649 | D80: 50208 | E80: 1.2477892 | F80: 52840 | G80: 0.84342926 | H80: 44103 | I80: 25628 | J80: 24056 | K80: 0.51043658 | L80: 0.58109426
A81: v tom | B81: bakalářské studijní programy | C81: 54848 | D81: 44830 | E81: 1.2234664 | F81: 46386 | G81: 0.84571908 | H81: 39358 | I81: 22683 | J81: 21263 | K81: 0.50597814 | L81: 0.57632502
B82: magisterské studijní programy | C82: 4635 | D82: 4123 | E82: 1.1241814 | F82: 3918 | G82: 0.84530744 | H82: 3544 | I82: 1174 | J82: 1098 | K82: 0.28474412 | L82: 0.33126411
B83: vyšší odborné studium | C83: 3166 | D83: 3050 | E83: 1.0380328 | F83: 2536 | G83: 0.80101074 | H83: 2491 | I83: 1958 | J83: 1786 | K83: 0.64196721 | L83: 0.78602971
A84: Všechny formy studia celkem | C84: 325955 | D84: 146519 | E84: 2.2246603 | F84: 274432 | G84: 0.84193217 | H84: 135301 | I84: 99882 | J84: 95896 | K84: 0.68169998 | L84: 0.73822071
A85: 2007/08
A86: Studium denní / prezenční | C86: 270917 | D86: 105598 | E86: =C86/D86 -> 2.5655505 | F86: 229491 | G86: =F86/C86 -> 0.8470897 | H86: 98832 | I86: 78413 | J86: 74303 | K86: =I86/D86 -> 0.74256141 | L86: =I86/H86 -> 0.79339688
A87: v tom | B87: bakalářské studijní programy | C87: 211451 | D87: 92462 | E87: =C87/D87 -> 2.2868962 | F87: 179506 | G87: =F87/C87 -> 0.84892481 | H87: 86167 | I87: 65711 | J87: 60062 | K87: =I87/D87 -> 0.71068114 | L87: =I87/H87 -> 0.76260053
B88: magisterské studijní programy | C88: 42647 | D88: 23151 | E88: =C88/D88 -> 1.8421235 | F88: 36070 | G88: =F88/C88 -> 0.84578048 | H88: 20645 | I88: 8152 | J88: 6771 | K88: =I88/D88 -> 0.35212302 | L88: =I88/H88 -> 0.39486558
B89: vyšší odborné studium | C89: 16819 | D89: 13365 | E89: =C89/D89 -> 1.2584362 | F89: 13915 | G89: =F89/C89 -> 0.82733813 | H89: 12030 | I89: 10543 | J89: 8591 | K89: =I89/D89 -> 0.78885148 | L89: =I89/H89 -> 0.87639235
A90: Studium dálkové / kombinované, distanční | C90: 74025 | D90: 58227 | E90: =C90/D90 -> 1.2713174 | F90: 62585 | G90: =F90/C90 -> 0.84545762 | H90: 51386 | I90: 31989 | J90: 29970 | K90: =I90/D90 -> 0.54938431 | L90: =I90/H90 -> 0.62252364
A91: v tom | B91: bakalářské studijní programy | C91: 66566 | D91: 52879 | E91: =C91/D91 -> 1.2588362 | F91: 56260 | G91: =F91/C91 -> 0.84517622 | H91: 46540 | I91: 28066 | J91: 26416 | K91: =I91/D91 -> 0.5307589 | L91: =I91/H91 -> 0.60305114
B92: magisterské studijní programy | C92: 3040 | D92: 2721 | E92: =C92/D92 -> 1.1172363 | F92: 2592 | G92: =F92/C92 -> 0.85263158 | H92: 2365 | I92: 993 | J92: 893 | K92: =I92/D92 -> 0.36493936 | L92: =I92/H92 -> 0.41987315
B93: vyšší odborné studium | C93: 4419 | D93: 4244 | E93: =C93/D93 -> 1.0412347 | F93: 3733 | G93: =F93/C93 -> 0.84476126 | H93: 3642 | I93: 3124 | J93: 2759 | K93: =I93/D93 -> 0.73609802 | L93: =I93/H93 -> 0.85777046
A94: Všechny formy studia celkem | C94: 344942 | D94: 156059 | E94: =C94/D94 -> 2.2103307 | F94: 292076 | G94: =F94/C94 -> 0.84673945 | H94: 144117 | I94: 108707 | J94: 103529 | K94: =I94/D94 -> 0.69657629 | L94: =I94/H94 -> 0.75429686
A95: 2008/09
A96: Studium denní / prezenční | C96: 264874 | D96: 105523 | E96: =C96/D96 -> 2.5101068 | F96: 226163 | G96: =F96/C96 -> 0.85385127 | H96: 98562 | I96: 81296 | J96: 77023 | K96: =I96/D96 -> 0.77041024 | L96: =I96/H96 -> 0.82482092
A97: v tom | B97: bakalářské studijní programy | C97: 212240 | D97: 92484 | E97: =C97/D97 -> 2.2948834 | F97: 182042 | G97: =F97/C97 -> 0.85771768 | H97: 86771 | I97: 69739 | J97: 63820 | K97: =I97/D97 -> 0.75406557 | L97: =I97/H97 -> 0.80371322
B98: magisterské studijní programy | C98: 37707 | D98: 20124 | E98: =C98/D98 -> 1.8737329 | F98: 31466 | G98: =F98/C98 -> 0.83448697 | H98: 17644 | I98: 7198 | J98: 6123 | K98: =I98/D98 -> 0.35768237 | L98: =I98/H98 -> 0.40795738
B99: vyšší odborné studium | C99: 14927 | D99: 12999 | E99: =C99/D99 -> 1.1483191 | F99: 12655 | G99: =F99/C99 -> 0.84779259 | H99: 11248 | I99: 9902 | J99: 8212 | K99: =I99/D99 -> 0.7617509 | L99: =I99/H99 -> 0.88033428
A100: Studium dálkové / kombinované, distanční | C100: 74388 | D100: 59314 | E100: =C100/D100 -> 1.254139 | F100: 63385 | G100: =F100/C100 -> 0.85208636 | H100: 52674 | I100: 35228 | J100: 32597 | K100: =I100/D100 -> 0.59392386 | L100: =I100/H100 -> 0.66879295
A101: v tom | B101: bakalářské studijní programy | C101: 68437 | D101: 55002 | E101: =C101/D101 -> 1.2442638 | F101: 58324 | G101: =F101/C101 -> 0.85222906 | H101: 48786 | I101: 32001 | J101: 29573 | K101: =I101/D101 -> 0.58181521 | L101: =I101/H101 -> 0.65594638
...

Sheet vše _ věk x dfst 
A1: Struktura přihlášených, přijatých a zapsaných na VŠ a VOŠ podle formy studia a věku v letech 1999/00–2025/2026
A3: 1999/2000 | I3: 2000/01
A4: Věk k 31.8.1999 | B4: Struktura přihlášených v % | C4: Struktura přijatých v % | D4: Struktura zapsaných v % | E4: Struktura přihlášených v % | F4: Struktura přijatých v % | G4: Struktura zapsaných v % | I4: Věk k 31.8.2000 | J4: Struktura přihlášených v % | K4: Struktura přijatých v % | L4: Struktura zapsaných v % | M4: Struktura přihlášených v % | N4: Struktura přijatých v % | O4: Struktura zapsaných v % | V4: Struktura zapsa- ných v %
B5: Denní / prezenční studium | E5: Studium dálkové / kombinované, distanční | J5: Denní / prezenční studium | M5: Studium dálkové / kombinované, distanční
A6: 18 | B6: 0.36609606 | C6: 0.43103322 | D6: 0.43556525 | E6: 0.032945244 | F6: 0.032746682 | G6: 0.028197227 | I6: 18 | J6: 0.22074728 | K6: 0.2794251 | L6: 0.28111416 | M6: 0.030860956 | N6: 0.029100285 | O6: 0.025181979 | V6: 291
A7: 19 | B7: 0.2698095 | C7: 0.27694644 | D7: 0.27729832 | E7: 0.062585795 | F7: 0.067945759 | G7: 0.062249615 | I7: 19 | J7: 0.26503177 | K7: 0.28860627 | L7: 0.29009167 | M7: 0.058570943 | N7: 0.059674003 | O7: 0.053610073 | V7: 453
A8: 20 | B8: 0.13693624 | C8: 0.12026196 | D8: 0.12014182 | E8: 0.078550003 | F8: 0.08237161 | G8: 0.079506934 | I8: 20 | J8: 0.17340037 | K8: 0.16324356 | L8: 0.16350879 | M8: 0.081060208 | N8: 0.078736532 | O8: 0.075841039 | V8: 511
A9: 21 | B9: 0.079148368 | C9: 0.061923752 | D9: 0.061619684 | E9: 0.089836799 | F9: 0.092758223 | G9: 0.092758089 | I9: 21 | J9: 0.11802366 | K9: 0.10416667 | L9: 0.1039501 | M9: 0.083531556 | N9: 0.082051754 | O9: 0.080759394 | V9: 565
A10: 22 | B10: 0.048765672 | C10: 0.037684765 | D10: 0.036897781 | E10: 0.087904825 | F10: 0.089728794 | G10: 0.089522342 | I10: 22 | J10: 0.073208666 | K10: 0.060618426 | L10: 0.06038556 | M10: 0.087918198 | N10: 0.083064739 | O10: 0.082825103 | V10: 501
A11: 23 | B11: 0.031647397 | C11: 0.025025611 | D11: 0.023553019 | E11: 0.087701459 | F11: 0.087564916 | G11: 0.089368259 | I11: 23 | J11: 0.047756839 | K11: 0.038946318 | L11: 0.038272538 | M11: 0.083902258 | N11: 0.083985634 | O11: 0.085382648 | V11: 485
A12: 24 | B12: 0.01950826 | C12: 0.014945851 | D12: 0.013851279 | E12: 0.078956734 | F12: 0.081217542 | G12: 0.081047766 | I12: 24 | J12: 0.030949711 | K12: 0.024936525 | L12: 0.023790399 | M12: 0.075932162 | N12: 0.076894742 | O12: 0.078201849 | V12: 491
A13: 25 | B13: 0.0128163 | C13: 0.0093297234 | D13: 0.0085718182 | E13: 0.069449387 | F13: 0.07559146 | G13: 0.076887519 | I13: 25 | J13: 0.018820607 | K13: 0.013783098 | L13: 0.013466263 | M13: 0.068023849 | N13: 0.073671609 | O13: 0.074955735 | V13: 382
A14: 26 | B14: 0.0075085392 | C14: 0.0050307332 | D14: 0.0049482769 | E14: 0.057298287 | F14: 0.05525101 | G14: 0.05624037 | I14: 26 | J14: 0.012418466 | K14: 0.0075489663 | L14: 0.0072528823 | M14: 0.057891322 | N14: 0.060963256 | O14: 0.062954948 | V14: 305
A15: 27 | B15: 0.0054770512 | C15: 0.0038233572 | D15: 0.0037404298 | E15: 0.040723982 | F15: 0.039526832 | G15: 0.040215716 | I15: 27 | J15: 0.0085603019 | K15: 0.0048739572 | L15: 0.0047958798 | M15: 0.050353712 | N15: 0.051662216 | O15: 0.052134566 | V15: 254
A16: 28 | B16: 0.0038339358 | C16: 0.0025245134 | D16: 0.0023182872 | E16: 0.036758351 | F16: 0.034766301 | G16: 0.036363636 | I16: 28 | J16: 0.0057149058 | K16: 0.002833696 | L16: 0.0026932527 | M16: 0.038027864 | N16: 0.039414311 | O16: 0.040723982 | V16: 205
A17: 29 | B17: 0.0025791932 | C17: 0.0015549539 | D17: 0.0015779938 | E17: 0.030352331 | F17: 0.026976342 | G17: 0.027580894 | I17: 29 | J17: 0.0041716401 | K17: 0.0021082699 | L17: 0.0021498771 | M17: 0.032807142 | N17: 0.033336403 | O17: 0.034625221 | V17: 161
A18: 30 a více | B18: 0.015853574 | C18: 0.0099151178 | D18: 0.0099744794 | E18: 0.2469368 | F18: 0.23355453 | G18: 0.24006163 | I18: 30 a více | J18: 0.02074969 | K18: 0.0086824447 | L18: 0.0083396333 | M18: 0.25111983 | N18: 0.24781287 | O18: 0.28752705 | V18: 1345
V19: 5949
A20: 2001/02 | I20: 2002/03
A21: Věk k 31.8.2001 | B21: Struktura přihlášených v % | C21: Struktura přijatých v % | D21: Struktura zapsaných v % | E21: Struktura přihlášených v % | F21: Struktura přijatých v % | G21: Struktura zapsaných v % | I21: Věk k 31.8.2002 | J21: Struktura přihlášených v % | K21: Struktura přijatých v % | L21: Struktura zapsaných v % | M21: Struktura přihlášených v % | N21: Struktura přijatých v % | O21: Struktura zapsaných v % | V21: Struktura zapsa- ných v %
B22: Denní / prezenční studium | E22: Studium dálkové / kombinované, distanční | J22: Denní / prezenční studium | M22: Studium dálkové / kombinované, distanční
A23: 18 | B23: 0.0952846 | C23: 0.14698948 | D23: 0.14975902 | E23: 0.0067344228 | F23: 0.008103877 | G23: 0.0052134566 | I23: 18 | J23: 0.015962614 | K23: 0.020663 | L23: 0.021039369 | M23: 0.0020250483 | N23: 0.0023139509 | O23: 0.0017939318 | V23: 183
A24: 19 | B24: 0.49718475 | C24: 0.64667211 | D24: 0.65330278 | E24: 0.050786198 | F24: 0.058108481 | G24: 0.047412945 | I24: 19 | J24: 0.41860703 | K24: 0.49791058 | L24: 0.50318438 | M24: 0.057137516 | N24: 0.056654475 | O24: 0.044146322 | V24: 404
A25: 20 | B25: 0.17405143 | C25: 0.18827077 | D25: 0.18734644 | E25: 0.052639708 | F25: 0.057555944 | G25: 0.051937832 | I25: 20 | J25: 0.22217791 | K25: 0.23474225 | L25: 0.23476415 | M25: 0.064116144 | N25: 0.067328506 | O25: 0.058575774 | V25: 516
A26: 21 | B26: 0.097527158 | C26: 0.095982952 | D26: 0.093649594 | E26: 0.065521609 | F26: 0.077355189 | G26: 0.076037773 | I26: 21 | J26: 0.091603522 | K26: 0.086929951 | L26: 0.08622862 | M26: 0.070160135 | N26: 0.075091438 | O26: 0.070119335 | V26: 602
A27: 22 | B27: 0.069217878 | C27: 0.06671654 | D27: 0.06480344 | E27: 0.077167835 | F27: 0.091721153 | G27: 0.091973244 | I27: 22 | J27: 0.058134184 | K27: 0.052921064 | L27: 0.05048413 | M27: 0.076951835 | N27: 0.082779727 | O27: 0.079088995 | V27: 581
A28: 23 | B28: 0.046261801 | C28: 0.043820276 | D28: 0.042336042 | E28: 0.076148404 | F28: 0.091536974 | G28: 0.091481409 | I28: 23 | J28: 0.04331687 | K28: 0.039641247 | L28: 0.038229862 | M28: 0.084771637 | N28: 0.090094797 | O28: 0.087746666 | V28: 580
A29: 24 | B29: 0.029961057 | C29: 0.027611534 | D29: 0.025916651 | E29: 0.072070681 | F29: 0.093470854 | G29: 0.094334055 | I29: 24 | J29: 0.028346167 | K29: 0.025172192 | L29: 0.024404978 | M29: 0.079132656 | N29: 0.080913637 | O29: 0.079088995 | V29: 526
A30: 25 | B30: 0.017795783 | C30: 0.015619333 | D30: 0.01486014 | E30: 0.063884341 | F30: 0.078276084 | G30: 0.078595318 | I30: 25 | J30: 0.017302206 | K30: 0.013923988 | L30: 0.013496954 | M30: 0.071468627 | N30: 0.073971785 | O30: 0.07238125 | V30: 499
A31: 26 | B31: 0.011586549 | C31: 0.009294523 | D31: 0.0087648838 | E31: 0.055080164 | F31: 0.064462658 | G31: 0.065119024 | I31: 26 | J31: 0.010594022 | K31: 0.0079943181 | L31: 0.007404339 | M31: 0.062776497 | N31: 0.06322311 | O31: 0.062085641 | V31: 365
A32: 27 | B32: 0.0078248393 | C32: 0.0055087051 | D32: 0.0051502552 | E32: 0.048623768 | F32: 0.061423704 | G32: 0.062266378 | I32: 27 | J32: 0.0073830925 | K32: 0.0053846027 | L32: 0.0051778595 | M32: 0.054208985 | N32: 0.056953049 | O32: 0.055845878 | V32: 261
A33: 28 | B33: 0.0058475302 | C33: 0.0043978963 | D33: 0.0042288792 | E33: 0.040159402 | F33: 0.05083341 | G33: 0.052921503 | I33: 28 | J33: 0.0048675236 | K33: 0.0030887138 | L33: 0.0029686394 | M33: 0.049380024 | N33: 0.049787266 | O33: 0.049372124 | V33: 236
A34: 29 | B34: 0.0040028454 | C34: 0.0021082699 | D34: 0.002008127 | E34: 0.033826573 | F34: 0.040335206 | G34: 0.04180602 | I34: 29 | J34: 0.0036915463 | K34: 0.0024445435 | L34: 0.0022955177 | M34: 0.041591376 | N34: 0.044562215 | O34: 0.043756337 | V34: 179
A35: 30 a více | B35: 0.018856778 | C35: 0.011584149 | D35: 0.011387261 | E35: 0.24926632 | F35: 0.28897689 | G35: 0.30031477 | I35: 30 a více | J35: 0.01671933 | K35: 0.01050493 | L35: 0.010338459 | M35: 0.28830457 | N35: 0.29857431 | O35: 0.29607675 | V35: 1558
V36: 6490
A37: 2003/04 | I37: 2004/05
A38: Věk k 31.8.2003 | B38: Struktura přihlášených v % | C38: Struktura přijatých v % | D38: Struktura zapsaných v % | E38: Struktura přihlášených v % | F38: Struktura přijatých v % | G38: Struktura zapsaných v % | I38: Věk k 31.8.2004 | J38: Struktura přihlášených v % | K38: Struktura přijatých v % | L38: Struktura zapsaných v % | M38: Struktura přihlášených v % | N38: Struktura přijatých v % | O38: Struktura zapsaných v % | V38: Struktura zapsa- ných v %
B39: Denní / prezenční studium | E39: Studium dálkové / kombinované, distanční | J39: Denní / prezenční studium | M39: Studium dálkové / kombinované, distanční
A40: 18 | B40: =32.1198088575792%/100 -> 0.0032119809 | C40: =34.9328383296549%/100 -> 0.0034932838 | D40: =33.9693663642067%/100 -> 0.0033969366 | E40: 0.00035555556 | F40: 0.00044754172 | G40: =4.11466191194623%/100 -> 0.00041146619 | I40: 18 | J40: 0.003780477 | K40: 0.0040047012 | L40: 0.0039562379 | M40: 0.00062460962 | N40: 0.0009455768 | O40: 0.00089645899 | V40: 256
A41: 19 | B41: =4469.28420119218%/100 -> 0.44692842 | C41: =5038.22149465776%/100 -> 0.50382215 | D41: =5142.22759475464%/100 -> 0.51422276 | E41: 0.055822222 | F41: 0.04360335 | G41: =375.120010972432%/100 -> 0.037512001 | I41: 19 | J41: 0.45662271 | K41: 0.52139468 | L41: 0.5340769 | M41: 0.051333657 | N41: 0.045440219 | O41: 0.040060511 | V41: 545
A42: 20 | B42: =2244.44553918912%/100 -> 0.22444455 | C42: =2191.56057704956%/100 -> 0.21915606 | D42: =2182.14925099077%/100 -> 0.21821493 | E42: 0.05922963 | F42: 0.053321399 | G42: =508.846523110684%/100 -> 0.050884652 | I42: 20 | J42: 0.22861576 | K42: 0.22361033 | L42: 0.22358831 | M42: 0.056746941 | N42: 0.049695314 | O42: 0.045943523 | V42: 771
A43: 21 | B43: =1103.30558155574%/100 -> 0.11033056 | C43: =996.828273674672%/100 -> 0.099682827 | D43: =979.756093828899%/100 -> 0.097975609 | E43: 0.063555556 | F43: 0.064446007 | G43: =632.972157454396%/100 -> 0.063297216 | I43: 21 | J43: 0.10296645 | K43: 0.091542245 | L43: 0.089258814 | M43: 0.055890994 | N43: 0.053582685 | O43: 0.052610937 | V43: 821
A44: 22 | B44: =611.360165525395%/100 -> 0.061136017 | C44: =503.383661955362%/100 -> 0.050338366 | D44: =490.260584823956%/100 -> 0.049026058 | E44: 0.073748148 | F44: 0.071414871 | G44: =711.150733781374%/100 -> 0.071115073 | I44: 22 | J44: 0.068991251 | K44: 0.058155226 | L44: 0.055387331 | M44: 0.062669165 | N44: 0.060096659 | O44: 0.058606006 | V44: 842
A45: 23 | B45: =460.712350362087%/100 -> 0.046071235 | C45: =404.870134615666%/100 -> 0.040487013 | D45: =387.587409912322%/100 -> 0.038758741 | E45: 0.080355556 | F45: 0.07902308 | G45: =792.07241804965%/100 -> 0.079207242 | I45: 23 | J45: 0.041054999 | K45: 0.033648196 | L45: 0.031589038 | M45: 0.065815347 | N45: 0.065034671 | O45: 0.065161363 | V45: 868
A46: 24 | B46: =357.948667422041%/100 -> 0.035794867 | C46: =317.318795036321%/100 -> 0.03173188 | D46: =300.215751380962%/100 -> 0.030021575 | E46: 0.08237037 | F46: 0.083754236 | G46: =844.191468934303%/100 -> 0.084419147 | I46: 24 | J46: 0.028171918 | K46: 0.023027032 | L46: 0.021363685 | M46: 0.070580887 | N46: 0.070340408 | O46: 0.070035858 | V46: 795
A47: 25 | B47: =203.16271737524%/100 -> 0.020316272 | C47: =173.202566613561%/100 -> 0.017320257 | D47: =161.584012975686%/100 -> 0.016158401 | E47: 0.073866667 | F47: 0.076849306 | G47: =774.242216431217%/100 -> 0.077424222 | I47: 25 | J47: 0.017881165 | K47: 0.013755278 | L47: 0.01258388 | M47: 0.067411571 | N47: 0.06808153 | O47: 0.069251457 | V47: 762
A48: 26 | B48: =120.991181831617%/100 -> 0.012099118 | C48: =90.1822646418288%/100 -> 0.0090182265 | D48: =83.8523097638976%/100 -> 0.008385231 | E48: 0.066725926 | F48: 0.06956077 | G48: =707.036071869428%/100 -> 0.070703607 | I48: 26 | J48: 0.010074726 | K48: 0.0067180313 | L48: 0.0059343569 | M48: 0.064427326 | N48: 0.06886951 | O48: 0.069811744 | V48: 640
A49: 27 | B49: =82.7626976698359%/100 -> 0.0082762698 | C49: =57.4418638642443%/100 -> 0.0057441864 | D49: =53.5553073309565%/100 -> 0.0053555307 | E49: 0.056948148 | F49: 0.056390256 | G49: =571.938005760527%/100 -> 0.057193801 | I49: 27 | J49: 0.0069816082 | K49: 0.0043964654 | L49: 0.0039714542 | M49: 0.056770074 | N49: 0.057102332 | O49: 0.058325863 | V49: 530
A50: 28 | B50: =60.8896989999507%/100 -> 0.0060889699 | C50: =36.9791133782539%/100 -> 0.0036979113 | D50: =34.5814270194176%/100 -> 0.0034581427 | E50: 0.050014815 | F50: 0.053832875 | G50: =549.993142230147%/100 -> 0.054999314 | I50: 28 | J50: 0.0058130971 | K50: 0.0036129369 | L50: 0.0033323696 | M50: 0.05110232 | N50: 0.051954192 | O50: 0.052947109 | V50: 414
A51: 29 | B51: =46.0121188235874%/100 -> 0.0046012119 | C51: =27.1862256456729%/100 -> 0.0027186226 | D51: =25.4005171912537%/100 -> 0.0025400517 | E51: 0.045125926 | F51: 0.047119749 | G51: =477.300781785763%/100 -> 0.047730078 | I51: 29 | J51: 0.0051453765 | K51: 0.0025827421 | L51: 0.0024193917 | M51: 0.044092812 | N51: 0.045807943 | O51: 0.046839982 | V51: 352
A52: 30 a více | B52: 0.021 | C52: 0.012 | D52: 0.0124 | E52: 0.29185 | F52: 0.3002 | G52: 0.3051 | I52: 30 a více | J52: 0.024 | K52: 0.013 | L52: 0.012 | M52: 0.352 | N52: 0.363 | O52: 0.369 | V52: 2923
A54: 2005/06 | I54: 2006/07 | V54: Cumulative Percent
A55: Věk k 31.8.2005 | B55: Struktura přihlášených v % | C55: Struktura přijatých v % | D55: Struktura zapsaných v % | E55: Struktura přihlášených v % | F55: Struktura přijatých v % | G55: Struktura zapsaných v % | I55: Věk k 31.8.2006 | J55: Struktura přihlášených v % | K55: Struktura přijatých v % | L55: Struktura zapsaných v % | M55: Struktura přihlášených v % | N55: Struktura přijatých v % | O55: Struktura zapsaných v % | V55: 0.00076748916
B56: Denní / prezenční studium | E56: Studium dálkové / kombinované, distanční | J56: Denní / prezenční studium | M56: Studium dálkové / kombinované, distanční
A57: 18 | B57: 0.0033691594 | C57: 0.00384254 | D57: 0.0038973117 | E57: 0.00028913948 | F57: 0.00038140644 | G57: 0.00035570913 | I57: 18 | J57: 0.0051291481 | K57: 0.0055640727 | L57: 0.0056862096 | M57: 0.00039834289 | N57: 0.0003511784 | O57: 0.00033255737
A58: 19 | B58: 0.46718025 | C58: 0.52760599 | D58: 0.53905431 | E58: 0.055559262 | F58: 0.037663886 | G58: 0.031708928 | I58: 19 | J58: 0.46712023 | K58: 0.52330038 | L58: 0.53312355 | M58: 0.056684194 | N58: 0.041400031 | O58: 0.034960093
A59: 20 | B59: 0.23321085 | C59: 0.22795798 | D59: 0.227417 | E59: 0.058561865 | F59: 0.053492253 | G59: 0.050205803 | I59: 20 | J59: 0.22758901 | K59: 0.22307835 | L59: 0.22276968 | M59: 0.061643563 | N59: 0.05482285 | O59: 0.050714998
A60: 21 | B60: 0.10028667 | C60: 0.089346067 | D60: 0.087039962 | E60: 0.059584974 | F60: 0.055256257 | G60: 0.053407185 | I60: 21 | J60: 0.099708703 | K60: 0.088774054 | L60: 0.086949321 | M60: 0.058855163 | N60: 0.054705791 | O60: 0.053458597
A61: 22 | B61: 0.065954743 | C61: 0.056081451 | D61: 0.053735662 | E61: 0.065234314 | F61: 0.063170441 | G61: 0.06245236 | I61: 22 | J61: 0.067346682 | K61: 0.058548319 | L61: 0.055964999 | M61: 0.066583015 | N61: 0.064343687 | O61: 0.064017293
A62: 23 | B62: 0.042439587 | C62: 0.035732817 | D62: 0.03388004 | E62: 0.067502947 | F62: 0.067413588 | G62: 0.067737182 | I62: 23 | J62: 0.042107402 | K62: 0.03556513 | L62: 0.033758419 | M62: 0.064830306 | N62: 0.062509755 | O62: 0.06310276
A63: 24 | B63: 0.0234659 | C63: 0.018581626 | D63: 0.017272177 | E63: 0.061987055 | F63: 0.062741359 | G63: 0.062909701 | I63: 24 | J63: 0.027126419 | K63: 0.022309156 | L63: 0.020812631 | M63: 0.063256851 | N63: 0.06368035 | O63: 0.065098104
A64: 25 | B64: 0.014392812 | C64: 0.010573997 | D64: 0.0098466172 | E64: 0.063343787 | F64: 0.064743743 | G64: 0.065602927 | I64: 25 | J64: 0.013364818 | K64: 0.010189786 | L64: 0.0096886386 | M64: 0.055907425 | N64: 0.058373654 | O64: 0.058821084
A65: 26 | B65: 0.008925317 | C65: 0.0059320964 | D65: 0.0053440411 | E65: 0.061809123 | F65: 0.062884386 | G65: 0.063468672 | I65: 26 | J65: 0.0077808209 | K65: 0.0049561218 | L65: 0.004747709 | M65: 0.056465105 | N65: 0.058022475 | O65: 0.058821084
A66: 27 | B66: 0.0067481701 | C66: 0.0043473993 | D66: 0.0040892248 | E66: 0.05418029 | F66: 0.058784267 | G66: 0.059454241 | I66: 27 | J66: 0.0068227347 | K66: 0.0046124974 | L66: 0.0042646572 | M66: 0.053218611 | N66: 0.056578742 | O66: 0.057532424
A67: 28 | B67: 0.0052606173 | C67: 0.0029590363 | D67: 0.0027458333 | E67: 0.050688374 | F67: 0.052920143 | G67: 0.05427105 | I67: 28 | J67: 0.0052162468 | K67: 0.0033437302 | L67: 0.0031329359 | M67: 0.048916507 | N67: 0.050023412 | O67: 0.050424011
A68: 29 | B68: 0.0042853343 | C68: 0.0024121054 | D68: 0.0021405689 | E68: 0.044994551 | F68: 0.047246722 | G68: 0.047919102 | I68: 29 | J68: 0.0042291278 | K68: 0.002563967 | L68: 0.0024980678 | M68: 0.045072498 | N68: 0.045692212 | O68: 0.046474892
A69: 30 a více | B69: 0.0243 | C69: 0.015 | D69: 0.014 | E69: 0.356 | F69: 0.372 | G69: 0.38 | I69: 30 a více | J69: 0.026 | K69: 0.017 | L69: 0.017 | M69: 0.368 | N69: 0.389 | O69: 0.396
K70: 29 | L70: 836 | M70: =N70/100 -> 0.046839982 | N70: 4.6839982 | O70: 63.071493
A71: 2007/08 | I71: 2008/09
A72: Věk k 31.8.2007 | B72: Struktura přihlášených v % | C72: Struktura přijatých v % | D72: Struktura zapsaných v % | E72: Struktura přihlášených v % | F72: Struktura přijatých v % | G72: Struktura zapsaných v % | I72: Věk k 31.8.2008 | J72: Struktura přihlášených v % | K72: Struktura přijatých v % | L72: Struktura zapsaných v % | M72: Struktura přihlášených v % | N72: Struktura přijatých v % | O72: Struktura zapsaných v %
B73: Denní / prezenční studium | E73: Studium dálkové / kombinované, distanční | J73: Denní / prezenční studium | M73: Studium dálkové / kombinované, distanční
A74: 18 | B74: 0.0057103354 | C74: 0.0062999758 | D74: 0.0062985344 | E74: 0.00056674739 | F74: 0.00046891119 | G74: 0.0003670337 | I74: 18 | J74: 0.0056784115 | K74: 0.0060310304 | L74: 0.005946699 | M74: 0.00049246215 | N74: 0.00050135086 | O74: 0.0004264912
A75: 19 | B75: 0.46708271 | C75: 0.52375244 | D75: 0.53448717 | E75: 0.054132962 | F75: 0.044984213 | G75: 0.038104771 | I75: 19 | J75: 0.47365358 | K75: 0.51918419 | L75: 0.52853384 | M75: 0.060048611 | N75: 0.045817898 | O75: 0.037531225
A76: 20 | B76: 0.22656679 | C76: 0.2213281 | D76: 0.22040833 | E76: 0.062582651 | F76: 0.054737566 | G76: 0.051117784 | I76: 20 | J76: 0.22907629 | K76: 0.22399942 | L76: 0.22360104 | M76: 0.066132901 | N76: 0.059716458 | O76: 0.055992201
A77: 21 | B77: 0.099253774 | C77: 0.087179422 | D77: 0.084707212 | E77: 0.05981761 | F77: 0.056738254 | G77: 0.055989323 | I77: 21 | J77: 0.097670441 | K77: 0.088031462 | L77: 0.08609169 | M77: 0.061319481 | N77: 0.05924296 | O77: 0.058642539
A78: 22 | B78: 0.067283471 | C78: 0.058893296 | D78: 0.056632976 | E78: 0.065004208 | F78: 0.064741005 | G78: 0.063897231 | I78: 22 | J78: 0.066721335 | K78: 0.061233544 | L78: 0.058770414 | M78: 0.066069358 | N78: 0.06584408 | O78: 0.065496862
A79: 23 | B79: 0.042425046 | C79: 0.035912412 | D79: 0.034238187 | E79: 0.062891786 | F79: 0.062083841 | G79: 0.061728395 | I79: 23 | J79: 0.040903961 | K79: 0.036557876 | L79: 0.034970718 | M79: 0.062526807 | N79: 0.061861126 | O79: 0.061506123
A80: 24 | B80: 0.025189871 | C80: 0.02040478 | D80: 0.019380106 | E80: 0.058323458 | F80: 0.058207509 | G80: 0.058458458 | I80: 24 | J80: 0.026011357 | K80: 0.023116952 | L80: 0.021980857 | M80: 0.058253507 | N80: 0.058323817 | O80: 0.058764394
A81: 25 | B81: 0.014697248 | C81: 0.011987808 | D81: 0.011251228 | E81: 0.055901901 | F81: 0.057488512 | G81: 0.057891225 | I81: 25 | J81: 0.013217296 | K81: 0.011222752 | L81: 0.010796935 | M81: 0.054758614 | N81: 0.056986881 | O81: 0.057759093
A82: 26 | B82: 0.0075853709 | C82: 0.005075689 | D82: 0.004764276 | E82: 0.049564635 | F82: 0.049517021 | G82: 0.050617284 | I82: 26 | J82: 0.0071597362 | K82: 0.0048320184 | L82: 0.0043600526 | M82: 0.046736247 | N82: 0.047516921 | O82: 0.048467678
A83: 27 | B83: 0.0061080702 | C83: 0.004042697 | D83: 0.0037010619 | E83: 0.04863723 | F83: 0.049423239 | G83: 0.049983317 | I83: 27 | J83: 0.0055373329 | K83: 0.0040646507 | L83: 0.0039601661 | M83: 0.043384327 | N83: 0.043144027 | O83: 0.043867666
A84: 28 | B84: 0.0056156367 | C84: 0.0033795417 | D84: 0.0031627256 | E84: 0.048001786 | F84: 0.048672981 | G84: 0.049416083 | I84: 28 | J84: 0.0045145135 | K84: 0.0028056881 | L84: 0.0025670132 | M84: 0.044718741 | N84: 0.045010166 | O84: 0.045604094
A85: 29 | B85: 0.0042046251 | C85: 0.0026781274 | D85: 0.0024225132 | E85: 0.042317138 | F85: 0.043139829 | G85: 0.044144144 | I85: 29 | J85: 0.0040383734 | K85: 0.0022781228 | L85: 0.0021929259 | M85: 0.043511414 | N85: 0.044174582 | O85: 0.045177603
A86: 30 a více | B86: 0.028 | C86: 0.019 | D86: 0.019 | E86: 0.392 | F86: 0.41 | G86: 0.418 | I86: 30 a více | J86: 0.025817374 | K86: 0.016642287 | L86: 0.016227652 | M86: 0.39204753 | N86: 0.41185973 | O86: 0.42076403
A88: 2009/10 | I88: 2010/11
A89: Věk k 31.8.2009 | B89: Struktura přihlášených v % | C89: Struktura přijatých v % | D89: Struktura zapsaných v % | E89: Struktura přihlášených v % | F89: Struktura přijatých v % | G89: Struktura zapsaných v % | I89: Věk k 31.8.2010 | J89: Struktura přihlášených v % | K89: Struktura přijatých v % | L89: Struktura zapsaných v % | M89: Struktura přihlášených v % | N89: Struktura přijatých v % | O89: Struktura zapsaných v %
B90: Denní / prezenční studium | E90: Studium dálkové / kombinované, distanční | J90: Denní / prezenční studium | M90: Studium dálkové / kombinované, distanční
A91: 18 | B91: 0.0054738219 | C91: 0.0059640017 | D91: 0.005983479 | E91: 0.00069848255 | F91: 0.0004254957 | G91: 0.00030622244 | I91: 18 | J91: 0.005203878 | K91: 0.0056528524 | L91: 0.0057374448 | M91: 0.00089423482 | N91: 0.00086916213 | O91: 0.00066687837
A92: 19 | B92: 0.45805427 | C92: 0.50355935 | D92: 0.51514845 | E92: 0.06303805 | F92: 0.049272402 | G92: 0.040207006 | I92: 19 | J92: 0.45991054 | K92: 0.50379747 | L92: 0.51518592 | M92: 0.067085145 | N92: 0.053279638 | O92: 0.043347094
A93: 20 | B93: 0.23643921 | C93: 0.23365554 | D93: 0.23325448 | E93: 0.071908778 | F93: 0.063427226 | G93: 0.058702842 | I93: 20 | J93: 0.23073496 | K93: 0.2284261 | L93: 0.22878977 | M93: 0.069539907 | N93: 0.061681539 | O93: 0.057573833
A94: 21 | B94: 0.099192004 | C94: 0.090198086 | D94: 0.087525775 | E94: 0.064557249 | F94: 0.061498312 | G94: 0.060509554 | I94: 21 | J94: 0.1047726 | K94: 0.094676608 | L94: 0.091982226 | M94: 0.065454482 | N94: 0.060841349 | O94: 0.059225151
A95: 22 | B95: 0.068983233 | C95: 0.061354221 | D95: 0.058316783 | E95: 0.068416365 | F95: 0.066859558 | G95: 0.066572758 | I95: 22 | J95: 0.071063231 | K95: 0.064990463 | L95: 0.061952196 | M95: 0.068137186 | N95: 0.067475953 | O95: 0.067068911
A96: 23 | B96: 0.044238943 | C96: 0.037962478 | D96: 0.036204476 | E96: 0.066478076 | F96: 0.067256687 | G96: 0.066848359 | I96: 23 | J96: 0.044696322 | K96: 0.039211606 | L96: 0.037561952 | M96: 0.067278019 | N96: 0.067070344 | O96: 0.067291204
A97: 24 | B97: 0.027621316 | C97: 0.024701205 | D97: 0.023440564 | E97: 0.061082299 | F97: 0.061157916 | G97: 0.061397599 | I97: 24 | J97: 0.027765897 | K97: 0.024010173 | L97: 0.02235162 | M97: 0.060755365 | N97: 0.062347897 | O97: 0.062591299
A98: 25 | B98: 0.014702723 | C98: 0.012213704 | D98: 0.011612756 | E98: 0.053713308 | F98: 0.054208152 | G98: 0.05499755 | I98: 25 | J98: 0.014987881 | K98: 0.012646668 | L98: 0.011548133 | M98: 0.052093562 | N98: 0.052816085 | O98: 0.053413782
A99: 26 | B99: 0.0068936528 | C99: 0.0047973906 | D99: 0.0045034218 | E99: 0.045191821 | F99: 0.045641506 | G99: 0.046147722 | I99: 26 | J99: 0.0067989022 | K99: 0.0047974106 | L99: 0.0044190532 | M99: 0.045746248 | N99: 0.045573068 | O99: 0.046395681
A100: 27 | B100: 0.005343048 | C100: 0.0036188753 | D100: 0.0033902164 | E100: 0.042624897 | F100: 0.042691402 | G100: 0.042993631 | I100: 27 | J100: 0.0048920017 | K100: 0.0030865268 | L100: 0.0028687224 | M100: 0.038381961 | N100: 0.03763472 | O100: 0.038361385
A101: 28 | B101: 0.0041847648 | C101: 0.0025594019 | D101: 0.0023908616 | E101: 0.03841654 | F101: 0.039400902 | G101: 0.040176384 | I101: 28 | J101: 0.003956373 | K101: 0.0023466852 | L101: 0.0022217339 | M101: 0.038644971 | N101: 0.038561826 | O101: 0.038932995
A102: 29 | B102: 0.0032693475 | C102: 0.0020237132 | D102: 0.0018975092 | E102: 0.036530637 | F102: 0.037216691 | G102: 0.038277805 | I102: 29 | J102: 0.0027356002 | K102: 0.0016068435 | L102: 0.0014892942 | M102: 0.034261467 | N102: 0.034534709 | O102: 0.035471578
A103: 30 a více | B103: 0.025603662 | C103: 0.017392029 | D103: 0.016331229 | E103: 0.3873435 | F103: 0.41094375 | G103: 0.42286257 | I103: 30 a více | J103: 0.022419447 | K103: 0.014739032 | L103: 0.013879733 | M103: 0.39170992 | N103: 0.41728474 | O103: 0.42962845
...

Sheet List1
C1: forma
C2: DK | F2: P
C3: prihlaseni | D3: prijati | E3: prijati | F3: prihlaseni | G3: prijati | H3: prijati
C4: Column Sum % | D4: Column Sum % | E4: Column Sum % | F4: Column Sum % | G4: Column Sum % | H4: Column Sum %
A5: vek | B5: 16 | C5: 0 | D5: 0 | E5: 0 | F5: 9.0929757e-06 | G5: . | H5: .
B6: 17 | C6: 0 | D6: 0 | E6: 0 | F6: 0.00018185951 | G6: 0.00017790429 | H6: 0.00017790429
B7: 18 | C7: 0.00050328 | D7: 0.0004192621 | E7: 0.0004192621 | F7: 0.0043100705 | G7: 0.0046136512 | H7: 0.0046136512 | J7: 18 | K7: =+C7+C6+C5 -> 0.00050328 | L7: =+D7+D6+D5 -> 0.0004192621 | M7: =+E7+E6+E5 -> 0.0004192621 | N7: =+F7+F6+F5 -> 0.004501023 | O7: =SUM(+G7,G6,G5) -> 0.0047915555 | P7: =SUM(+H7,H6,H5) -> 0.0047915555
B8: 19 | C8: 0.065009892 | D8: 0.050191663 | E8: 0.050191663 | F8: 0.42956126 | G8: 0.47028405 | H8: 0.47028405 | J8: 19 | K8: =+C8 -> 0.065009892 | L8: =+D8 -> 0.050191663 | M8: =+E8 -> 0.050191663 | N8: =+F8 -> 0.42956126 | O8: =+G8 -> 0.47028405 | P8: =+H8 -> 0.47028405
B9: 20 | C9: 0.078719933 | D9: 0.069837087 | E9: 0.069837087 | F9: 0.25430325 | G9: 0.25318152 | H9: 0.25318152 | J9: 20 | K9: =+C9 -> 0.078719933 | L9: =+D9 -> 0.069837087 | M9: =+E9 -> 0.069837087 | N9: =+F9 -> 0.25430325 | O9: =+G9 -> 0.25318152 | P9: =+H9 -> 0.25318152
B10: 21 | C10: 0.067265975 | D10: 0.065255151 | E10: 0.065255151 | F10: 0.10764265 | G10: 0.098725019 | H10: 0.098725019 | J10: 21 | K10: =+C10 -> 0.067265975 | L10: =+D10 -> 0.065255151 | M10: =+E10 -> 0.065255151 | N10: =+F10 -> 0.10764265 | O10: =+G10 -> 0.098725019 | P10: =+H10 -> 0.098725019
B11: 22 | C11: 0.071830204 | D11: 0.072322712 | E11: 0.072322712 | F11: 0.077190271 | G11: 0.07012987 | H11: 0.07012987 | J11: 22 | K11: =+C11 -> 0.071830204 | L11: =+D11 -> 0.072322712 | M11: =+E11 -> 0.072322712 | N11: =+F11 -> 0.077190271 | O11: =+G11 -> 0.07012987 | P11: =+H11 -> 0.07012987
B12: 23 | C12: 0.067265975 | D12: 0.068429564 | E12: 0.068429564 | F12: 0.045692203 | G12: 0.040289391 | H12: 0.040289391 | J12: 23 | K12: =+C12 -> 0.067265975 | L12: =+D12 -> 0.068429564 | M12: =+E12 -> 0.068429564 | N12: =+F12 -> 0.045692203 | O12: =+G12 -> 0.040289391 | P12: =+H12 -> 0.040289391
B13: 24 | C13: 0.061243969 | D13: 0.064236943 | E13: 0.064236943 | F13: 0.028406456 | G13: 0.02529799 | H13: 0.02529799 | J13: 24 | K13: =+C13 -> 0.061243969 | L13: =+D13 -> 0.064236943 | M13: =+E13 -> 0.064236943 | N13: =+F13 -> 0.028406456 | O13: =+G13 -> 0.02529799 | P13: =+H13 -> 0.02529799
B14: 25 | C14: 0.051577522 | D14: 0.052078342 | E14: 0.052078342 | F14: 0.015030689 | G14: 0.013070035 | H14: 0.013070035 | J14: 25 | K14: =+C14 -> 0.051577522 | L14: =+D14 -> 0.052078342 | M14: =+E14 -> 0.052078342 | N14: =+F14 -> 0.015030689 | O14: =+G14 -> 0.013070035 | P14: =+H14 -> 0.013070035
B15: 26 | C15: 0.04444483 | D15: 0.046328462 | E15: 0.046328462 | F15: 0.0068106388 | G15: 0.0049694598 | H15: 0.0049694598 | J15: 26 | K15: =+C15 -> 0.04444483 | L15: =+D15 -> 0.046328462 | M15: =+E15 -> 0.046328462 | N15: =+F15 -> 0.0068106388 | O15: =+G15 -> 0.0049694598 | P15: =+H15 -> 0.0049694598
B16: 27 | C16: 0.039793829 | D16: 0.041177528 | E16: 0.041177528 | F16: 0.0042736986 | G16: 0.0029650715 | H16: 0.0029650715 | J16: 27 | K16: =+C16 -> 0.039793829 | L16: =+D16 -> 0.041177528 | M16: =+E16 -> 0.041177528 | N16: =+F16 -> 0.0042736986 | O16: =+G16 -> 0.0029650715 | P16: =+H16 -> 0.0029650715
B17: 28 | C17: 0.035715525 | D17: 0.036116435 | E17: 0.036116435 | F17: 0.0034189589 | G17: 0.0020281089 | H17: 0.0020281089 | J17: 28 | K17: =+C17 -> 0.035715525 | L17: =+D17 -> 0.036116435 | M17: =+E17 -> 0.036116435 | N17: =+F17 -> 0.0034189589 | O17: =+G17 -> 0.0020281089 | P17: =+H17 -> 0.0020281089
B18: 29 | C18: 0.031810767 | D18: 0.032612602 | E18: 0.032612602 | F18: 0.0029279382 | G18: 0.0017790429 | H18: 0.0017790429 | J18: 29 | K18: =+C18 -> 0.031810767 | L18: =+D18 -> 0.032612602 | M18: =+E18 -> 0.032612602 | N18: =+F18 -> 0.0029279382 | O18: =+G18 -> 0.0017790429 | P18: =+H18 -> 0.0017790429
B19: 30 | C19: 0.03070008 | D19: 0.03108529 | E19: 0.03108529 | F19: 0.0022641509 | G19: 0.0014588152 | H19: 0.0014588152 | J19: 30 a více | K19: =SUM(C19:C64) -> 0.3848183 | L19: =SUM(D19:D64) -> 0.40099425 | M19: =SUM(E19:E64) -> 0.40099425 | N19: =SUM(F19:F64) -> 0.020240964 | O19: =SUM(G19:G64) -> 0.012488881 | P19: =SUM(H19:H64) -> 0.012488881
B20: 31 | C20: 0.030630662 | D20: 0.031564447 | E20: 0.031564447 | F20: 0.0019822687 | G20: 0.0012571903 | H20: 0.0012571903
B21: 32 | C21: 0.030162091 | D21: 0.032343076 | E21: 0.032343076 | F21: 0.0020913844 | G21: 0.0012097492 | H21: 0.0012097492
B22: 33 | C22: 0.028895214 | D22: 0.030156924 | E22: 0.030156924 | F22: 0.0018913389 | G22: 0.00098440372 | H22: 0.00098440372
B23: 34 | C23: 0.028964632 | D23: 0.030366555 | E23: 0.030366555 | F23: 0.0016822005 | G23: 0.00093696258 | H23: 0.00093696258
B24: 35 | C24: 0.028305161 | D24: 0.029617873 | E24: 0.029617873 | F24: 0.0015548988 | G24: 0.00092510229 | H24: 0.00092510229
B25: 36 | C25: 0.026882094 | D25: 0.028180402 | E25: 0.028180402 | F25: 0.0011911798 | G25: 0.00060487458 | H25: 0.00060487458
B26: 37 | C26: 0.024365694 | D26: 0.025455199 | E26: 0.025455199 | F26: 0.0012366447 | G26: 0.00084208029 | H26: 0.00084208029
B27: 38 | C27: 0.023393843 | D27: 0.024856253 | E27: 0.024856253 | F27: 0.0010365992 | G27: 0.00072347744 | H27: 0.00072347744
B28: 39 | C28: 0.018569296 | D28: 0.019765213 | E28: 0.019765213 | F28: 0.00081836781 | G28: 0.00047441143 | H28: 0.00047441143
B29: 40 | C29: 0.015914061 | D29: 0.017069957 | E29: 0.017069957 | F29: 0.00062741532 | G29: 0.00043883058 | H29: 0.00043883058
B30: 41 | C30: 0.014022422 | D30: 0.014793963 | E30: 0.014793963 | F30: 0.00058195044 | G30: 0.00037952915 | H30: 0.00037952915
B31: 42 | C31: 0.013224116 | D31: 0.013476282 | E31: 0.013476282 | F31: 0.00046374176 | G31: 0.00039138943 | H31: 0.00039138943
... B46: 57 | C46: 0.00041650758 | D46: 0.00056899856 | E46: 0.00056899856 | F46: 2.7278927e-05 | G46: 2.3720572e-05 | H46: 2.3720572e-05
B47: 58 | C47: 0.00013883586 | D47: 0.00020963105 | E47: 0.00020963105 | F47: 3.6371903e-05 | G47: . | H47: .
B48: 59 | C48: 0.00017354483 | D48: 0.00023957834 | E48: 0.00023957834 | F48: 2.7278927e-05 | G48: 2.3720572e-05 | H48: 2.3720572e-05
B49: 60 | C49: 0.00012148138 | D49: 0.00011978917 | E49: 0.00011978917 | F49: 4.5464878e-05 | G49: 3.5580857e-05 | H49: 3.5580857e-05
B50: 61 | C50: 5.2063448e-05 | D50: 5.9894586e-05 | E50: 5.9894586e-05 | F50: 9.0929757e-06 | G50: 1.1860286e-05 | H50: 1.1860286e-05
B51: 62 | C51: 5.2063448e-05 | D51: 8.9841878e-05 | E51: 8.9841878e-05 | F51: 3.6371903e-05 | G51: 2.3720572e-05 | H51: 2.3720572e-05
B52: 63 | C52: 3.4708965e-05 | D52: 5.9894586e-05 | E52: 5.9894586e-05 | F52: 9.0929757e-06 | G52: . | H52: .
B53: 64 | C53: 0.0001041269 | D53: 0.00011978917 | E53: 0.00011978917 | F53: 9.0929757e-06 | G53: . | H53: .
B54: 65 | C54: 3.4708965e-05 | D54: 5.9894586e-05 | E54: 5.9894586e-05 | F54: 0 | G54: 0 | H54: 0
B55: 66 | C55: 1.7354483e-05 | D55: 2.9947293e-05 | E55: 2.9947293e-05 | F55: 9.0929757e-06 | G55: 1.1860286e-05 | H55: 1.1860286e-05
B56: 67 | C56: 1.7354483e-05 | D56: . | E56: . | F56: 0 | G56: 0 | H56: 0
B57: 68 | C57: 0 | D57: 0 | E57: 0 | F57: 9.0929757e-06 | G57: . | H57: .
B58: 70 | C58: 3.4708965e-05 | D58: 2.9947293e-05 | E58: 2.9947293e-05 | F58: 0 | G58: 0 | H58: 0
B59: 71 | C59: 1.7354483e-05 | D59: . | E59: . | F59: 0 | G59: 0 | H59: 0
B60: 73 | C60: 0 | D60: 0 | E60: 0 | F60: 9.0929757e-06 | G60: 1.1860286e-05 | H60: 1.1860286e-05
B61: 76 | C61: 1.7354483e-05 | D61: 2.9947293e-05 | E61: 2.9947293e-05 | F61: 0 | G61: 0 | H61: 0
B62: 78 | C62: 0 | D62: 0 | E62: 0 | F62: 9.0929757e-06 | G62: . | H62: .
B63: 88 | C63: 0 | D63: 0 | E63: 0 | F63: 9.0929757e-06 | G63: . | H63: .
B64: 89 | C64: 1.7354483e-05 | D64: . | E64: . | F64: 0 | G64: 0 | H64: 0
