Workbook

Sheet OBSAH
A1: Seznam tabulek a grafů
A3: ='1999 - 2025'!A1 -> Počet podaných přihlášek, přihlášených, přijatých a zapsaných ke studiu na terciární úrovni vzdělávání (VŠ a VOŠ) v letech 1999/00–2025/26
B4: ='1999 - 2025'!A4 -> Přehled za rok 1999/00
B5: ='1999 - 2025'!F4 -> Přehled za rok 2000/01
B6: ='1999 - 2025'!A44 -> Přehled za rok 2001/02
B7: ='1999 - 2025'!F44 -> Přehled za rok 2002/03
B8: ='1999 - 2025'!A84 -> Přehled za rok 2003/04
B9: ='1999 - 2025'!F84 -> Přehled za rok 2004/05
B10: ='1999 - 2025'!A124 -> Přehled za rok 2005/06
B11: ='1999 - 2025'!F124 -> Přehled za rok 2006/07
B12: ='1999 - 2025'!A164 -> Přehled za rok 2007/08
B13: ='1999 - 2025'!F164 -> Přehled za rok 2008/09
B14: ='1999 - 2025'!A204 -> Přehled za rok 2009/10
B15: ='1999 - 2025'!F204 -> Přehled za rok 2010/11
B16: ='1999 - 2025'!A244 -> Přehled za rok 2011/12
B17: =+'1999 - 2025'!F244 -> Přehled za rok 2012/13
B18: =+'1999 - 2025'!A284 -> Přehled za rok 2013/14
B19: =+'1999 - 2025'!F284 -> Přehled za rok 2014/15
B20: =+'1999 - 2025'!A324 -> Přehled za rok 2015/16
B21: =+'1999 - 2025'!F324 -> Přehled za rok 2016/17
B22: =+'1999 - 2025'!A364 -> Přehled za rok 2017/18
B23: =+'1999 - 2025'!F364 -> Přehled za rok 2018/19
B24: =+'1999 - 2025'!A404 -> Přehled za rok 2019/20
B25: =+'1999 - 2025'!F404 -> Přehled za rok 2020/21
B26: =+'1999 - 2025'!A444 -> Přehled za rok 2021/22
B27: =+'1999 - 2025'!F444 -> Přehled za rok 2022/23
B28: =+'1999 - 2025'!A484 -> Přehled za rok 2023/24
B29: =+'1999 - 2025'!F484 -> Přehled za rok 2024/25
B30: =+'1999 - 2025'!A524 -> Přehled za rok 2025/26
A31: =+CONCATENATE('čerství absolventi'!A1," ",'čerství absolventi'!A2) -> Podíl uchazečů, kteří se hlásí na vysokou či vyšší odbornou školu bezprostředně po ukončení střední školy, na celkovém počtu absolventů maturitních oborů středních škol denní formy vzdělávání v letech 1999/2000-2025/26
A33: ='vše _ kam'!A1 -> Uchazeči o studium na VŠ a VOŠ v letech 1999/00–2025/26
B34: ='vše _ kam'!A2 -> Počet přihlášených, přijatých a zapsaných ke studiu na terciární úrovni vzdělávání (VŠ a VOŠ) v letech 1999/00–2025/26
B35: ='vše _ kam'!A25 -> Počet přihlášených, přijatých a zapsaných ke studiu na terciární úrovni vzdělávání (VŠ a VOŠ) v letech 1999/00–2025/26 (v %)
B37: =vše_terc!$A$1 -> Počet podaných přihlášek, přihlášených, přijatých a zapsaných ke studiu na terciární úrovni vzdělávání (VŠ a VOŠ) v letech 1999/00–2025/26 (v tis.)
B38: =vše_terc!$A$10 -> Počet přihlášených a zapsaných ve vztahu k populaci 18/19letých a k počtu maturantů v denní formě vzdělávání v letech 1999/00–2025/26 (v tis.)
B39: =vše_terc!$A$22 -> Počet přihlášených a zapsaných do denního/prezenčního studia ve vztahu k populaci 18/19letých a k počtu maturantů v denní formě vzdělávání v letech 1999/00–2025/26 (v tis.)
B40: =vše_terc!$A$34 -> Počet podaných přihlášek, přihlášených, přijatých a zapsaných ke studiu na terciární úrovni vzdělávání 1999/00–2025/26 (v tis.)
A42: ='vše _ druh studia '!A1 -> Základní přehled o přijímacím řízení na vysoké a vyšší odborné školy podle druhu a formy studia
B43: ='vše _ druh studia '!$A$2 -> Počet podaných přihlášek, přihlášených, přijatých a zapsaných ke studiu na terciární úrovni vzdělávání (VŠ a VOŠ) v letech 1999/00–2025/26
A45: ='vše _ věk x dfst '!A1 -> Struktura přihlášených, přijatých a zapsaných na VŠ a VOŠ podle formy studia a věku v letech 1999/00–2025/2026
...

Sheet 1999 - 2025
A1: Počet podaných přihlášek, přihlášených, přijatých a zapsaných ke studiu na terciární úrovni vzdělávání (VŠ a VOŠ) v letech 1999/00–2025/26
A3: Přijímací řízení na VŠ i VOŠ | F3: Přijímací řízení na VŠ i VOŠ
A4: Přehled za rok 1999/00 | F4: Přehled za rok 2000/01
A6: Počet podaných přihlášek, uchazečů a zapsaných | F6: Počet podaných přihlášek, uchazečů a zapsaných
B7: VŠ | C7: VOŠ | D7: celkem | G7: VŠ | H7: VOŠ | I7: celkem
A8: podané přihlášky | B8: 233819 | C8: 35902 | D8: =B8+C8 -> 269721 | F8: podané přihlášky | G8: 208173 | H8: 21220 | I8: 229393
A9: z toho "čerstvých" absolventů | B9: 136311 | C9: 27116 | D9: 163427 | F9: z toho "čerstvých" absolventů | G9: 61516 | H9: 8102 | I9: 69618
A10: přijetí1) | B10: 66337 | C10: 16940 | D10: 83277 | F10: přijetí1) | G10: 61049 | H10: 11286 | I10: 72335
A11: z toho "čerstvých" absolventů | B11: 40271 | C11: 12054 | D11: 52325 | F11: z toho "čerstvých" absolventů | G11: 21462 | H11: 4023 | I11: 25485
A12: zápisy2) | B12: 47425 | C12: 13705 | D12: 61130 | F12: zápisy2) | G12: 47091 | H12: 8873 | I12: 55964
A13: z toho "čerstvých" absolventů | B13: 26059 | C13: 9628 | D13: 35687 | F13: z toho "čerstvých" absolventů | G13: 13664 | H13: 3099 | I13: 16763
A14: přihlášky uchazečů, kteří se dostavili k přij. řízení | B14: 185636 | C14: 29549 | D14: 215185 | F14: přihlášky uchazečů, kteří se dostavili k přij. řízení | G14: 165603 | H14: 16853 | I14: 182456
A15: z toho "čerstvých" absolventů | B15: 108820 | C15: 22162 | D15: 130982 | F15: z toho "čerstvých" absolventů | G15: 49385 | H15: 6309 | I15: 55694
B18: VŠ | C18: VOŠ | D18: celkem | G18: VŠ | H18: VOŠ | I18: celkem
A19: uchazeči | B19: 105437 | C19: 24551 | D19: 116644 | F19: uchazeči | G19: 103485 | H19: 15406 | I19: 110486
A20: z toho "čerstvých" absolventů | B20: 49617 | C20: 18449 | D20: 57212 | F20: z toho "čerstvých" absolventů | G20: 20338 | H20: 5978 | I20: 22971
A21: přijatí | B21: 47405 | C21: 15398 | D21: 52137 | F21: přijatí | G21: 45214 | H21: 10446 | I21: 54456
A22: z toho "čerstvých" absolventů | B22: 25460 | C22: 10944 | D22: 28229 | F22: z toho "čerstvých" absolventů | G22: 12374 | H22: 3732 | I22: 15578
A23: zapsaní | B23: 44554 | C23: 13456 | D23: 48512 | F23: zapsaní | G23: 43713 | H23: 8797 | I23: 52248
A24: z toho "čerstvých" absolventů | B24: 24054 | C24: 9452 | D24: 25788 | F24: z toho "čerstvých" absolventů | G24: 12009 | H24: 3073 | I24: 14984
A25: uchazeči, kteří se dostavili alespoň k jednomu přij. řízení | B25: 94142 | C25: 21322 | D25: 104542 | F25: uchazeči, kteří se dostavili alespoň k jednomu přij. řízení | G25: 90800 | H25: 13598 | I25: 97624
A26: z toho "čerstvých" absolventů | B26: 46008 | C26: 19602 | D26: 54852 | F26: z toho "čerstvých" absolventů | G26: 18975 | H26: 5171 | I26: 21462
B29: zároveň VŠ i VOŠ | C29: jen VŠ | D29: jen VOŠ | G29: zároveň VŠ i VOŠ | H29: jen VŠ | I29: jen VOŠ
A30: uchazeči | B30: 13344 | C30: 92093 | D30: 11207 | F30: uchazeči | G30: 8405 | H30: 95080 | I30: 7001
A31: z toho "čerstvých" absolventů | B31: 10854 | C31: 38763 | D31: 7595 | F31: z toho "čerstvých" absolventů | G31: 3345 | H31: 16993 | I31: 2633
A32: přijatí | B32: 10666 | C32: 36739 | D32: 4732 | F32: přijatí | G32: 1204 | H32: 44010 | I32: 9242
A33: z toho "čerstvých" absolventů | B33: 8175 | C33: 17285 | D33: 2769 | F33: z toho "čerstvých" absolventů | G33: 528 | H33: 11846 | I33: 3204
A34: zapsaní | B34: 9498 | C34: 35056 | D34: 3958 | F34: zapsaní | G34: 262 | H34: 43451 | I34: 8535
A35: z toho "čerstvých" absolventů | B35: 7718 | C35: 16336 | D35: 1734 | F35: z toho "čerstvých" absolventů | G35: 98 | H35: 11911 | I35: 2975
A36: uchazeči, kteří se dostavili alespoň k jednomu přij. řízení | B36: 10922 | C36: 83220 | D36: =D25-B36-C36 -> 10400 | F36: uchazeči, kteří se dostavili alespoň k jednomu přij. řízení | G36: 6774 | H36: 84026 | I36: 6824
A37: z toho "čerstvých" absolventů | B37: 10758 | C37: 35250 | D37: =D26-B37-C37 -> 8844 | F37: z toho "čerstvých" absolventů | G37: 2684 | H37: 16291 | I37: 2487
A39: Pozn:
A40: 1) přijetí – počet "přijatých" přihlášek (každý uchazeč je započítán tolikrát, kolikrát byl přijat)
A41: 2) zápisy – počet "zapsaných" přihlášek (každý uchazeč je započítán tolikrát, kolikrát se zapsal ke studiu)
A43: Přijímací řízení na VŠ i VOŠ | F43: Přijímací řízení na VŠ i VOŠ
A44: Přehled za rok 2001/02 | F44: Přehled za rok 2002/03
A46: Počet podaných přihlášek, uchazečů a zapsaných | F46: Počet podaných přihlášek, uchazečů a zapsaných
B47: VŠ | C47: VOŠ | D47: celkem | G47: VŠ | H47: VOŠ | I47: celkem
A48: podané přihlášky | B48: 237452 | C48: 28211 | D48: 265663 | F48: podané přihlášky | G48: 234026 | H48: 29450 | I48: 263476
A49: z toho "čerstvých" absolventů | B49: 149480 | C49: 21198 | D49: 170678 | F49: z toho "čerstvých" absolventů | G49: 129534 | H49: 20405 | I49: 149939
...

Sheet čerství absolventi
A1: Podíl uchazečů, kteří se hlásí na vysokou či vyšší odbornou školu bezprostředně po ukončení střední školy, na celkovém počtu absolventů maturitních oborů středních škol
A2: denní formy vzdělávání v letech 1999/2000-2025/26
B4: 1999/2000 | C4: 2000/01 | D4: 2001/02 | E4: 2002/03 | F4: 2003/04 | G4: 2004/05 | H4: 2005/06 | I4: 2006/07 | J4: 2007/08 | K4: 2008/09 | L4: 2009/10 | M4: 2010/11 | N4: 2011/12 | O4: 2012/13 | P4: 2013/14 | Q4: 2014/15 | R4: 2015/16 | S4: 2016/17 | T4: 2017/18 | U4: 2018/19 | V4: 2019/20 | W4: 2020/21 | X4: 2021/22 | Y4: 2022/23 | Z4: 2023/24 | AA4: 2024/25 | AB4: 2025/26
A5: vysoké a vyšší odborné školy celkem
A6: přihlášení | B6: =+B29/B28 -> 0.62837185 | C6: =+C29/C28 -> 0.65507899 | D6: =+D29/D28 -> 0.7524169 | E6: =+E29/E28 -> 0.69898772 | F6: =+F29/F28 -> 0.74915882 | G6: =+G29/G28 -> 0.75408572 | H6: =+H29/H28 -> 0.74626866 | I6: =+I29/I28 -> 0.74209115 | ... AB6: =+AB29/AB28 -> 0.87354243
A7: přijatí | B7: =+B31/B28 -> 0.31004525 | C7: =+C31/C28 -> 0.44424799 | D7: =+D31/D28 -> 0.52639783 | E7: =+E31/E28 -> 0.50411661 | F7: =+F31/F28 -> 0.55458521 | G7: =+G31/G28 -> 0.56503483 | H7: =+H31/H28 -> 0.57205271 | I7: =+I31/I28 -> 0.60810035 | ... AB7: =+AB31/AB28 -> 0.76752993
A8: zapsaní | B8: =+B33/B28 -> 0.28323522 | C8: =+C33/C28 -> 0.4273085 | D8: =+D33/D28 -> 0.50946931 | E8: =+E33/E28 -> 0.48686732 | F8: =+F33/F28 -> 0.53919827 | G8: =+G33/G28 -> 0.55014874 | H8: =+H33/H28 -> 0.55393916 | I8: =+I33/I28 -> 0.58865763 | ... AB8: =+AB33/AB28 -> 0.74873642
A9: vysoké školy
A10: přihlášení na VŠ | B10: =+B36/B$28 -> 0.54495431 | C10: =+C36/C$28 -> 0.57999202 | D10: =+D36/D$28 -> 0.67540441 | E10: =+E36/E$28 -> 0.61008233 | F10: =+F36/F$28 -> 0.65904251 | G10: =+G36/G$28 -> 0.68616793 | H10: =+H36/H$28 -> 0.68095834 | I10: =+I36/I$28 -> 0.70690685 | ... AB10: =+AB36/AB$28 -> 0.841266
A11: přijatí na VŠ | B11: =B38/B$28 -> 0.27963272 | C11: =C38/C$28 -> 0.35287743 | D11: =D38/D$28 -> 0.41182262 | E11: =E38/E$28 -> 0.39241463 | F11: =F38/F$28 -> 0.44725467 | G11: =G38/G$28 -> 0.4745798 | H11: =H38/H$28 -> 0.48725912 | I11: =I38/I$28 -> 0.52749505 | ... AB11: =AB38/AB$28 -> 0.70989649
A12: zapsaní na VŠ | B12: =+B40/B$28 -> 0.26419032 | C12: =+C40/C$28 -> 0.34246849 | D12: =+D40/D$28 -> 0.40073293 | E12: =+E40/E$28 -> 0.3799838 | F12: =+F40/F$28 -> 0.43550968 | G12: =+G40/G$28 -> 0.4630847 | H12: =+H40/H$28 -> 0.4728651 | I12: =+I40/I$28 -> 0.5112147 | ... AB12: =+AB40/AB$28 -> 0.69134502
A13: vyšší odborné školy
A14: přihlášení na VOŠ | B14: =+B43/B$28 -> 0.20262938 | C14: =+C43/C$28 -> 0.17047853 | D14: =+D43/D$28 -> 0.20296454 | E14: =+E43/E$28 -> 0.20461601 | F14: =+F43/F$28 -> 0.20974632 | G14: =+G43/G$28 -> 0.17161849 | H14: =+H43/H$28 -> 0.15472086 | I14: =+I43/I$28 -> 0.13009054 | ... AB14: =+AB43/AB$28 -> 0.10313652
A15: přijatí na VOŠ | B15: =+B45/B$28 -> 0.12020033 | C15: =+C45/C$28 -> 0.10642788 | D15: =+D45/D$28 -> 0.12251986 | E15: =+E45/E$28 -> 0.13366176 | F15: =+F45/F$28 -> 0.12787166 | G15: =+G45/G$28 -> 0.10848727 | H15: =+H45/H$28 -> 0.10235216 | I15: =+I45/I$28 -> 0.096358589 | ... AB15: =+AB45/AB$28 -> 0.080085995
A16: zapsaní na VOŠ | B16: =+B47/B$28 -> 0.10381337 | C16: =+C47/C$28 -> 0.087634746 | D16: =+D47/D$28 -> 0.11197714 | E16: =+E47/E$28 -> 0.11113511 | F16: =+F47/F$28 -> 0.10748176 | G16: =+G47/G$28 -> 0.090185709 | H16: =+H47/H$28 -> 0.084167769 | I16: =+I47/I$28 -> 0.080464751 | ... AB16: =+AB47/AB$28 -> 0.06290132
A18: Podíl uchazečů, kteří se hlásí na vysokou či vyšší odbornou školu bezprostředně po ukončení střední školy, na celkovém počtu absolventů maturitních oborů středních škol
A19: denní formy vzdělávání v letech 1999/2000-2025/26
A27: maturanti celkem
A28: maturanti | B28: =+vše_terc!D19*1000 -> 91048 | C28: =+vše_terc!E19*1000 -> 35066 | D28: =+vše_terc!F19*1000 -> 73131 | E28: =+vše_terc!G19*1000 -> 74090 | F28: =+vše_terc!H19*1000 -> 79353 | G28: =+vše_terc!I19*1000 -> 81687 | H28: =+vše_terc!J19*1000 -> 84688 | I28: =+vše_terc!K19*1000 -> 85379 | ... AB28: =+vše_terc!AD19*1000 -> 70237
A29: přihlášení | B29: =+'1999 - 2025'!D20 -> 57212 | C29: =+'1999 - 2025'!I20 -> 22971 | D29: =+'1999 - 2025'!D60 -> 55025 | E29: =+'1999 - 2025'!I60 -> 51788 | F29: =+'1999 - 2025'!D100 -> 59448 | G29: =+'1999 - 2025'!I100 -> 61599 | H29: =+'1999 - 2025'!D140 -> 63200 | I29: =+'1999 - 2025'!I140 -> 63359 | J29: =+'1999 - 2025'!D180 -> 66828 | K29: =+'1999 - 2025'!I180 -> 66920 | L29: =+'1999 - 2025'!D220 -> 70129 | M29: =+'1999 - 2025'!I220 -> 72587 | N29: =+'1999 - 2025'!D260 -> 68706 | O29: =+'1999 - 2025'!I260 -> 66873 | P29: =+'1999 - 2025'!D300 -> 62002 | Q29: =+'1999 - 2025'!I300 -> 53431 | R29: =+'1999 - 2025'!D340 -> 50240 | S29: =+'1999 - 2025'!I340 -> 47706 | T29: =+'1999 - 2025'!D380 -> 47460 | U29: =+'1999 - 2025'!I380 -> 47556 | V29: =+'1999 - 2025'!D420 -> 49058 | W29: =+'1999 - 2025'!I420 -> 49641 | X29: =+'1999 - 2025'!D460 -> 52633 | Y29: =+'1999 - 2025'!I460 -> 50739 | Z29: =+'1999 - 2025'!D500 -> 53781 | AA29: =+'1999 - 2025'!I500 -> 58623 | AB29: =+'1999 - 2025'!D540 -> 61355
A31: přijatí | B31: =+'1999 - 2025'!D22 -> 28229 | C31: =+'1999 - 2025'!I22 -> 15578 | D31: =+'1999 - 2025'!D62 -> 38496 | E31: =+'1999 - 2025'!I62 -> 37350 | F31: =+'1999 - 2025'!D102 -> 44008 | G31: =+'1999 - 2025'!I102 -> 46156 | H31: =+'1999 - 2025'!D142 -> 48446 | I31: =+'1999 - 2025'!I142 -> 51919 | J31: =+'1999 - 2025'!D182 -> 54230 | K31: =+'1999 - 2025'!I182 -> 55645 | L31: =+'1999 - 2025'!D222 -> 59010 | M31: =+'1999 - 2025'!I222 -> 60225 | N31: =+'1999 - 2025'!D262 -> 56080 | O31: =+'1999 - 2025'!I262 -> 53950 | P31: =+'1999 - 2025'!D302 -> 51253 | Q31: =+'1999 - 2025'!I302 -> 43864 | R31: =+'1999 - 2025'!D342 -> 40984 | S31: =+'1999 - 2025'!I342 -> 39276 | T31: =+'1999 - 2025'!D382 -> 40380 | U31: =+'1999 - 2025'!I382 -> 40778 | V31: =+'1999 - 2025'!D422 -> 42767 | W31: =+'1999 - 2025'!I422 -> 44439 | X31: =+'1999 - 2025'!D462 -> 47131 | Y31: =+'1999 - 2025'!I462 -> 43879 | Z31: =+'1999 - 2025'!D502 -> 46688 | AA31: =+'1999 - 2025'!I502 -> 51180 | AB31: =+'1999 - 2025'!D542 -> 53909
A33: zapsaní | B33: =+'1999 - 2025'!D24 -> 25788 | C33: =+'1999 - 2025'!I24 -> 14984 | D33: =+'1999 - 2025'!D64 -> 37258 | E33: =+'1999 - 2025'!I64 -> 36072 | F33: =+'1999 - 2025'!D104 -> 42787 | G33: =+'1999 - 2025'!I104 -> 44940 | H33: =+'1999 - 2025'!D144 -> 46912 | I33: =+'1999 - 2025'!I144 -> 50259 | J33: =+'1999 - 2025'!D184 -> 52288 | K33: =+'1999 - 2025'!I184 -> 53680 | L33: =+'1999 - 2025'!D224 -> 56674 | M33: =+'1999 - 2025'!I224 -> 58197 | N33: =+'1999 - 2025'!D264 -> 53831 | O33: =+'1999 - 2025'!I264 -> 51852 | P33: =+'1999 - 2025'!D304 -> 49245 | Q33: =+'1999 - 2025'!I304 -> 42023 | R33: =+'1999 - 2025'!D344 -> 39263 | S33: =+'1999 - 2025'!I344 -> 37852 | T33: =+'1999 - 2025'!D384 -> 38689 | U33: =+'1999 - 2025'!I384 -> 39017 | V33: =+'1999 - 2025'!D424 -> 41100 | W33: =+'1999 - 2025'!I424 -> 43134 | X33: =+'1999 - 2025'!D464 -> 45861 | Y33: =+'1999 - 2025'!I464 -> 42673 | Z33: =+'1999 - 2025'!D504 -> 45582 | AA33: =+'1999 - 2025'!I504 -> 49908 | AB33: =+'1999 - 2025'!D544 -> 52589
A35: na VŠ
A36: přihlášení | B36: =+'1999 - 2025'!B20 -> 49617 | C36: =+'1999 - 2025'!G20 -> 20338 | D36: =+'1999 - 2025'!B60 -> 49393 | E36: =+'1999 - 2025'!G60 -> 45201 | F36: =+'1999 - 2025'!B100 -> 52297 | G36: =+'1999 - 2025'!G100 -> 56051 | H36: =+'1999 - 2025'!B140 -> 57669 | I36: =+'1999 - 2025'!G140 -> 60355 | J36: =+'1999 - 2025'!B180 -> 62507 | K36: =+'1999 - 2025'!G180 -> 61700 | L36: =+'1999 - 2025'!B220 -> 65339 | M36: =+'1999 - 2025'!G220 -> 68243 | N36: =+'1999 - 2025'!B260 -> 65207 | O36: =+'1999 - 2025'!G260 -> 63505 | P36: =+'1999 - 2025'!B300 -> 59143 | Q36: =+'1999 - 2025'!G300 -> 50927 | R36: =+'1999 - 2025'!B340 -> 47908 | S36: =+'1999 - 2025'!G340 -> 45510 | T36: =+'1999 - 2025'!B380 -> 45490 | U36: =+'1999 - 2025'!G380 -> 45696 | V36: =+'1999 - 2025'!B420 -> 47205 | W36: =+'1999 - 2025'!G420 -> 47592 | X36: =+'1999 - 2025'!B460 -> 50432 | Y36: =+'1999 - 2025'!G460 -> 50073 | Z36: =+'1999 - 2025'!B500 -> 53067 | AA36: =+'1999 - 2025'!G500 -> 56451 | AB36: =+'1999 - 2025'!B540 -> 59088
A38: přijatí | B38: =+'1999 - 2025'!B22 -> 25460 | C38: =+'1999 - 2025'!G22 -> 12374 | D38: =+'1999 - 2025'!B62 -> 30117 | E38: =+'1999 - 2025'!G62 -> 29074 | F38: =+'1999 - 2025'!B102 -> 35491 | G38: =+'1999 - 2025'!G102 -> 38767 | H38: =+'1999 - 2025'!B142 -> 41265 | I38: =+'1999 - 2025'!G142 -> 45037 | J38: =+'1999 - 2025'!B182 -> 47866 | K38: =+'1999 - 2025'!G182 -> 49441 | L38: =+'1999 - 2025'!B222 -> 52642 | M38: =+'1999 - 2025'!G222 -> 53734 | N38: =+'1999 - 2025'!B262 -> 50584 | O38: =+'1999 - 2025'!G262 -> 48412 | P38: =+'1999 - 2025'!B302 -> 46011 | Q38: =+'1999 - 2025'!G302 -> 39257 | R38: =+'1999 - 2025'!B342 -> 36935 | S38: =+'1999 - 2025'!G342 -> 36008 | T38: =+'1999 - 2025'!B382 -> 37387 | U38: =+'1999 - 2025'!G382 -> 37938 | V38: =+'1999 - 2025'!B422 -> 39862 | W38: =+'1999 - 2025'!G422 -> 41453 | X38: =+'1999 - 2025'!B462 -> 43328 | Y38: =+'1999 - 2025'!G462 -> 41551 | Z38: =+'1999 - 2025'!B502 -> 44110 | AA38: =+'1999 - 2025'!G502 -> 47324 | AB38: =+'1999 - 2025'!B542 -> 49861
A40: zapsaní | B40: =+'1999 - 2025'!B24 -> 24054 | C40: =+'1999 - 2025'!G24 -> 12009 | D40: =+'1999 - 2025'!B64 -> 29306 | E40: =+'1999 - 2025'!G64 -> 28153 | F40: =+'1999 - 2025'!B104 -> 34559 | G40: =+'1999 - 2025'!G104 -> 37828 | H40: =+'1999 - 2025'!B144 -> 40046 | I40: =+'1999 - 2025'!G144 -> 43647 | J40: =+'1999 - 2025'!B184 -> 46303 | K40: =+'1999 - 2025'!G184 -> 47773 | L40: =+'1999 - 2025'!B224 -> 50504 | M40: =+'1999 - 2025'!G224 -> 51887 | N40: =+'1999 - 2025'!B264 -> 48499 | O40: =+'1999 - 2025'!G264 -> 46298 | P40: =+'1999 - 2025'!B304 -> 44030 | Q40: =+'1999 - 2025'!G304 -> 37396 | R40: =+'1999 - 2025'!B344 -> 35232 | S40: =+'1999 - 2025'!G344 -> 34366 | T40: =+'1999 - 2025'!B384 -> 35681 | U40: =+'1999 - 2025'!G384 -> 36197 | V40: =+'1999 - 2025'!B424 -> 38160 | W40: =+'1999 - 2025'!G424 -> 40108 | X40: =+'1999 - 2025'!B464 -> 42030 | Y40: =+'1999 - 2025'!G464 -> 40338 | Z40: =+'1999 - 2025'!B504 -> 42949 | AA40: =+'1999 - 2025'!G504 -> 46070 | AB40: =+'1999 - 2025'!B544 -> 48558
A42: na VOŠ
A43: přihlášení | B43: =+'1999 - 2025'!C20 -> 18449 | C43: =+'1999 - 2025'!H20 -> 5978 | D43: =+'1999 - 2025'!C60 -> 14843 | E43: =+'1999 - 2025'!H60 -> 15160 | F43: =+'1999 - 2025'!C100 -> 16644 | G43: =+'1999 - 2025'!H100 -> 14019 | H43: =+'1999 - 2025'!C140 -> 13103 | I43: =+'1999 - 2025'!H140 -> 11107 | J43: =+'1999 - 2025'!C180 -> 10022 | K43: =+'1999 - 2025'!H180 -> 10205 | L43: =+'1999 - 2025'!C220 -> 10379 | M43: =+'1999 - 2025'!H220 -> 10392 | N43: =+'1999 - 2025'!C260 -> 8932 | O43: =+'1999 - 2025'!H260 -> 9565 | P43: =+'1999 - 2025'!C300 -> 8060 | Q43: =+'1999 - 2025'!H300 -> 7173 | R43: =+'1999 - 2025'!C340 -> 6338 | S43: =+'1999 - 2025'!H340 -> 5638 | T43: =+'1999 - 2025'!C380 -> 4962 | U43: =+'1999 - 2025'!H380 -> 4631 | V43: =+'1999 - 2025'!C420 -> 4794 | W43: =+'1999 - 2025'!H420 -> 4987 | X43: =+'1999 - 2025'!C460 -> 6028 | Y43: =+'1999 - 2025'!H460 -> 5543 | Z43: =+'1999 - 2025'!C500 -> 6066 | AA43: =+'1999 - 2025'!H500 -> 6423 | AB43: =+'1999 - 2025'!C540 -> 7244
A45: přijatí | B45: =+'1999 - 2025'!C22 -> 10944 | C45: =+'1999 - 2025'!H22 -> 3732 | D45: =+'1999 - 2025'!C62 -> 8960 | E45: =+'1999 - 2025'!H62 -> 9903 | F45: =+'1999 - 2025'!C102 -> 10147 | G45: =+'1999 - 2025'!H102 -> 8862 | H45: =+'1999 - 2025'!C142 -> 8668 | I45: =+'1999 - 2025'!H142 -> 8227 | J45: =+'1999 - 2025'!C182 -> 7878 | K45: =+'1999 - 2025'!H182 -> 7646 | L45: =+'1999 - 2025'!C222 -> 8031 | M45: =+'1999 - 2025'!H222 -> 7989 | N45: =+'1999 - 2025'!C262 -> 6888 | O45: =+'1999 - 2025'!H262 -> 6942 | P45: =+'1999 - 2025'!C302 -> 6530 | Q45: =+'1999 - 2025'!H302 -> 5790 | R45: =+'1999 - 2025'!C342 -> 5114 | S45: =+'1999 - 2025'!H342 -> 3835 | T45: =+'1999 - 2025'!C382 -> 3990 | U45: =+'1999 - 2025'!H382 -> 3726 | V45: =+'1999 - 2025'!C422 -> 3901 | W45: =+'1999 - 2025'!H422 -> 3974 | X45: =+'1999 - 2025'!C462 -> 4967 | Y45: =+'1999 - 2025'!H462 -> 4347 | Z45: =+'1999 - 2025'!C502 -> 4713 | AA45: =+'1999 - 2025'!H502 -> 5067 | AB45: =+'1999 - 2025'!C542 -> 5625
A47: zapsaní | B47: =+'1999 - 2025'!C24 -> 9452 | C47: =+'1999 - 2025'!H24 -> 3073 | D47: =+'1999 - 2025'!C64 -> 8189 | E47: =+'1999 - 2025'!H64 -> 8234 | F47: =+'1999 - 2025'!C104 -> 8529 | G47: =+'1999 - 2025'!H104 -> 7367 | H47: =+'1999 - 2025'!C144 -> 7128 | I47: =+'1999 - 2025'!H144 -> 6870 | J47: =+'1999 - 2025'!C184 -> 6304 | K47: =+'1999 - 2025'!H184 -> 6265 | L47: =+'1999 - 2025'!C224 -> 6520 | M47: =+'1999 - 2025'!H224 -> 6711 | N47: =+'1999 - 2025'!C264 -> 5657 | O47: =+'1999 - 2025'!H264 -> 5920 | P47: =+'1999 - 2025'!C304 -> 5546 | Q47: =+'1999 - 2025'!H304 -> 4983 | R47: =+'1999 - 2025'!C344 -> 4332 | S47: =+'1999 - 2025'!H344 -> 3835 | T47: =+'1999 - 2025'!C384 -> 3358 | U47: =+'1999 - 2025'!H384 -> 3141 | V47: =+'1999 - 2025'!C424 -> 3294 | W47: =+'1999 - 2025'!H424 -> 3375 | X47: =+'1999 - 2025'!C464 -> 4218 | Y47: =+'1999 - 2025'!H464 -> 3547 | Z47: =+'1999 - 2025'!C504 -> 3958 | AA47: 4218 | AB47: =+'1999 - 2025'!C544 -> 4418

Sheet vše _ kam
A1: Uchazeči o studium na VŠ a VOŠ v letech 1999/00–2025/26
A2: Počet přihlášených, přijatých a zapsaných ke studiu na terciární úrovni vzdělávání (VŠ a VOŠ) v letech 1999/00–2025/26
B3: 1999/2000 | C3: 2000/01 | D3: 2001/02 | E3: 2002/03 | F3: 2003/04 | G3: 2004/05 | H3: 2005/06 | I3: 2006/07 | J3: 2007/08 | K3: 2008/09 | L3: 2009/10 | M3: 2010/11 | N3: 2011/12 | O3: 2012/13 | P3: 2013/14 | Q3: 2014/15 | R3: 2015/16 | S3: 2016/17 | T3: 2017/18 | U3: 2018/19 | V3: 2019/20 | W3: 2020/21 | X3: 2021/22 | Y3: 2022/23 | Z3: 2023/24 | AA3: 2024/25 | AB3: 2025/26
A4: přihlášení
A5: jen na VŠ | B5: 92093 | C5: 95080 | D5: 93395 | E5: 96910 | F5: 104670 | G5: 118759 | H5: 120506 | I5: 129355 | J5: 138575 | K5: 140095 | L5: 138742 | M5: 141912 | N5: 141199 | O5: 132806 | P5: ='1999 - 2025'!C310 -> 126233 | Q5: ='1999 - 2025'!H310 -> 114385 | R5: ='1999 - 2025'!C350 -> 106872 | S5: ='1999 - 2025'!H350 -> 97464 | T5: ='1999 - 2025'!C390 -> 93307 | U5: ='1999 - 2025'!H390 -> 90828 | V5: ='1999 - 2025'!C430 -> 93605 | W5: ='1999 - 2025'!H430 -> 94275 | X5: ='1999 - 2025'!C470 -> 96479 | Y5: ='1999 - 2025'!H470 -> 94952 | Z5: ='1999 - 2025'!C510 -> 98385 | AA5: ='1999 - 2025'!H510 -> 100593 | AB5: ='1999 - 2025'!C550 -> 104015
A6: jen na VOŠ | B6: 11207 | C6: 7001 | D6: 8714 | E6: 10282 | F6: 11465 | G6: 9001 | H6: 9013 | I6: 8683 | J6: 9258 | K6: 9522 | L6: 9818 | M6: 10365 | N6: 9450 | O6: 9357 | P6: ='1999 - 2025'!D310 -> 8762 | Q6: ='1999 - 2025'!I310 -> 8329 | R6: ='1999 - 2025'!D350 -> 8112 | S6: ='1999 - 2025'!I350 -> 7324 | T6: ='1999 - 2025'!D390 -> 7017 | U6: ='1999 - 2025'!I390 -> 6664 | V6: ='1999 - 2025'!D430 -> 6394 | W6: ='1999 - 2025'!I430 -> 6961 | X6: ='1999 - 2025'!D470 -> 7840 | Y6: ='1999 - 2025'!I470 -> 7429 | Z6: ='1999 - 2025'!D510 -> 8047 | AA6: ='1999 - 2025'!I510 -> 8125 | AB6: ='1999 - 2025'!D550 -> 8598
A7: na VŠ a VOŠ | B7: 13344 | C7: 8405 | D7: 11605 | E7: 11938 | F7: 12874 | G7: 11594 | H7: 10428 | I7: 8481 | J7: 8226 | K7: 7181 | L7: 7878 | M7: 8676 | N7: 8414 | O7: 8248 | P7: ='1999 - 2025'!B310 -> 8024 | Q7: ='1999 - 2025'!G310 -> 7376 | R7: ='1999 - 2025'!B350 -> 6285 | S7: ='1999 - 2025'!G350 -> 5375 | T7: ='1999 - 2025'!B390 -> 4715 | U7: ='1999 - 2025'!G390 -> 4342 | V7: ='1999 - 2025'!B430 -> 4522 | W7: ='1999 - 2025'!G430 -> 4593 | X7: ='1999 - 2025'!B470 -> 5876 | Y7: ='1999 - 2025'!G470 -> 5997 | Z7: ='1999 - 2025'!B510 -> 6211 | AA7: ='1999 - 2025'!G510 -> 6700 | AB7: ='1999 - 2025'!B550 -> 7357
A8: Celkem | B8: =SUM(B5:B7) -> 116644 | C8: =+'vše _ druh studia '!D24 -> 110486 | D8: 113714 | E8: 119130 | F8: 129009 | G8: 139354 | H8: 139947 | I8: 146519 | J8: 156059 | K8: 156798 | L8: 156438 | M8: 160953 | N8: 159063 | O8: 150411 | P8: =SUM(P5:P7) -> 143019 | Q8: =SUM(Q5:Q7) -> 130090 | R8: =SUM(R5:R7) -> 121269 | S8: =SUM(S5:S7) -> 110163 | T8: =SUM(T5:T7) -> 105039 | U8: =SUM(U5:U7) -> 101834 | V8: =SUM(V5:V7) -> 104521 | W8: =SUM(W5:W7) -> 105829 | ... AB8: =SUM(AB5:AB7) -> 119970
A9: přihlášení, kteří se dostavili alespoň k jednomu přijímacímu řízení
A10: jen na VŠ | B10: 83220 | C10: 84026 | D10: 85276 | E10: 88971 | F10: 97067 | G10: 110549 | H10: 111926 | I10: 120312 | J10: 128517 | K10: 130259 | L10: 130203 | M10: 132686 | N10: 132195 | O10: 123839 | P10: ='1999 - 2025'!C316 -> 117000 | Q10: ='1999 - 2025'!H316 -> 105073 | R10: ='1999 - 2025'!C356 -> 97771 | S10: ='1999 - 2025'!H356 -> 89253 | T10: ='1999 - 2025'!C396 -> 86688 | U10: ='1999 - 2025'!H396 -> 83977 | V10: ='1999 - 2025'!C436 -> 87966 | W10: ='1999 - 2025'!H436 -> 90633 | X10: ='1999 - 2025'!C476 -> 92098 | Y10: ='1999 - 2025'!H476 -> 88850 | Z10: ='1999 - 2025'!C516 -> 92356 | AA10: ='1999 - 2025'!H516 -> 94561 | AB10: ='1999 - 2025'!C556 -> 98080
A11: jen na VOŠ | B11: 11300 | C11: 6824 | D11: 8488 | E11: 10154 | F11: 11292 | G11: 8680 | H11: 8548 | I11: 8176 | J11: 8885 | K11: 8736 | L11: 9408 | M11: 10032 | N11: 9373 | O11: 9307 | P11: ='1999 - 2025'!D316 -> 8995 | Q11: ='1999 - 2025'!I316 -> 8441 | R11: ='1999 - 2025'!D356 -> 8112 | S11: ='1999 - 2025'!I356 -> 7324 | T11: ='1999 - 2025'!D396 -> 6921 | U11: ='1999 - 2025'!I396 -> 6245 | V11: ='1999 - 2025'!D436 -> 6131 | W11: ='1999 - 2025'!I436 -> 6818 | X11: ='1999 - 2025'!D476 -> 7733 | Y11: ='1999 - 2025'!I476 -> 7533 | Z11: ='1999 - 2025'!D516 -> 8235 | AA11: ='1999 - 2025'!I516 -> 8318 | AB11: ='1999 - 2025'!D556 -> 8863
A12: na VŠ a VOŠ | B12: 10922 | C12: 6774 | D12: 9091 | E12: 9366 | F12: 10102 | G12: 8897 | H12: 7761 | I12: 6813 | J12: 6715 | K12: 5857 | L12: 6564 | M12: 7386 | N12: 7085 | O12: 6889 | P12: ='1999 - 2025'!B316 -> 6766 | Q12: ='1999 - 2025'!G316 -> 5993 | R12: ='1999 - 2025'!B356 -> 5713 | S12: ='1999 - 2025'!G356 -> 4822 | T12: ='1999 - 2025'!B396 -> 3693 | U12: ='1999 - 2025'!G396 -> 3520 | V12: ='1999 - 2025'!B436 -> 3569 | W12: ='1999 - 2025'!G436 -> 3829 | X12: ='1999 - 2025'!B476 -> 4980 | Y12: ='1999 - 2025'!G476 -> 4941 | Z12: ='1999 - 2025'!B516 -> 5289 | AA12: ='1999 - 2025'!G516 -> 5631 | AB12: ='1999 - 2025'!B556 -> 6338
A13: Celkem | B13: 105442 | C13: 97624 | D13: 102855 | E13: 108491 | F13: 118461 | G13: 128126 | H13: 128235 | I13: 135301 | J13: 144117 | K13: 144852 | L13: 146175 | M13: 150104 | N13: 148653 | O13: 140035 | P13: =SUM(P10:P12) -> 132761 | Q13: =SUM(Q10:Q12) -> 119507 | R13: =SUM(R10:R12) -> 111596 | S13: =SUM(S10:S12) -> 101399 | T13: =SUM(T10:T12) -> 97302 | U13: =SUM(U10:U12) -> 93742 | V13: =SUM(V10:V12) -> 97666 | W13: =SUM(W10:W12) -> 101280 | ... AB13: =SUM(AB10:AB12) -> 113281
A14: přijatí
A15: jen na VŠ | B15: 45752 | C15: 44010 | D15: 52863 | E15: 58897 | F15: 67461 | G15: 73648 | H15: 77933 | I15: 87237 | J15: 95078 | K15: 101946 | L15: 103273 | M15: 104281 | N15: 101584 | O15: 96121 | P15: ='1999 - 2025'!C312 -> 91707 | Q15: ='1999 - 2025'!H312 -> 82853 | R15: ='1999 - 2025'!C352 -> 79381 | S15: ='1999 - 2025'!H352 -> 73837 | T15: ='1999 - 2025'!C392 -> 73027 | U15: ='1999 - 2025'!H392 -> 71882 | V15: ='1999 - 2025'!C432 -> 75882 | W15: ='1999 - 2025'!H432 -> 78220 | X15: ='1999 - 2025'!C472 -> 77794 | Y15: ='1999 - 2025'!H472 -> 74413 | Z15: ='1999 - 2025'!C512 -> 76979 | AA15: ='1999 - 2025'!H512 -> 79465 | AB15: ='1999 - 2025'!C552 -> 83958
A16: jen na VOŠ | B16: 13745 | C16: 9242 | D16: 12022 | E16: 12643 | F16: 13386 | G16: 11396 | H16: 11150 | I16: 10807 | J16: 11517 | K16: 10536 | L16: 11444 | M16: 12291 | N16: 11643 | O16: 11658 | P16: ='1999 - 2025'!D312 -> 11360 | Q16: ='1999 - 2025'!I312 -> 10382 | R16: ='1999 - 2025'!D352 -> 9074 | S16: ='1999 - 2025'!I352 -> 8067 | T16: ='1999 - 2025'!D392 -> 7905 | U16: ='1999 - 2025'!I392 -> 7548 | V16: ='1999 - 2025'!D432 -> 7297 | W16: ='1999 - 2025'!I432 -> 7632 | X16: ='1999 - 2025'!D472 -> 8966 | Y16: ='1999 - 2025'!I472 -> 8701 | Z16: ='1999 - 2025'!D512 -> 8874 | AA16: ='1999 - 2025'!I512 -> 9572 | AB16: ='1999 - 2025'!D552 -> 9934
A17: na VŠ a VOŠ | B17: 1653 | C17: 1204 | D17: 1813 | E17: 2180 | F17: 2121 | G17: 1965 | H17: 2053 | I17: 1838 | J17: 2112 | K17: 2057 | L17: 2297 | M17: 2156 | N17: 2177 | O17: 2140 | P17: ='1999 - 2025'!B312 -> 2007 | Q17: ='1999 - 2025'!G312 -> 1911 | R17: ='1999 - 2025'!B352 -> 958 | S17: ='1999 - 2025'!G352 -> 958 | T17: ='1999 - 2025'!B392 -> 1607 | U17: ='1999 - 2025'!G392 -> 1480 | V17: ='1999 - 2025'!B432 -> 1603 | W17: ='1999 - 2025'!G432 -> 1580 | X17: ='1999 - 2025'!B472 -> 1827 | Y17: ='1999 - 2025'!G472 -> 1725 | Z17: ='1999 - 2025'!B512 -> 1771 | AA17: ='1999 - 2025'!G512 -> 1963 | AB17: ='1999 - 2025'!B552 -> 2323
A18: Celkem | B18: =SUM(B15:B17) -> 61150 | C18: =+'vše _ druh studia '!J24 -> 52248 | D18: 66698 | E18: 73720 | F18: 82968 | G18: 87009 | H18: 91136 | I18: 99882 | J18: 108707 | K18: 114539 | L18: 117014 | M18: 118728 | N18: 115404 | O18: 109919 | P18: =SUM(P15:P17) -> 105074 | Q18: =SUM(Q15:Q17) -> 95146 | R18: =SUM(R15:R17) -> 89413 | S18: =SUM(S15:S17) -> 82862 | T18: =SUM(T15:T17) -> 82539 | U18: =SUM(U15:U17) -> 80910 | V18: =SUM(V15:V17) -> 84782 | W18: =SUM(W15:W17) -> 87432 | ... AB18: =SUM(AB15:AB17) -> 96215
A19: zapsaní
A20: jen na VŠ | B20: 44163 | C20: 43451 | D20: 52198 | E20: 57862 | F20: 66090 | G20: 71808 | H20: 75727 | I20: 85038 | J20: 92187 | K20: 98125 | L20: 99213 | M20: 100005 | N20: 97229 | O20: 91779 | P20: ='1999 - 2025'!C314 -> 87520 | Q20: ='1999 - 2025'!H314 -> 78409 | R20: ='1999 - 2025'!C354 -> 74246 | S20: ='1999 - 2025'!H354 -> 69232 | T20: ='1999 - 2025'!C394 -> 69283 | U20: ='1999 - 2025'!H394 -> 68168 | V20: ='1999 - 2025'!C434 -> 72094 | W20: ='1999 - 2025'!H434 -> 74987 | X20: ='1999 - 2025'!C474 -> 74609 | Y20: ='1999 - 2025'!H474 -> 72088 | Z20: ='1999 - 2025'!C514 -> 74576 | AA20: ='1999 - 2025'!H514 -> 77032 | AB20: ='1999 - 2025'!C554 -> 81663
A21: jen na VOŠ | B21: 13065 | C21: 8535 | D21: 11474 | E21: 12122 | F21: 13007 | G21: 10909 | H21: 10667 | I21: 10414 | J21: 10802 | K21: 10057 | L21: 10958 | M21: 11844 | N21: 11196 | O21: 11394 | P21: ='1999 - 2025'!D314 -> 11036 | Q21: ='1999 - 2025'!I314 -> 10156 | R21: ='1999 - 2025'!D354 -> 9431 | S21: ='1999 - 2025'!I354 -> 8394 | T21: ='1999 - 2025'!D394 -> 7668 | U21: ='1999 - 2025'!I394 -> 7249 | V21: ='1999 - 2025'!D434 -> 7189 | W21: ='1999 - 2025'!I434 -> 7458 | X21: ='1999 - 2025'!D474 -> 8713 | Y21: ='1999 - 2025'!I474 -> 8230 | Z21: ='1999 - 2025'!D514 -> 8545 | AA21: ='1999 - 2025'!I514 -> 9121 | AB21: ='1999 - 2025'!D554 -> 9473
A22: na VŠ a VOŠ | B22: 391 | C22: 262 | D22: 329 | E22: 480 | F22: 427 | G22: 391 | H22: 482 | I22: 444 | J22: 540 | K22: 601 | L22: 605 | M22: 671 | N22: 608 | O22: 649 | P22: ='1999 - 2025'!B314 -> 589 | Q22: ='1999 - 2025'!G314 -> 664 | R22: ='1999 - 2025'!B354 -> 601 | S22: ='1999 - 2025'!G354 -> 631 | T22: ='1999 - 2025'!B394 -> 636 | U22: ='1999 - 2025'!G394 -> 595 | V22: ='1999 - 2025'!B434 -> 636 | W22: ='1999 - 2025'!G434 -> 617 | X22: ='1999 - 2025'!B474 -> 656 | Y22: ='1999 - 2025'!G474 -> 625 | Z22: ='1999 - 2025'!B514 -> 639 | AA22: ='1999 - 2025'!G514 -> 639 | AB22: ='1999 - 2025'!B554 -> 660
A23: Celkem | B23: =SUM(B20:B22) -> 57619 | C23: 52248 | D23: 64001 | E23: 70464 | F23: 79524 | G23: 83108 | H23: 86876 | I23: 95896 | J23: 103529 | K23: 108783 | L23: 110776 | M23: 112520 | N23: 109033 | O23: 103822 | P23: =SUM(P20:P22) -> 99145 | Q23: =SUM(Q20:Q22) -> 89229 | R23: =SUM(R20:R22) -> 84278 | S23: =SUM(S20:S22) -> 78257 | T23: =SUM(T20:T22) -> 77587 | U23: =SUM(U20:U22) -> 76012 | V23: =SUM(V20:V22) -> 79919 | W23: =SUM(W20:W22) -> 83062 | ... AB23: =SUM(AB20:AB22) -> 91796
A25: Počet přihlášených, přijatých a zapsaných ke studiu na terciární úrovni vzdělávání (VŠ a VOŠ) v letech 1999/00–2025/26 (v %)
B26: 1999/2000 | C26: 2000/01 | D26: 2001/02 | E26: 2002/03 | F26: 2003/04 | G26: 2004/05 | H26: 2005/06 | I26: 2006/07 | J26: 2007/08 | K26: 2008/09 | L26: 2009/10 | M26: 2010/11 | N26: 2011/12 | O26: 2012/13 | P26: 2013/14 | Q26: 2014/15 | R26: 2015/16 | S26: 2016/17 | T26: 2017/18 | U26: 2018/19 | V26: 2019/20 | W26: 2020/21 | X26: 2020/21 | Y26: 2022/23 | Z26: 2023/24 | AA26: 2024/25 | AB26: 2025/26
A27: přihlášení
A28: jen na VŠ | B28: =+B5/B$8 -> 0.78952196 | C28: =+C5/C$8 -> 0.86056152 | D28: =+D5/D$8 -> 0.82131488 | E28: =+E5/E$8 -> 0.81348107 | F28: =F5/F8 -> 0.81133874 | G28: =G5/G8 -> 0.85221092 | H28: =H5/H8 -> 0.86108312 | I28: =I5/I8 -> 0.88285478 | J28: =J5/J8 -> 0.88796545 | K28: =K5/K8 -> 0.89347441 | L28: =L5/L8 -> 0.8868817 | M28: =M5/M8 -> 0.88169838 | N28: 0.8876923 | O28: =O5/O8 -> 0.88295404 | P28: =P5/P8 -> 0.88263098 | Q28: =Q5/Q8 -> 0.87927589 | R28: =R5/R8 -> 0.88128046 | S28: =S5/S8 -> 0.88472536 | T28: =T5/T8 -> 0.88830815 | U28: =U5/U8 -> 0.89192215 | V28: =V5/V8 -> 0.89556166 | ... AB28: =AB5/AB8 -> 0.86700842
A29: jen na VOŠ | B29: =+B6/B$8 -> 0.096078667 | C29: =+C6/C$8 -> 0.063365494 | D29: =+D6/D$8 -> 0.076630846 | E29: =+E6/E$8 -> 0.086309074 | F29: =F6/F8 -> 0.088869769 | G29: =G6/G8 -> 0.064590898 | H29: =H6/H8 -> 0.064402953 | I29: =I6/I8 -> 0.059261939 | J29: =J6/J8 -> 0.059323717 | K29: =K6/K8 -> 0.060727815 | L29: =L6/L8 -> 0.062759688 | M29: =M6/M8 -> 0.064397681 | N29: 0.059410422 | O29: =O6/O8 -> 0.062209546 | P29: =P6/P8 -> 0.061264587 | Q29: =Q6/Q8 -> 0.064024906 | R29: =R6/R8 -> 0.066892611 | S29: =S6/S8 -> 0.066483302 | T29: =T6/T8 -> 0.066803759 | U29: =U6/U8 -> 0.065439833 | V29: =V6/V8 -> 0.061174309 | ... AB29: =AB6/AB8 -> 0.071667917
A30: na VŠ a VOŠ | B30: =+B7/B$8 -> 0.11439937 | C30: =+C7/C$8 -> 0.076072987 | D30: =+D7/D$8 -> 0.10205428 | E30: =+E7/E$8 -> 0.10020985 | F30: =F7/F8 -> 0.099791487 | G30: =G7/G8 -> 0.083198186 | H30: =H7/H8 -> 0.074513923 | I30: =I7/I8 -> 0.057883278 | J30: =J7/J8 -> 0.052710834 | K30: =K7/K8 -> 0.045797778 | L30: =L7/L8 -> 0.050358609 | M30: =M7/M8 -> 0.053903935 | N30: 0.05289728 | O30: =O7/O8 -> 0.054836415 | P30: =P7/P8 -> 0.056104434 | Q30: =Q7/Q8 -> 0.056699208 | R30: =R7/R8 -> 0.05182693 | S30: =S7/S8 -> 0.048791336 | T30: =T7/T8 -> 0.044888089 | U30: =U7/U8 -> 0.042638019 | V30: =V7/V8 -> 0.043264033 | ... AB30: =AB7/AB8 -> 0.061323664
A31: Celkem | B31: =+B8/B$8 -> 1 | C31: =+C8/C$8 -> 1 | D31: =+D8/D$8 -> 1 | E31: =+E8/E$8 -> 1 | F31: 1 | G31: =G8/G8 -> 1 | H31: =H8/H8 -> 1 | I31: =I8/I8 -> 1 | J31: =J8/J8 -> 1 | K31: =K8/K8 -> 1 | L31: =L8/L8 -> 1 | M31: =M8/M8 -> 1 | N31: 1 | O31: =O8/O8 -> 1 | P31: =P8/P8 -> 1 | Q31: =Q8/Q8 -> 1 | R31: =R8/R8 -> 1 | S31: =S8/S8 -> 1 | T31: =T8/T8 -> 1 | U31: =U8/U8 -> 1 | V31: =V8/V8 -> 1 | ... AB31: =AB8/AB8 -> 1
A32: přihlášení, kteří se dostavili alespoň k jednomu přijímacímu řízení
A33: jen na VŠ | B33: =B10/B13 -> 0.78924907 | C33: =C10/C13 -> 0.86071048 | D33: =D10/D13 -> 0.82908949 | E33: =E10/E13 -> 0.82007724 | F33: =F10/F13 -> 0.81940048 | G33: =G10/G13 -> 0.86281473 | H33: =H10/H13 -> 0.87281943 | I33: =I10/I13 -> 0.88921737 | ... M33: =M10/M13 -> 0.88396045 | N33: 0.88928579 | O33: =O10/O13 -> 0.8843432 | P33: =P10/P13 -> 0.88128291 | Q33: =Q10/Q13 -> 0.87922046 | R33: =R10/R13 -> 0.87611563 | S33: =S10/S13 -> 0.88021578 | T33: =T10/T13 -> 0.89091694 | U33: =U10/U13 -> 0.89583111 | V33: =V10/V13 -> 0.90068192 | ... AB33: =AB10/AB13 -> 0.86581157
A34: jen na VOŠ | B34: =B11/B13 -> 0.10716792 | C34: =C11/C13 -> 0.069900844 | D34: =D11/D13 -> 0.082523941 | E34: =E11/E13 -> 0.093593017 | F34: =F11/F13 -> 0.095322511 | G34: =G11/G13 -> 0.067745813 | H34: =H11/H13 -> 0.066658868 | I34: =I11/I13 -> 0.06042823 | ... M34: =M11/M13 -> 0.066833662 | N34: 0.063052882 | O34: =O11/O13 -> 0.066461956 | P34: =P11/P13 -> 0.067753331 | Q34: =Q11/Q13 -> 0.070631846 | R34: =R11/R13 -> 0.072690777 | S34: =S11/S13 -> 0.072229509 | T34: =T11/T13 -> 0.071129062 | U34: =U11/U13 -> 0.066619018 | V34: =V11/V13 -> 0.062775173 | ... AB34: =AB11/AB13 -> 0.078239069
A35: na VŠ a VOŠ | B35: =B12/B13 -> 0.10358301 | C35: =C12/C13 -> 0.069388675 | D35: =D12/D13 -> 0.088386564 | E35: =E12/E13 -> 0.086329742 | F35: =F12/F13 -> 0.085277011 | G35: =G12/G13 -> 0.069439458 | H35: =H12/H13 -> 0.060521698 | I35: =I12/I13 -> 0.050354395 | ... M35: =M12/M13 -> 0.049205884 | N35: 0.047661332 | O35: =O12/O13 -> 0.049194844 | P35: =P12/P13 -> 0.050963762 | Q35: =Q12/Q13 -> 0.05014769 | R35: =R12/R13 -> 0.051193591 | S35: =S12/S13 -> 0.04755471 | T35: =T12/T13 -> 0.037953999 | U35: =U12/U13 -> 0.037549871 | V35: =V12/V13 -> 0.036542912 | ... AB35: =AB12/AB13 -> 0.055949365
A36: Celkem | B36: =B13/B13 -> 1 | C36: =C13/C13 -> 1 | D36: =D13/D13 -> 1 | E36: =E13/E13 -> 1 | F36: =F13/F13 -> 1 | G36: =G13/G13 -> 1 | H36: =H13/H13 -> 1 | I36: =I13/I13 -> 1 | ... M36: =M13/M13 -> 1 | N36: 1 | O36: =O13/O13 -> 1 | P36: =P13/P13 -> 1 | Q36: =Q13/Q13 -> 1 | R36: =R13/R13 -> 1 | S36: =S13/S13 -> 1 | T36: =T13/T13 -> 1 | U36: =U13/U13 -> 1 | V36: =V13/V13 -> 1 | ... AB36: =AB13/AB13 -> 1
A37: přijatí
A38: jen na VŠ | B38: =+B15/B$18 -> 0.74819297 | C38: =+C15/C$18 -> 0.84232889 | D38: =+D15/D$18 -> 0.79257249 | E38: =+E15/E$18 -> 0.79892838 | F38: =F15/F18 -> 0.81309662 | G38: =G15/G18 -> 0.84644117 | H38: =H15/H18 -> 0.8551286 | I38: =I15/I18 -> 0.87340061 | J38: =J15/J18 -> 0.87462629 | K38: =K15/K18 -> 0.89005492 | L38: =L15/L18 -> 0.88256961 | M38: =M15/M18 -> 0.87831851 | N38: 0.88024679 | O38: =O15/O18 -> 0.8744712 | P38: =P15/P18 -> 0.87278489 | Q38: =Q15/Q18 -> 0.87079856 | R38: =R15/R18 -> 0.88780155 | S38: =S15/S18 -> 0.89108397 | T38: =T15/T18 -> 0.88475751 | U38: =U15/U18 -> 0.88841923 | V38: =V15/V18 -> 0.89502489 | ... AB38: =AB15/AB18 -> 0.87260822
A39: jen na VOŠ | B39: =+B16/B$18 -> 0.22477514 | C39: =+C16/C$18 -> 0.17688715 | D39: =+D16/D$18 -> 0.18024528 | E39: =+E16/E$18 -> 0.17150027 | F39: =F16/F18 -> 0.16133931 | G39: =G16/G18 -> 0.13097496 | H39: =H16/H18 -> 0.12234463 | I39: =I16/I18 -> 0.10819767 | J39: =J16/J18 -> 0.10594534 | K39: =K16/K18 -> 0.091986136 | L39: =L16/L18 -> 0.097800263 | M39: =M16/M18 -> 0.10352234 | N39: 0.10088905 | O39: =O16/O18 -> 0.10605992 | P39: =P16/P18 -> 0.10811428 | Q39: =Q16/Q18 -> 0.10911652 | R39: =R16/R18 -> 0.10148412 | S39: =S16/S18 -> 0.097354638 | T39: =T16/T18 -> 0.095772907 | U39: =U16/U18 -> 0.093288839 | V39: =V16/V18 -> 0.086067797 | ... AB39: =AB16/AB18 -> 0.10324793
A40: na VŠ a VOŠ | B40: =+B17/B$18 -> 0.027031889 | C40: =+C17/C$18 -> 0.023043944 | D40: =+D17/D$18 -> 0.027182224 | E40: =+E17/E$18 -> 0.029571351 | F40: =F17/F18 -> 0.025564073 | G40: =G17/G18 -> 0.022583871 | H40: =H17/H18 -> 0.022526773 | I40: =I17/I18 -> 0.018401714 | J40: =J17/J18 -> 0.019428372 | K40: =K17/K18 -> 0.017958948 | L40: =L17/L18 -> 0.01963013 | M40: =M17/M18 -> 0.018159154 | N40: 0.018864164 | O40: =O17/O18 -> 0.019468882 | P40: =P17/P18 -> 0.019100824 | Q40: =Q17/Q18 -> 0.020084922 | R40: =R17/R18 -> 0.010714326 | S40: =S17/S18 -> 0.011561391 | T40: =T17/T18 -> 0.019469584 | U40: =U17/U18 -> 0.018291929 | V40: =V17/V18 -> 0.018907315 | ... AB40: =AB17/AB18 -> 0.024143845
A41: Celkem | B41: =+B18/B$18 -> 1 | C41: =+C18/C$18 -> 1 | D41: =+D18/D$18 -> 1 | E41: =+E18/E$18 -> 1 | F41: 1 | G41: =G18/G18 -> 1 | H41: =H18/H18 -> 1 | I41: =I18/I18 -> 1 | J41: =J18/J18 -> 1 | K41: =K18/K18 -> 1 | L41: =L18/L18 -> 1 | M41: =M18/M18 -> 1 | N41: 1 | O41: =O18/O18 -> 1 | P41: =P18/P18 -> 1 | Q41: =Q18/Q18 -> 1 | R41: =R18/R18 -> 1 | S41: =S18/S18 -> 1 | T41: =T18/T18 -> 1 | U41: =U18/U18 -> 1 | V41: =V18/V18 -> 1 | ... AB41: =AB18/AB18 -> 1
...

Sheet vše_terc
A1: Počet podaných přihlášek, přihlášených, přijatých a zapsaných ke studiu na terciární úrovni vzdělávání (VŠ a VOŠ) v letech 1999/00–2025/26 (v tis.)
B2: 1997/98 | C2: 1998/99 | D2: 1999/2000 | E2: 2000/01 | F2: 2001/02 | G2: 2002/03 | H2: 2003/04 | I2: 2004/05 | J2: 2005/06 | K2: 2006/07 | L2: 2007/08 | M2: 2008/09 | N2: 2009/10 | O2: 2010/11 | P2: 2011/12 | Q2: 2012/13 | R2: 2013/14 | S2: 2014/15 | T2: 2015/16 | U2: 2016/17 | V2: 2017/18 | W2: 2018/19 | X2: 2019/20 | Y2: 2020/21 | Z2: 2021/22 | AA2: 2022/23 | AB2: 2023/24 | AC2: 2024/25 | AD2: 2025/26
A3: počet podaných přihlášek | B3: 291.3 | C3: 294.8 | D3: 269.7 | E3: 229.393 | F3: 265.663 | G3: 263.476 | H3: 285.946 | I3: 312 | J3: 319.7 | K3: 326 | L3: 345 | M3: 339.262 | N3: =345616/1000 -> 345.616 | O3: 353.682 | P3: 351.424 | Q3: =+'vše _ druh studia '!C144/1000 -> 330.443 | R3: =+'vše _ druh studia '!C154/1000 -> 311.426 | S3: =+'vše _ druh studia '!C164/1000 -> 279.423 | T3: =+'vše _ druh studia '!C174/1000 -> 261.103 | U3: =+'vše _ druh studia '!C184/1000 -> 239.187 | V3: =+'vše _ druh studia '!C194/1000 -> 227.06 | W3: =+'vše _ druh studia '!C204/1000 -> 216.903 | X3: =+'vše _ druh studia '!C214/1000 -> 224.496 | Y3: =+'vše _ druh studia '!C224/1000 -> 225.646 | Z3: =+'vše _ druh studia '!C234/1000 -> 245.99 | AA3: =+'vše _ druh studia '!C244/1000 -> 249.505 | AB3: =+'vše _ druh studia '!C254/1000 -> 266.128 | AC3: =+'vše _ druh studia '!C264/1000 -> 276.064 | AD3: =+'vše _ druh studia '!C274/1000 -> 291.583
A4: přihlášené osoby | B4: 116.1 | C4: 118.3 | D4: 116.6 | E4: 110.486 | F4: 113.14 | G4: 119.13 | H4: 129 | I4: 139.4 | J4: 139.9 | K4: 146.5 | L4: 156.1 | M4: =156798/1000 -> 156.798 | N4: =156438/1000 -> 156.438 | O4: 160.953 | P4: 159.1 | Q4: =+'vše _ druh studia '!D144/1000 -> 150.411 | R4: =+'vše _ druh studia '!D154/1000 -> 143.019 | S4: =+'vše _ druh studia '!D164/1000 -> 130.09 | T4: =+'vše _ druh studia '!D174/1000 -> 121.269 | U4: =+'vše _ druh studia '!D184/1000 -> 110.163 | V4: =+'vše _ druh studia '!D194/1000 -> 105.039 | W4: =+'vše _ druh studia '!D204/1000 -> 101.834 | X4: =+'vše _ druh studia '!D214/1000 -> 104.521 | Y4: =+'vše _ druh studia '!D224/1000 -> 106.209 | Z4: =+'vše _ druh studia '!D234/1000 -> 110.482 | AA4: =+'vše _ druh studia '!D244/1000 -> 108.378 | AB4: =+'vše _ druh studia '!D254/1000 -> 112.643 | AC4: =+'vše _ druh studia '!D264/1000 -> 115.418 | AD4: =+'vše _ druh studia '!D274/1000 -> 119.97
A5: počet přijatých osob | B5: 57.3 | C5: 59 | D5: 61.2 | E5: 54.456 | F5: 66.698 | G5: 73.7 | H5: 82.968 | I5: 87 | J5: 91.1 | K5: 99.9 | L5: 108.7 | M5: =114539/1000 -> 114.539 | N5: =117014/1000 -> 117.014 | O5: 118.728 | P5: 115.404 | Q5: =+'vše _ druh studia '!I144/1000 -> 109.919 | R5: =+'vše _ druh studia '!I154/1000 -> 105.074 | S5: =+'vše _ druh studia '!I164/1000 -> 95.146 | T5: =+'vše _ druh studia '!I174/1000 -> 90.138 | U5: =+'vše _ druh studia '!I184/1000 -> 82.862 | V5: =+'vše _ druh studia '!I194/1000 -> 82.539 | W5: =+'vše _ druh studia '!I204/1000 -> 80.91 | X5: =+'vše _ druh studia '!I214/1000 -> 84.782 | Y5: =+'vše _ druh studia '!I224/1000 -> 87.637 | Z5: =+'vše _ druh studia '!I234/1000 -> 88.751 | AA5: =+'vše _ druh studia '!I244/1000 -> 84.839 | AB5: =+'vše _ druh studia '!I254/1000 -> 87.624 | AC5: =+'vše _ druh studia '!I264/1000 -> 91 | AD5: =+'vše _ druh studia '!I274/1000 -> 96.215
A6: počet zapsaných osob | B6: * | C6: 56.3 | D6: 57.6 | E6: 52.248 | F6: 64.001 | G6: 70.464 | H6: 79.524 | I6: 83.1 | J6: 86.9 | K6: 95.9 | L6: 103.5 | M6: =108783/1000 -> 108.783 | N6: =110776/1000 -> 110.776 | O6: 112.52 | P6: 109.033 | Q6: =+'vše _ druh studia '!J144/1000 -> 103.822 | R6: =+'vše _ druh studia '!J154/1000 -> 99.145 | S6: =+'vše _ druh studia '!J164/1000 -> 89.229 | T6: =+'vše _ druh studia '!J174/1000 -> 84.278 | U6: =+'vše _ druh studia '!J184/1000 -> 78.257 | V6: =+'vše _ druh studia '!J194/1000 -> 77.587 | W6: =+'vše _ druh studia '!J204/1000 -> 76.012 | X6: =+'vše _ druh studia '!J214/1000 -> 79.919 | Y6: =+'vše _ druh studia '!J224/1000 -> 83.222 | Z6: =+'vše _ druh studia '!J234/1000 -> 84.092 | AA6: =+'vše _ druh studia '!J244/1000 -> 80.943 | AB6: =+'vše _ druh studia '!J254/1000 -> 83.76 | AC6: =+'vše _ druh studia '!J264/1000 -> 86.792 | AD6: =+'vše _ druh studia '!J274/1000 -> 91.796
A7: 19letí k 31.12. | C7: =C30/1000 -> 150.618 | D7: =D30 -> 141.248 | E7: =E30 -> 138.716 | F7: =F30 -> 139.704 | G7: =G30 -> 134.929 | H7: =H30 -> 135.777 | I7: =I30 -> 135.5 | J7: =J30 -> 133.059 | K7: =K30 -> 131.319 | ... W7: =W30 -> 92.144
A8: Údaje za všechny formy a druhy studia.
A10: Počet přihlášených a zapsaných ve vztahu k populaci 18/19letých a k počtu maturantů v denní formě vzdělávání v letech 1999/00–2025/26 (v tis.)
B11: 1997/98 | C11: 1998/99 | D11: 1999/00 | E11: 2000/01 | F11: 2001//02 | G11: 2002/03 | H11: 2003/04 | I11: 2004/05 | J11: 2005/06 | K11: 2006/07 | L11: 2007/08 | M11: 2008/09 | N11: 2009/10 | O11: 2010/11 | P11: 2011/12 | Q11: 2012/13 | R11: 2013/14 | S11: 2014/15 | T11: 2015/16 | U11: 2016/17 | V11: =V2 -> 2017/18 | W11: =W2 -> 2018/19 | X11: =X2 -> 2019/20 | Y11: =Y2 -> 2020/21 | Z11: =Z2 -> 2021/22 | AA11: 2022/23 | AB11: =AB2 -> 2023/24 | AC11: =AC2 -> 2024/25 | AD11: =AD2 -> 2025/26
A12: přihlášení | B12: 101.6 | C12: 103.891 | D12: 116.6 | E12: 110.486 | F12: 113.14 | G12: 119.13 | H12: 129 | I12: 139.4 | J12: 139.9 | K12: 146.5 | L12: 156.1 | M12: 156.798 | N12: 156.438 | O12: 160.953 | P12: 159.063 | Q12: =+Q4 -> 150.411 | R12: =+R4 -> 143.019 | S12: =+S4 -> 130.09 | T12: =+T4 -> 121.269 | U12: =+U4 -> 110.163 | V12: =+V4 -> 105.039 | W12: =+W4 -> 101.834 | X12: =+X4 -> 104.521 | ... AD12: =+AD4 -> 119.97
A13: podíl na počtu 18/19letých | B13: 0.60463095 | C13: 0.68976484 | D13: =D12/D18 -> 0.82549841 | E13: =E12/E18 -> 0.79649067 | F13: =F12/F18 -> 0.80985512 | G13: =G12/G18 -> 0.88290879 | H13: =H12/H18 -> 0.95008728 | I13: =I12/I18 -> 1.0287823 | J13: =J12/J18 -> 1.0514133 | K13: =K12/K18 -> 1.115604 | ... AD13: =AD12/AD18 -> 0.96732838
A14: podíl na počtu maturantů | B14: 1.2791213 | C14: 1.265374 | D14: =D12/D19 -> 1.2806432 | E14: =E12/E19 -> 3.1508013 | F14: =F12/F19 -> 1.5470867 | G14: =G12/G19 -> 1.6079093 | H14: =H12/H19 -> 1.6256474 | I14: =I12/I19 -> 1.7065139 | J14: =J12/J19 -> 1.651946 | K14: =K12/K19 -> 1.7158786 | ... AD14: =AD12/AD19 -> 1.7080741
A15: zapsaní | B15: x | C15: 50.439 | D15: 57.6 | E15: 52.248 | F15: 64.001 | G15: 70.464 | H15: 79.524 | I15: 83.1 | J15: 86.9 | K15: 95.9 | L15: 103.5 | M15: 108.783 | N15: 110.776 | O15: 112.52 | P15: 109.033 | Q15: =+Q6 -> 103.822 | R15: =+R6 -> 99.145 | S15: =+S6 -> 89.229 | T15: =+T6 -> 84.278 | U15: =+U6 -> 78.257 | V15: =+V6 -> 77.587 | W15: =+W6 -> 76.012 | X15: =+X6 -> 79.919 | ... AD15: =+AD6 -> 91.796
A16: podíl na počtu 18/19letých | B16: x | C16: 0.33488029 | D16: =D15/D18 -> 0.40779338 | E16: =E15/E18 -> 0.37665446 | F16: =F15/F18 -> 0.45811859 | G16: =G15/G18 -> 0.52223021 | H16: =H15/H18 -> 0.58569566 | I16: =I15/I18 -> 0.61328413 | J16: =J15/J18 -> 0.65309374 | K16: =K15/K18 -> 0.73028275 | ... AD16: =AD15/AD18 -> 0.740159
A17: podíl na počtu maturantů | B17: x | C17: 0.61433809 | D17: =D15/D19 -> 0.63263334 | E17: =E15/E19 -> 1.4899903 | F17: =F15/F19 -> 0.87515554 | G17: =G15/G19 -> 0.95105952 | H17: =H15/H19 -> 1.0021549 | I17: =I15/I19 -> 1.0172977 | J17: =J15/J19 -> 1.0261194 | K17: =K15/K19 -> 1.123227 | ... AD17: =AD15/AD19 -> 1.3069465
A18: 18/19letí k 31.12.* | B18: 167957 | C18: 150618 | D18: 141.248 | E18: 138.716 | F18: 139.704 | G18: 134.929 | H18: 135.777 | I18: 135.5 | J18: 133.059 | K18: 131.319 | L18: 134.946 | M18: 131.517 | N18: 132.555 | O18: 130.795 | P18: =+P30 -> 123.426 | Q18: =+Q30 -> 122.809 | R18: =+R30 -> 109.039 | S18: =+S30 -> 98.773 | T18: =+T30 -> 93.352 | U18: =+U30 -> 93.131 | V18: =+V30 -> 92.799 | W18: =+W30 -> 92.144 | ... AD18: =+AD30 -> 124.022
A19: maturanti v předch. roce (denní forma vzdělávání) | B19: 79392 | C19: 82103 | D19: 91.048 | E19: 35.066 | F19: 73.131 | G19: 74.09 | H19: 79.353 | I19: 81.687 | J19: 84.688 | K19: =+K31 -> 85.379 | L19: =+L31 -> 85.779 | M19: =+M31 -> 84.318 | N19: =+N31 -> 83.906 | O19: =+O31 -> 81.064 | P19: =+P31 -> 74.57 | Q19: =+Q31 -> 72.607 | R19: =+R31 -> 70.027 | ... AD19: =+AD31 -> 70.237
A20: * Do roku 2000 populace 18letých, od roku 2001 populace 19letých.
A22: Počet přihlášených a zapsaných do denního/prezenčního studia ve vztahu k populaci 18/19letých a k počtu maturantů v denní formě vzdělávání v letech 1999/00–2025/26 (v tis.)
B23: 1997/98 | C23: 1998/99 | D23: 1999/00 | E23: 2000/01 | F23: 2001//02 | G23: 2002/03 | H23: 2003/04 | I23: 2004/05 | J23: 2005/06 | K23: 2006/07 | L23: 2007/08 | M23: 2008/09 | N23: 2009/10 | O23: 2010/11 | P23: 2011/12 | Q23: 2012/13 | R23: 2013/14 | S23: 2014/15 | T23: 2015/16 | U23: 2016/17 | V23: =V2 -> 2017/18 | W23: =W2 -> 2018/19 | X23: =X2 -> 2019/20 | Y23: =Y2 -> 2020/21 | Z23: =Z2 -> 2021/22 | AA23: 2022/23 | AB23: =AB2 -> 2023/24 | AC23: =AC2 -> 2024/25 | AD23: =AD2 -> 2025/26
A24: přihlášení | B24: 101.6 | C24: 103.891 | D24: 100.459 | E24: 82.941 | F24: 89.208 | G24: 91.831 | H24: 100.3 | I24: 101.8 | J24: 101.5 | K24: 103.3 | L24: 105.6 | M24: =105523/1000 -> 105.523 | N24: 107.073 | O24: 112.224 | P24: 109.975 | Q24: =+'vše _ druh studia '!D136/1000 -> 107.169 | R24: =+'vše _ druh studia '!D146/1000 -> 103.054 | S24: =+'vše _ druh studia '!D156/1000 -> 92.734 | T24: =+'vše _ druh studia '!D166/1000 -> 86.823 | U24: =+'vše _ druh studia '!D176/1000 -> 79.985 | V24: =+'vše _ druh studia '!D186/1000 -> 76.471 | W24: =+'vše _ druh studia '!D196/1000 -> 75.301 | X24: =+'vše _ druh studia '!D206/1000 -> 78.647 | Y24: =+'vše _ druh studia '!D216/1000 -> 79.85 | Z24: =+'vše _ druh studia '!D226/1000 -> 81.117 | AA24: =+'vše _ druh studia '!D236/1000 -> 82.802 | AB24: =+'vše _ druh studia '!D246/1000 -> 86.062 | AC24: =+'vše _ druh studia '!D256/1000 -> 89.711 | AD24: =+'vše _ druh studia '!D266/1000 -> 94.343
A25: podíl na počtu 18/19letých | B25: 0.60463095 | C25: 0.68976484 | D25: =D24/D30 -> 0.71122423 | E25: =E24/E30 -> 0.59791949 | F25: =F24/F30 -> 0.63855008 | G25: =G24/G30 -> 0.68058757 | H25: =H24/H30 -> 0.73871127 | I25: =I24/I30 -> 0.75129151 | J25: =J24/J30 -> 0.7628195 | K25: =K24/K30 -> 0.78663407 | ... AD25: =AD24/AD30 -> 0.76069568
A26: podíl na počtu maturantů | B26: 1.2791213 | C26: 1.265374 | D26: =D24/D31 -> 1.10346 | E26: =E24/E31 -> 2.3652826 | F26: =F24/F31 -> 1.2200052 | G26: =G24/G31 -> 1.239452 | H26: =H24/H31 -> 1.2642113 | I26: =I24/I31 -> 1.2464034 | J26: =J24/J31 -> 1.1985169 | K26: =K24/K31 -> 1.2098994 | ... AD26: =AD24/AD31 -> 1.3432094
A27: zapsaní | B27: x | C27: 50.439 | D27: 51.334 | E27: 42.328 | F27: 53.49 | G27: 58.005 | H27: 65.333 | I27: 65.7 | J27: 67.7 | K27: 72.5 | L27: 74.3 | M27: =77023/1000 -> 77.023 | N27: 78.825 | O27: 81.89 | P27: 79.341 | Q27: =+'vše _ druh studia '!J136/1000 -> 76.869 | R27: =+'vše _ druh studia '!J146/1000 -> 74.406 | S27: =+'vše _ druh studia '!J156/1000 -> 66.149 | T27: =+'vše _ druh studia '!J166/1000 -> 62.028 | U27: =+'vše _ druh studia '!J176/1000 -> 57.837 | V27: =+'vše _ druh studia '!J186/1000 -> 57.269 | W27: =+'vše _ druh studia '!J196/1000 -> 56.972 | X27: =+'vše _ druh studia '!J206/1000 -> 61.136 | Y27: =+'vše _ druh studia '!J216/1000 -> 63.495 | Z27: =+'vše _ druh studia '!J226/1000 -> 63.893 | AA27: =+'vše _ druh studia '!J236/1000 -> 63.248 | AB27: =+'vše _ druh studia '!J246/1000 -> 65.93 | AC27: =+'vše _ druh studia '!J256/1000 -> 68.97 | AD27: =+'vše _ druh studia '!J266/1000 -> 73.377
A28: podíl na počtu 18/19letých | B28: x | C28: 0.33488029 | D28: =D27/D30 -> 0.36343169 | E28: =E27/E30 -> 0.30514144 | F28: =F27/F30 -> 0.38288095 | G28: =G27/G30 -> 0.42989276 | H28: =H27/H30 -> 0.4811787 | I28: =I27/I30 -> 0.48487085 | J28: =J27/J30 -> 0.50879685 | K28: =K27/K30 -> 0.55209071 | ... AD28: =AD27/AD30 -> 0.59164503
A29: podíl na počtu maturantů | B29: x | C29: 0.61433809 | D29: =D27/D31 -> 0.56386204 | E29: =E27/E31 -> 1.2070952 | F29: =F27/F31 -> 0.73152719 | G29: =G27/G31 -> 0.78289918 | H29: =H27/H31 -> 0.82347677 | I29: =I27/I31 -> 0.80440771 | J29: =J27/J31 -> 0.79940487 | K29: =K27/K31 -> 0.84915494 | ... AD29: =AD27/AD31 -> 1.0447058
A30: 18/19letí k 31.12.* | B30: 167957 | C30: 150618 | D30: 141.248 | E30: 138.716 | F30: 139.704 | G30: 134.929 | H30: 135.777 | I30: 135.5 | J30: 133.059 | K30: 131.319 | L30: 134.946 | M30: 131.517 | N30: 132.555 | O30: 130.795 | P30: 123.426 | Q30: 122.809 | R30: 109.039 | S30: 98.773 | T30: 93.352 | U30: 93.131 | V30: 92.799 | W30: 92.144 | X30: 94.396 | Y30: 95.638 | Z30: 96.895 | AA30: 103.7 | AB30: 110.906 | AC30: 116.665 | AD30: 124.022
A31: maturanti v předch. roce (denní forma vzdělávání) | B31: 79392 | C31: 82103 | D31: 91.04 | E31: 35.066 | F31: 73.121 | G31: 74.09 | H31: 79.338 | I31: 81.675 | J31: 84.688 | K31: 85.379 | L31: 85.779 | M31: 84.318 | N31: 83.906 | O31: 81.064 | P31: 74.57 | Q31: 72.607 | R31: 70.027 | S31: 60.796 | T31: 56.121 | U31: 52.335 | V31: 52.455 | W31: 52.764 | X31: 54.534 | Y31: 57.572 | Z31: 61.577 | AA31: 58.8 | AB31: 62.266 | AC31: 66.665 | AD31: 70.237
A32: * Do roku 2000 populace 18letých, od roku 2001 populace 19letých.
A34: Počet podaných přihlášek, přihlášených, přijatých a zapsaných ke studiu na terciární úrovni vzdělávání 1999/00–2025/26 (v tis.)

Sheet vše _ druh studia 
A1: Základní přehled o přijímacím řízení na vysoké a vyšší odborné školy podle druhu a formy studia
A2: Počet podaných přihlášek, přihlášených, přijatých a zapsaných ke studiu na terciární úrovni vzdělávání (VŠ a VOŠ) v letech 1999/00–2025/26
A3: Druh a forma studia | C3: Počet podaných přihlášek | D3: Počet přihlášených | E3: Index přihlášek | F3: Počet přihlášek uchazečů, kteří se dostavili k přijímacímu řízení | G3: Podíl přihlášek uchazečů, kteří se dostavili k přijímacímu řízení | H3: Počet přihlášených, kteří se dostavili k přijímacímu řízení | I3: Počet přijatých | J3: Počet zapsaných | K3: Počet přijatých / počet přihlášených | L3: Úspěšnost uchazečů *)
A4: 1999/2000
A5: Studium denní / prezenční | C5: 246842 | D5: 100459 | E5: 2.4571417 | F5: 197363 | G5: 0.79955194 | H5: x | I5: 54671 | J5: 51334 | K5: 0.54421207 | L5: x
A6: v tom | B6: bakalářské studijní programy | C6: 44324 | D6: 33419 | E6: 1.9859313 | F6: 35648 | G6: 0.80425954 | H6: 28166 | I6: 9337 | J6: 7090 | K6: 0.41834312 | L6: =I6/H6 -> 0.33149897
B7: magisterské studijní programy | C7: 168690 | D7: 79618 | E7: 2.118742 | F7: 133919 | G7: 0.79387634 | H7: 71239 | I7: 35771 | J7: 32975 | K7: 0.44928283 | L7: =I7/H7 -> 0.50212664
B8: vyšší odborné studium | C8: 33828 | D8: 22793 | E8: 1.4841399 | F8: 27796 | G8: 0.82168618 | H8: x | I8: 14008 | J8: 12148 | K8: 0.61457465 | L8: x
A9: Studium dálkové / kombinované, distanční | C9: 22879 | D9: 19671 | E9: 1.1630827 | F9: 17822 | G9: 0.77896761 | H9: x | I9: 6934 | J9: 6491 | K9: 0.3524986 | L9: x
A10: v tom | B10: bakalářské studijní programy | C10: 11939 | D10: 10610 | E10: 1.1252592 | F10: 9514 | G10: 0.79688416 | H10: 8682 | I10: 2662 | J10: 2506 | K10: 0.25089538 | L10: =I10/H10 -> 0.30661138
B11: magisterské studijní programy | C11: 8866 | D11: 8030 | E11: 1.1041096 | F11: 6555 | G11: 0.7393413 | H11: 6110 | I11: 2936 | J11: 2691 | K11: 0.36562889 | L11: =I11/H11 -> 0.48052373
B12: vyšší odborné studium | C12: 2074 | D12: 1960 | E12: 1.0581633 | F12: 1753 | G12: 0.84522662 | H12: x | I12: 1424 | J12: 1321 | K12: 0.72653061 | L12: x
A13: Všechny formy studia celkem | C13: 269721 | D13: 116644 | E13: 2.3123435 | F13: 215185 | G13: 0.79780588 | H13: 105442 | I13: 61150 | J13: 57619 | K13: 0.52424471 | L13: =I13/H13 -> 0.57993968
A14: 2000/01
A15: Studium denní / prezenční | C15: 190184 | D15: 82941 | E15: 2.2930035 | F15: 151403 | G15: 0.79608695 | H15: 74124 | I15: 44112 | J15: 42328 | K15: 0.53184794 | L15: =I15/H15 -> 0.5951109
A17: v tom | B17: bakalářské studijní programy | C17: 42247 | D17: 31231 | E17: 1.3527265 | F17: 34731 | G17: 0.82209388 | H17: 26813 | I17: 10186 | J17: 8365 | K17: 0.3261503 | L17: =I17/H17 -> 0.37989035
B18: magisterské studijní programy | C18: 130043 | D18: 65969 | E18: 1.9712744 | F18: 102524 | G18: 0.78838538 | H18: 57523 | I18: 29500 | J18: 27904 | K18: 0.44717974 | L18: =I18/H18 -> 0.51283834
B19: vyšší odborné studium | C19: 17894 | D19: 12565 | E19: 1.4241146 | F19: 14148 | G19: 0.79065609 | H19: 11126 | I19: 8275 | J19: 6949 | K19: 0.65857541 | L19: =I19/H19 -> 0.74375337
A20: Studium dálkové / kombinované, distanční | C20: 39209 | D20: 32323 | E20: 1.2130372 | F20: 31053 | G20: 0.79198653 | H20: 26678 | I20: 10859 | J20: 10166 | K20: 0.33595273 | L20: =I20/H20 -> 0.40703951
A21: v tom | B21: bakalářské studijní programy | C21: 20497 | D21: 17886 | E21: 1.1459801 | F21: 16532 | G21: 0.80655706 | H21: 14871 | I21: 4746 | J21: 4476 | K21: 0.2653472 | L21: =I21/H21 -> 0.31914464
B22: magisterské studijní programy | C22: 15386 | D22: 13595 | E22: 1.1317396 | F22: 11816 | G22: 0.76797088 | H22: 10702 | I22: 4054 | J22: 3876 | K22: 0.29819787 | L22: =I22/H22 -> 0.3788077
B23: vyšší odborné studium | C23: 3326 | D23: 3068 | E23: 1.0840939 | F23: 2705 | G23: 0.81328924 | H23: 2574 | I23: 2207 | J23: 1856 | K23: 0.71936115 | L23: =I23/H23 -> 0.85742036
A24: Všechny formy studia celkem | C24: 229393 | D24: 110486 | E24: 2.0762178 | F24: 182456 | G24: 0.79538608 | H24: 97624 | I24: 54456 | J24: 52248 | K24: 0.49287693 | L24: =I24/H24 -> 0.55781365
A25: 2001/02
A26: Studium denní / prezenční | C26: 230746 | D26: 89208 | E26: 2.5866066 | F26: 186309 | G26: 0.80742028 | H26: 81805 | I26: 55791 | J26: 53490 | K26: 0.62540355 | L26: =I26/H26 -> 0.68199988
A27: v tom | B27: bakalářské studijní programy | C27: 58921 | D27: 39750 | E27: 1.4822893 | F27: 48418 | G27: 0.82174437 | H27: 34331 | I27: 15850 | J27: 12744 | K27: 0.39874214 | L27: =I27/H27 -> 0.46168186
B28: magisterské studijní programy | C28: 146249 | D28: 67509 | E28: 2.166363 | F28: 118261 | G28: 0.80862775 | H28: 60722 | I28: 34468 | J28: 31938 | K28: 0.51056896 | L28: =I28/H28 -> 0.56763611
B29: vyšší odborné studium | C29: 25576 | D29: 17963 | E29: 1.4238156 | F29: 19630 | G29: 0.76751642 | H29: 15609 | I29: 12162 | J29: 10239 | K29: 0.6770584 | L29: =I29/H29 -> 0.77916587
A30: Studium dálkové / kombinované, distanční | C30: 34917 | D30: 28875 | E30: 1.2092468 | F30: 28014 | G30: 0.8023026 | H30: 24109 | I30: 11534 | J30: 10769 | K30: 0.39944589 | L30: =I30/H30 -> 0.47841055
A31: v tom | B31: bakalářské studijní programy | C31: 21699 | D31: 18787 | E31: 1.1550008 | F31: 17462 | G31: 0.80473755 | H31: 15639 | I31: 6442 | J31: 5942 | K31: 0.34289668 | L31: =I31/H31 -> 0.41191892
B32: magisterské studijní programy | C32: 10583 | D32: 9545 | E32: 1.108748 | F32: 8475 | G32: 0.80081262 | H32: 7806 | I32: 3562 | J32: 3299 | K32: 0.37317968 | L32: =I32/H32 -> 0.45631565
B33: vyšší odborné studium | C33: 2635 | D33: 2519 | E33: 1.04605 | F33: 2077 | G33: 0.78823529 | H33: 2039 | I33: 1708 | J33: 1577 | K33: 0.67804684 | L33: =I33/H33 -> 0.83766552
A34: Všechny formy studia celkem | C34: 265663 | D34: 113714 | E34: 2.3362383 | F34: 214323 | G34: 0.80674765 | H34: 102855 | I34: 66698 | J34: 64001 | K34: 0.58654167 | L34: =I34/H34 -> 0.64846629
A35: 2002/03
A36: Studium denní / prezenční | C36: 224554 | D36: 91831 | E36: 2.4452963 | F36: 183280 | G36: 0.81619566 | H36: 84512 | I36: 60602 | J36: 58005 | K36: 0.65992965 | L36: =I36/H36 -> 0.7170816
A37: v tom | B37: bakalářské studijní programy | C37: 77180 | D37: 50322 | E37: 1.5337228 | F37: 64201 | G37: 0.83183467 | H37: 44167 | I37: 24946 | J37: 20431 | K37: 0.49572751 | L37: =I37/H37 -> 0.56481083
B38: magisterské studijní programy | C38: 121213 | D38: 61248 | E38: 1.9790524 | F38: 98288 | G38: 0.81087012 | H38: 54602 | I38: 32705 | J38: 29181 | K38: 0.53397662 | L38: =I38/H38 -> 0.59897073
B39: vyšší odborné studium | C39: 26161 | D39: 19402 | E39: 1.3483661 | F39: 20791 | G39: 0.79473262 | H39: 16990 | I39: 12769 | J39: 10736 | K39: 0.65812803 | L39: =I39/H39 -> 0.75155974
A40: Studium dálkové / kombinované, distanční | C40: 38922 | D40: 32100 | E40: 1.2125234 | F40: 32072 | G40: 0.82400699 | H40: 27525 | I40: 13961 | J40: 12823 | K40: 0.43492212 | L40: =I40/H40 -> 0.50721163
A41: v tom | B41: bakalářské studijní programy | C41: 26211 | D41: 22278 | E41: 1.1765419 | F41: 21805 | G41: 0.83190264 | H41: 19150 | I41: 8743 | J41: 8008 | K41: 0.39244995 | L41: =I41/H41 -> 0.45655352
...

Sheet vše _ věk x dfst 
