Workbook

Sheet Obsah
A1: Seznam tabulek a grafů
A3: ='vš_vše CZ'!A1 -> Počet podaných přihlášek, přihlášených, přijatých a zapsaných na VŠ v letech 1999/00–2025/26 (v tis.)
A4: ='vš_vše CZ'!A12 -> Počet přihlášených a zapsaných na VŠ ve vztahu k populaci 18/19letých a k počtu maturantů (v denní formě vzdělávání) v letech 1999/00–2025/26 (v tis.)
A5: ='vš_vše CZ'!A26 -> Počet přihlášených a zapsaných do prezenční formy studia VŠ ve vztahu k populaci 18/19letých a k počtu maturantů (v denní formě vzdělávání) v letech 1999/00–2025/26 (v tis.)
A6: ='vš_vše CZ'!A40 -> Počet podaných přihlášek, přihlášených, přijatých a zapsaných na VŠ v letech 1999/00–2025/26
A7: ='vš_vše CZ'!A63 -> Uchazeči podle počtu podaných přihlášek 1999/00–2025/26
A8: ='vš_vše CZ'!A95 -> Struktura uchazečů podle počtu podaných přihlášek 1999/00–2025/26
A9: ='vš_druh studia '!A1:M1 -> Základní přehled o přijímacím řízení na vysoké školy podle druhu studia v letech 2001/02–2025/26
A10: =vš_programy!A1 -> Počet přihlášek, přihlášených a přijatých ke studiu na VŠ podle skupin studijních programů v letech 1999/00–2017/18
A11: ='vš_věk x dfst'!A1 -> Struktura přihlášených, přijatých a zapsaných na VŠ podle věku a formy studia pro roky 1999/00–2025/2026
A12: =vš_věk!A1 -> Struktura přihlášených uchazečů o prezenční studium na VŠ podle věku v letech 1999/00–2025/26
A13: =vš_věk!A19 -> Uchazeči o prezenční studium na VŠ podle věku v letech 1999/00–2025/26
A14: =vš_sex!A1 -> Počet přihlášek, přihlášených, přijetí, přijatých, zapsání a zapsaných podle pohlaví v letech 1999/00–2025/26
A15: =vš_fakulty_tisk!A1 -> Přijímací řízení na VŠ – podle fakult v letech 2010/11–2025/26
A59: Ležatá čárka ( - ) na místě čísla značí, že jev se nevyskytoval
A60: Tečka ( . ) na místě čísla značí, že údaj není k dispozici nebo je nespolehlivý
A61: Ležatý křížek ( x ) značí, že zápis není možný z logických důvodů

Sheet vš_vše CZ
A1: Počet podaných přihlášek, přihlášených, přijatých a zapsaných na VŠ v letech 1999/00–2025/26 (v tis.)
B3: 1999/2000 | C3: 2000/01 | D3: 2001/02 | E3: 2002/03 | F3: 2003/04 | G3: 2004/05 | H3: 2005/06 | I3: 2006/07 | J3: 2007/08 | K3: 2008/09 | L3: 2009/10 | M3: 2010/11 | N3: 2011/12 | O3: 2012/13 | P3: 2013/14 | Q3: 2014/15 | R3: 2015/16 | S3: 2016/17 | T3: 2017/18 | U3: 2018/19 | V3: 2019/20 | W3: 2020/21 | X3: 2021/22 | Y3: 2022/23 | Z3: 2023/24 | AA3: 2024/25 | AB3: 2025/26
A4: počet podaných přihlášek | B4: 233.8 | C4: 208.2 | D4: 237.452 | E4: 234 | F4: 253.3 | G4: 285 | H4: 294.8 | I4: 303.3 | J4: 323.7 | K4: 320.365 | L4: =324993/1000 -> 324.993 | M4: 331.536 | N4: 330.066 | O4: 309.452 | P4: 291 | Q4: 260.467 | R4: 243.718 | S4: 224.151 | T4: 213.317 | U4: 204.053 | V4: 211.447 | W4: 211.447 | X4: 228.483 | Y4: 229.775 | Z4: 246.7878 | AA4: 256.025 | AB4: 271.183
A5: přihlášené osoby | B5: 105.4 | C5: 103.5 | D5: 105 | E5: 108.8 | F5: 117.5 | G5: 130.4 | H5: 130.9 | I5: 137.8 | J5: 146.8 | K5: 147.276 | L5: =146620/1000 -> 146.62 | M5: 150.588 | N5: 149.613 | O5: =+'vš_druh studia '!E93/1000 -> 141.054 | P5: =+'vš_druh studia '!E101/1000 -> 134.257 | Q5: 121.761 | R5: 113.093 | S5: 102.791 | T5: 97.998 | U5: 95.137 | V5: 98.127 | W5: 98.868 | X5: 102.355 | Y5: 100.738 | Z5: 104.596 | AA5: 107.14 | AB5: 111.357
A6: přihlášené osoby, které se dostavily k p.ř. | B6: . | C6: 94.1 | D6: 90 | E6: 98.3 | F6: 107.2 | G6: 119.4 | H6: 119.7 | I6: 127.1 | J6: 135.2 | K6: 136.116 | L6: =136767/1000 -> 136.767 | M6: 140.072 | N6: 139.28 | O6: =+'vš_druh studia '!H93/1000 -> 130.728 | P6: =+'vš_druh studia '!H101/1000 -> 123.766 | Q6: 111.374 | R6: 103.442 | S6: 94.068 | T6: 90.528 | U6: 88.116 | V6: 91.75 | W6: 94.769 | X6: 97.078 | Y6: 93.791 | Z6: 97.645 | AA6: 100.192 | AB6: 104.652
A7: počet přijatých osob | B7: 47.4 | C7: 45.2 | D7: 54.676 | E7: 61.1 | F7: 69.6 | G7: 75.6 | H7: 80 | I7: 89.1 | J7: 97.2 | K7: 104.003 | L7: =105570/1000 -> 105.57 | M7: 106.437 | N7: 103.761 | O7: =+'vš_druh studia '!K93/1000 -> 98.261 | P7: =+'vš_druh studia '!K101/1000 -> 93.714 | Q7: 84.764 | R7: 80.302 | S7: 74.767 | T7: 74.623 | U7: 73.35 | V7: 77.485 | W7: 79.8 | X7: 79.621 | Y7: 76.138 | Z7: 78.75 | AA7: 81.428 | AB7: 86.281
A8: počet zapsaných osob | B8: 43.2 | C8: 43.7 | D8: 52.527 | E8: 58.3 | F8: 66.5 | G8: 72.2 | H8: 76.2 | I8: 85.5 | J8: 92.7 | K8: 98.726 | L8: =99818/1000 -> 99.818 | M8: 100.676 | N8: 97.837 | O8: =+'vš_druh studia '!L93/1000 -> 92.428 | P8: =+'vš_druh studia '!L101/1000 -> 88.109 | Q8: 79.073 | R8: 74.833 | S8: 69.839 | T8: 69.911 | U8: 68.753 | V8: 72.73 | W8: 75.605 | X8: 75.265 | Y8: 72.713 | Z8: 75.215 | AA8: 77.671 | AB8: 82.323
A10: Údaje za všechny formy a druhy studia.
A12: Počet přihlášených a zapsaných na VŠ ve vztahu k populaci 18/19letých a k počtu maturantů (v denní formě vzdělávání) v letech 1999/00–2025/26 (v tis.)
B14: 1999/00 | C14: 2000/01 | D14: 2001/02 | E14: 2002/03 | F14: 2003/04 | G14: 2004/05 | H14: 2005/06 | I14: 2006/07 | J14: 2007/08 | K14: 2008/09 | L14: 2009/10 | M14: 2010/11 | N14: 2011/12 | O14: 2012/13 | P14: 2013/14 | Q14: 2014/15 | R14: 2015/16 | S14: 2016/17 | T14: =T3 -> 2017/18 | U14: 2018/19 | V14: 2019/20 | W14: 2019/20 | X14: 2021/22 | Y14: 2022/23 | Z14: 2023/24 | AA14: 2024/25 | AB14: 2025/26
A15: přihlášení v tis. | B15: 105.4 | C15: 103.5 | D15: 105 | E15: 108.8 | F15: 117.5 | G15: 130.4 | H15: 130.9 | I15: 137.8 | J15: 146.8 | K15: 147.276 | L15: 146.62 | M15: 150.588 | N15: =+N5 -> 149.613 | O15: =+O5 -> 141.054 | P15: =+P5 -> 134.257 | Q15: =+Q5 -> 121.761 | R15: =+R5 -> 113.093 | S15: =+S5 -> 102.791 | T15: =+T5 -> 97.998 | U15: =+U5 -> 95.137 | ... Z15: =+Z5 -> 104.596 | AA15: 107.14 | AB15: 111.357
A16: podíl na počtu 18/19letých* | B16: =B15/B21 -> 0.74620526 | C16: =C15/C21 -> 0.74612878 | D16: =D15/D21 -> 0.75158907 | E16: =E15/E21 -> 0.80635001 | F16: =F15/F21 -> 0.86538957 | G16: =G15/G21 -> 0.96236162 | H16: =H15/H21 -> 0.98377412 | I16: =I15/I21 -> 1.0493531 | J16: =J15/J21 -> 1.0878425 | K16: 1.1390255 | L16: =L15/L21 -> 1.1061069 | M16: =M15/M21 -> 1.1513284 | N16: =N15/N21 -> 1.2121676 | O16: =O15/O21 -> 1.148564 | P16: =P15/P21 -> 1.231275 | Q16: =Q15/Q21 -> 1.2327357 | R16: =R15/R21 -> 1.2114684 | S16: =S15/S21 -> 1.1037249 | ... AB16: =AB15/AB21 -> 0.89788102
A17: podíl na počtu maturantů | B17: =B15/B22 -> 1.1577329 | C17: =C15/C22 -> 2.951577 | D17: =D15/D22 -> 1.435976 | E17: =E15/E22 -> 1.4684843 | F17: =F15/F22 -> 1.4810053 | G17: =G15/G22 -> 1.5965718 | H17: =H15/H22 -> 1.5456735 | I17: =I15/I22 -> 1.61398 | J17: =J15/J22 -> 1.7113746 | K17: 1.6510762 | L17: =L15/L22 -> 1.7474316 | M17: =M15/M22 -> 1.8576433 | N17: =N15/N22 -> 2.006343 | O17: =O15/O22 -> 1.9427052 | P17: =P15/P22 -> 1.9172176 | Q17: =Q15/Q22 -> 2.0027798 | R17: =R15/R22 -> 2.0151637 | S17: =S15/S22 -> 1.9640592 | ... AB17: =AB15/AB22 -> 1.5854464
A18: zapsaní v tis. | B18: 43.2 | C18: 43.7 | D18: 52.527 | E18: 58.3 | F18: 66.5 | G18: 72.2 | H18: 76.2 | I18: 85.5 | J18: 92.7 | K18: 98.726 | L18: 99.818 | M18: 100.676 | N18: =+N8 -> 97.837 | O18: =+O8 -> 92.428 | P18: =+P8 -> 88.109 | Q18: =+Q8 -> 79.073 | R18: =+R8 -> 74.833 | S18: =+S8 -> 69.839 | T18: =+T8 -> 69.911 | U18: =+U8 -> 68.753 | V18: 72.73 | W18: 75.605 | X18: =+X8 -> 75.265 | Y18: =+Y8 -> 72.713 | Z18: =+Z8 -> 75.215 | AA18: =+AA8 -> 77.671 | AB18: =+AB8 -> 82.323
A19: podíl na počtu 18/19letých* | B19: =B18/B21 -> 0.30584504 | C19: =C18/C21 -> 0.31503215 | D19: =D18/D21 -> 0.3759878 | E19: =E18/E21 -> 0.43207909 | F19: =F18/F21 -> 0.48977367 | G19: =G18/G21 -> 0.53284133 | H19: =H18/H21 -> 0.57267829 | I19: =I18/I21 -> 0.65108629 | J19: =J18/J21 -> 0.68694144 | K19: 0.76354215 | L19: =L18/L21 -> 0.75303082 | M19: =M18/M21 -> 0.76972361 | N19: =N18/N21 -> 0.79267739 | O19: =O18/O21 -> 0.75261585 | P19: =P18/P21 -> 0.80805033 | Q19: =Q18/Q21 -> 0.80055278 | R19: =R18/R21 -> 0.80162182 | S19: =S18/S21 -> 0.74990068 | ... AB19: =AB18/AB21 -> 0.66377739
A20: podíl na počtu maturantů | B20: =B18/B22 -> 0.4745167 | C20: =C18/C22 -> 1.2462214 | D20: =D18/D22 -> 0.71835724 | E20: =E18/E22 -> 0.78688082 | F20: =F18/F22 -> 0.83818599 | G20: =G18/G22 -> 0.88399143 | H20: =H18/H22 -> 0.89977329 | I20: =I18/I22 -> 1.0014172 | J20: =J18/J22 -> 1.0806841 | K20: 1.1067937 | L20: =L18/L22 -> 1.1896408 | M20: =M18/M22 -> 1.2419323 | N20: =N18/N22 -> 1.3120156 | O20: =O18/O22 -> 1.2729902 | P20: =P18/P22 -> 1.2582147 | Q20: =Q18/Q22 -> 1.3006283 | R20: =R18/R22 -> 1.3334224 | S20: =S18/S22 -> 1.3344352 | ... AB20: =AB18/AB22 -> 1.1720745
A21: 18/19letí k 31.12.* | B21: 141.248 | C21: 138.716 | D21: 139.704 | E21: 134.929 | F21: 135.777 | G21: 135.5 | H21: 133.059 | I21: 131.319 | J21: 134.946 | K21: 131.517 | L21: 132.555 | M21: 130.795 | N21: 123.426 | O21: 122.809 | P21: 109.039 | Q21: 98.773 | R21: 93.352 | S21: 93.131 | T21: 92.799 | U21: 92.144 | V21: 94.396 | W21: 95.638 | X21: 96.895 | Y21: 103.679 | Z21: 110.906 | AA21: 116.665 | AB21: 124.022
A22: maturanti v předch. roce (denní forma vzdělávání) | B22: 91.04 | C22: 35.066 | D22: 73.121 | E22: 74.09 | F22: 79.338 | G22: 81.675 | H22: 84.688 | I22: 85.379 | J22: 85.779 | K22: 84.318 | L22: 83.906 | M22: 81.064 | N22: 74.57 | O22: 72.607 | P22: 70.027 | Q22: 60.796 | R22: 56.121 | S22: 52.336 | T22: 52.455 | U22: 52.764 | V22: 54.534 | W22: 57.572 | X22: 62.004 | Y22: 58.849 | Z22: 62.266 | AA22: 66.665 | AB22: 70.237
A24: * Do roku 2000 populace 18letých, od roku 2001 populace 19letých. V roce 2022 a 2023 jsou do stavu započítány i osoby s ukrajinským státním občanstvím v režimu dočasné ochrany.
A26: Počet přihlášených a zapsaných do prezenční formy studia VŠ ve vztahu k populaci 18/19letých a k počtu maturantů (v denní formě vzdělávání) v letech 1999/00–2025/26 (v tis.)
B28: 1999/00 | C28: 2000/01 | D28: 2001/02 | E28: 2002/03 | F28: 2003/04 | G28: 2004/05 | H28: 2005/06 | I28: 2006/07 | J28: 2007/08 | K28: 2008/09 | L28: 2009/10 | M28: 2010/11 | N28: 2011/12 | O28: 2012/13 | P28: 2013/14 | Q28: 2014/15 | R28: 2015/16 | S28: 2016/17 | T28: =T3 -> 2017/18 | U28: 2018/19 | V28: 2019/20 | W28: 2019/20 | X28: 2021/22 | Y28: 2022/23 | Z28: 2023/24 | AA28: 2024/25 | AB28: 2025/26
A29: přihlášení v tis. | B29: 90.6 | C29: 78.074 | D29: 82.297 | E29: 83.67 | F29: 91.166 | G29: 94.63 | H29: 94.3 | I29: 96.7 | J29: 99.4 | K29: 98.695 | L29: 100.56 | M29: 105.507 | N29: 104.008 | O29: =+'vš_druh studia '!E94/1000 -> 101.3 | P29: =+'vš_druh studia '!E102/1000 -> 97.666 | Q29: 87.643 | R29: 81.872 | S29: 75.528 | T29: 72.525 | U29: 71.584 | V29: 75.21 | W29: 75.82 | X29: 76.893 | Y29: 78.926 | Z29: 82.259 | AA29: 85.716 | AB29: 90.335
A30: podíl na počtu 18/19letých* | B30: =B29/B35 -> 0.64164306 | C30: =C29/C35 -> 0.56289834 | D30: =D29/D35 -> 0.58909807 | E30: =E29/E35 -> 0.62023721 | F30: =F29/F35 -> 0.67132548 | G30: =G29/G35 -> 0.69837638 | H30: =H29/H35 -> 0.70870817 | I30: =I29/I35 -> 0.73637478 | J30: =J29/J35 -> 0.73659093 | K30: 0.7633024 | L30: =L29/L35 -> 0.75862849 | M30: =M29/M35 -> 0.80665928 | N30: =N29/N35 -> 0.84267496 | O30: =O29/O35 -> 0.82485811 | P30: =P29/P35 -> 0.89569787 | Q30: =Q29/Q35 -> 0.88731738 | R30: =R29/R35 -> 0.8770246 | S30: =S29/S35 -> 0.81098667 | ... Y30: =Y29/Y35 -> 0.76125348 | Z30: 0.74170018 | AA30: =AA29/AA35 -> 0.73471907 | AB30: =AB29/AB35 -> 0.72837884
A31: podíl na počtu maturantů | B31: =B29/B36 -> 0.9956044 | C31: =C29/C36 -> 2.2243305 | D31: =D29/D36 -> 1.125814 | E31: =E29/E36 -> 1.1291498 | F31: =F29/F36 -> 1.1481864 | G31: =G29/G36 -> 1.1586165 | H31: =H29/H36 -> 1.113499 | I31: =I29/I36 -> 1.132597 | J31: =J29/J36 -> 1.1587918 | K31: 1.1064462 | L31: =L29/L36 -> 1.198484 | M31: =M29/M36 -> 1.3015272 | N31: =N29/N36 -> 1.39477 | O31: =O29/O36 -> 1.3951823 | P31: =P29/P36 -> 1.3946906 | Q31: =Q29/Q36 -> 1.4415916 | R31: =R29/R36 -> 1.4588478 | S31: =S29/S36 -> 1.4431367 | ... Y31: =Y29/Y36 -> 1.3411613 | Z31: 1.3210902 | AA31: =AA29/AA36 -> 1.2857721 | AB31: =AB29/AB36 -> 1.2861455
A32: zapsaní v tis. | B32: 39.5 | C32: 35.6 | D32: 43.5 | E32: 47.68 | F32: 54.329 | G32: 56.112 | H32: 58.6 | I32: 63.7 | J32: 66.1 | K32: 69.266 | L32: 70.703 | M32: 72.971 | N32: 71.038 | O32: ='vš_druh studia '!L94/1000 -> 68.406 | P32: =+'vš_druh studia '!L102/1000 -> 66.292 | Q32: 58.603 | R32: 55.306 | S32: 51.929 | T32: 52.223 | U32: 52.278 | V32: 56.504 | W32: 58.513 | X32: 58.123 | Y32: 57.813 | Z32: 60.355 | AA32: 63.139 | AB32: 67.548
A33: podíl na počtu 18/19letých* | B33: =B32/B35 -> 0.27974504 | C33: =C32/C35 -> 0.25666907 | D33: =D32/D35 -> 0.31138153 | E33: =E32/E35 -> 0.353447 | F33: =F32/F35 -> 0.40006627 | G33: =G32/G35 -> 0.4141107 | H33: =H32/H35 -> 0.44040614 | I33: =I32/I35 -> 0.48507832 | J33: =J32/J35 -> 0.48982556 | K33: 0.53569992 | L33: =L32/L35 -> 0.53338614 | M33: =M32/M35 -> 0.55790359 | N33: =N32/N35 -> 0.57555134 | O33: =O32/O35 -> 0.55701129 | P33: =P32/P35 -> 0.60796596 | Q33: =Q32/Q35 -> 0.59330991 | R33: =R32/R35 -> 0.5924458 | S33: =S32/S35 -> 0.55759092 | ... Y33: =Y32/Y35 -> 0.55761533 | Z33: 0.54419959 | AA33: =AA32/AA35 -> 0.54119916 | AB33: =AB32/AB35 -> 0.5446453
A34: podíl na počtu maturantů | B34: =B32/B36 -> 0.43406593 | C34: =C32/C36 -> 1.014245 | D34: =D32/D36 -> 0.59507524 | E34: =E32/E36 -> 0.64345479 | F34: =F32/F36 -> 0.68424433 | G34: =G32/G36 -> 0.68701561 | H34: =H32/H36 -> 0.69195163 | I34: =I32/I36 -> 0.7460851 | J34: =J32/J36 -> 0.77058488 | K34: 0.77652466 | L34: =L32/L36 -> 0.84264534 | M34: =M32/M36 -> 0.9001653 | N34: =N32/N36 -> 0.95263511 | O34: =O32/O36 -> 0.94214056 | P34: =P32/P36 -> 0.94666343 | Q34: =Q32/Q36 -> 0.96392855 | R34: =R32/R36 -> 0.98547781 | S34: =S32/S36 -> 0.99222333 | ... Y34: =Y32/Y36 -> 0.98239562 | Z34: 0.96930909 | AA34: =AA32/AA36 -> 0.94710868 | AB34: =AB32/AB36 -> 0.96171534
A35: 18/19letí k 31.12.* | B35: 141.2 | C35: 138.7 | D35: 139.7 | E35: 134.9 | F35: 135.8 | G35: =+G21 -> 135.5 | H35: =+H21 -> 133.059 | I35: =+I21 -> 131.319 | J35: =+J21 -> 134.946 | K35: =+K21 -> 131.517 | L35: =+L21 -> 132.555 | M35: =+M21 -> 130.795 | N35: =+N21 -> 123.426 | ... X35: =+X21 -> 96.895 | Y35: =Y21 -> 103.679 | Z35: 110.906 | AA35: =AA21 -> 116.665 | AB35: =AB21 -> 124.022
A36: maturanti v předch. roce (denní forma vzdělávání) | B36: 91 | C36: 35.1 | D36: 73.1 | E36: 74.1 | F36: 79.4 | G36: =+G22 -> 81.675 | H36: =+H22 -> 84.688 | I36: =+I22 -> 85.379 | J36: =+J22 -> 85.779 | K36: =+K22 -> 84.318 | L36: =+L22 -> 83.906 | M36: =+M22 -> 81.064 | N36: =+N22 -> 74.57 | ... X36: =+X22 -> 62.004 | Y36: =Y22 -> 58.849 | Z36: 62.266 | AA36: =AA22 -> 66.665 | AB36: =AB22 -> 70.237
A38: * Do roku 2000 populace 18letých, od roku 2001 populace 19letých. V roce 2022 a 2023 jsou do stavu započítány i osoby s ukrajinským státním občanstvím v režimu dočasné ochrany.
A40: Počet podaných přihlášek, přihlášených, přijatých a zapsaných na VŠ v letech 1999/00–2025/26
A63: Uchazeči podle počtu podaných přihlášek 1999/00–2025/26
B65: Násobnost přihlášek | R65: celkem přihlášených
B66: 1 | C66: 2 | D66: 3 | E66: 4 | F66: 5 | G66: 6 | H66: 7 | I66: 8 | J66: 9 | K66: 10 | L66: 11 | M66: 12 | N66: 13 | O66: 14 | P66: 15 a > | Q66: průměr
A67: 1999/00 | B67: 45115 | C67: 24718 | D67: 16884 | E67: 10334 | F67: 5079 | G67: 2077 | H67: 730 | I67: 320 | J67: 108 | K67: 38 | L67: 19 | M67: 7 | N67: 5 | O67: 2 | P67: 1 | Q67: 2.22 | R67: 105437
A68: 2000/01 | B68: 53027 | C68: 22275 | D68: 13383 | E68: 8017 | F68: 3998 | G68: 1759 | H68: 648 | I68: 226 | J68: 87 | K68: 39 | L68: 13 | M68: 4 | N68: 5 | O68: 1 | P68: 3 | Q68: 2 | R68: 103485
A69: 2001/02 | B69: 46603 | C69: 22897 | D69: 15213 | E69: 10170 | F69: 5549 | G69: 2589 | H69: 1134 | I69: 469 | J69: 196 | K69: 99 | L69: 37 | M69: 19 | N69: 9 | O69: 10 | P69: 6 | Q69: 2.26 | R69: 105000
A70: 2002/03 | B70: 50640 | C70: 24203 | D70: 15673 | E70: 9686 | F70: 5015 | G70: 2187 | H70: 894 | I70: 348 | J70: 106 | K70: 57 | L70: 25 | M70: 9 | N70: 2 | O70: 2 | P70: 1 | Q70: 2.15 | R70: 108848
A71: 2003/04 | B71: 54922 | C71: 25900 | D71: 16624 | E71: 10569 | F71: 5609 | G71: 2429 | H71: 898 | I71: 376 | J71: 128 | K71: 42 | L71: 20 | M71: 11 | N71: 4 | O71: 5 | P71: 3 | Q71: 2.2 | R71: 117544
A72: 2004/05 | B72: 61312 | C72: 27698 | D72: 17910 | E72: 11678 | F72: 6575 | G72: 3023 | H72: 1235 | I72: 525 | J72: 210 | K72: 98 | L72: 47 | M72: 19 | N72: 12 | O72: 4 | P72: 7 | Q72: 2.2 | R72: 130353
A73: 2005/06 | B73: 68347 | C73: 30691 | D73: 19069 | E73: 12517 | F73: 7234 | G73: 3466 | H73: 1528 | I73: 652 | J73: 312 | K73: 152 | L73: 66 | M73: 35 | N73: 17 | O73: 11 | P73: 13 | Q73: 2.2 | R73: 130934
A74: 2006/07 | B74: 66300 | C74: 28675 | D74: 17859 | E74: 11902 | F74: 7035 | G74: 3515 | H74: 1527 | I74: 699 | J74: 300 | K74: 132 | L74: 62 | M74: 45 | N74: 12 | O74: 15 | P74: 17 | Q74: 2.2 | R74: 137836
A75: 2007/08 | B75: 71660 | C75: 29567 | D75: 18599 | E75: 12342 | F75: 7285 | G75: 3864 | H75: 1789 | I75: 872 | J75: 398 | K75: 189 | L75: 116 | M75: 50 | N75: 33 | O75: 10 | P75: 27 | Q75: 2.2 | R75: 146800
A76: 2008/09 | B76: 74231 | C76: 29360 | D76: 17823 | E76: 11541 | F76: 6906 | G76: 3578 | H76: 1844 | I76: 911 | J76: 483 | K76: 247 | L76: 145 | M76: 82 | N76: 51 | O76: 26 | P76: 48 | Q76: 2.1730085 | R76: 147276
A77: 2009/10 | B77: 72892 | C77: 29117 | D77: 17949 | E77: 11611 | F77: 6974 | G77: 3835 | H77: 1898 | I77: 1092 | J77: 546 | K77: 318 | L77: 153 | M77: 95 | N77: 44 | O77: 25 | P77: 71 | Q77: 2.2127336 | R77: 146620
A78: 2010/11 | B78: 74452 | C78: 30281 | D78: 19043 | E78: 11905 | F78: 6987 | G78: 3792 | H78: 1958 | I78: 1010 | J78: 504 | K78: 283 | L78: 147 | M78: 90 | N78: 40 | O78: 30 | P78: 66 | Q78: 2.2007331 | R78: 150588
A79: 2011/12 | B79: 73347 | C79: 30563 | D79: 18855 | E79: 12058 | F79: 6939 | G79: 3730 | H79: 2004 | I79: 976 | J79: 523 | K79: 243 | L79: 147 | M79: 118 | N79: 38 | O79: 29 | P79: 43 | Q79: 2.2055771 | R79: 149613
A80: 2012/13 | B80: 67999 | C80: 29972 | D80: 18399 | E80: 11383 | F80: 6499 | G80: 3351 | H80: 1696 | I80: 790 | J80: 443 | K80: 226 | L80: 129 | M80: 70 | N80: 41 | O80: 21 | P80: =R80-SUM(B80:O80) -> 35 | Q80: =+'vš_druh studia '!D93/'vš_druh studia '!E93 -> 2.1938548 | R80: =+'vš_druh studia '!E93 -> 141054
A81: 2013/14 | B81: 65102 | C81: 28667 | D81: 17791 | E81: 10677 | F81: 5960 | G81: 3045 | H81: 1435 | I81: 745 | J81: 366 | K81: 194 | L81: 102 | M81: 53 | N81: 27 | O81: 24 | P81: =R81-SUM(B81:O81) -> 69 | Q81: =+'vš_druh studia '!D101/'vš_druh studia '!E101 -> 2.1671347 | R81: =+'vš_druh studia '!E101 -> 134257
A82: 2014/15 | B82: 59967 | C82: 26168 | D82: 15859 | E82: 9399 | F82: 4967 | G82: 2675 | H82: 1243 | I82: 686 | J82: 351 | K82: 196 | L82: 116 | M82: 51 | N82: 31 | O82: 16 | P82: =R82-SUM(B82:O82) -> 36 | Q82: =+'vš_druh studia '!D109/'vš_druh studia '!E109 -> 2.1391661 | R82: =+'vš_druh studia '!E109 -> 121761
A83: 2015/16 | B83: 55397 | C83: 24191 | D83: 14856 | E83: 8736 | F83: 4801 | G83: 2409 | H83: 1307 | I83: 648 | J83: 301 | K83: 191 | L83: 89 | M83: 58 | N83: 33 | O83: 15 | P83: =R83-SUM(B83:O83) -> 61 | Q83: =+'vš_druh studia '!D117/'vš_druh studia '!E117 -> 2.1550229 | R83: =+'vš_druh studia '!E117 -> 113093
A84: 2016/17 | B84: 50036 | C84: 21867 | D84: 13382 | E84: 8089 | F84: 4480 | G84: 2336 | H84: 1222 | I84: 628 | J84: 337 | K84: 195 | L84: 89 | M84: 50 | N84: 19 | O84: 20 | P84: =R84-SUM(B84:O84) -> 41 | Q84: =+'vš_druh studia '!D125/'vš_druh studia '!E125 -> 2.1806481 | R84: =+'vš_druh studia '!E125 -> 102791
A85: 2017/18 | B85: 47542 | C85: 21268 | D85: 12861 | E85: 7484 | F85: 4089 | G85: 2268 | H85: 1133 | I85: 590 | J85: 311 | K85: 190 | L85: 114 | M85: 56 | N85: 35 | O85: 24 | P85: =R85-SUM(B85:O85) -> 33 | Q85: =+'vš_druh studia '!D133/'vš_druh studia '!E133 -> 2.1767485 | R85: =+'vš_druh studia '!E133 -> 97998
A86: 2018/19 | B86: 46565 | C86: 20887 | D86: 12268 | E86: 7158 | F86: 4063 | G86: 2091 | H86: 948 | I86: 535 | J86: 285 | K86: 137 | L86: 83 | M86: 46 | N86: 34 | O86: 14 | P86: =R86-SUM(B86:O86) -> 23 | Q86: =+'vš_druh studia '!D141/'vš_druh studia '!E141 -> 2.1448332 | R86: =+'vš_druh studia '!E141 -> 95137
A87: 2019/20 | B87: 47460 | C87: 21614 | D87: 13093 | E87: 7437 | F87: 4090 | G87: 2136 | H87: 1101 | I87: 545 | J87: 279 | K87: 150 | L87: 93 | M87: 54 | N87: 33 | O87: 16 | P87: 26 | Q87: =+'vš_druh studia '!D149/'vš_druh studia '!E149 -> 2.15483 | R87: =+'vš_druh studia '!E149 -> 98127
A88: 2020/21 | B88: 48257 | C88: 21987 | D88: 12899 | E88: 7458 | F88: 3916 | G88: 2099 | H88: 1071 | I88: 571 | J88: 282 | K88: 133 | L88: 76 | M88: 38 | N88: 35 | O88: 12 | P88: 34 | Q88: =+'vš_druh studia '!D157/'vš_druh studia '!E157 -> 2.1386799 | R88: =+'vš_druh studia '!E157 -> 98868
A89: 2021/22 | B89: 46795 | C89: 23225 | D89: 14252 | E89: 8418 | F89: 4765 | G89: 2390 | H89: 1190 | I89: 598 | J89: 317 | K89: 180 | L89: 92 | M89: 64 | N89: 24 | O89: 19 | P89: 15 | Q89: =+'vš_druh studia '!D165/'vš_druh studia '!E165 -> 2.2322603 | R89: =+'vš_druh studia '!E165 -> 102355
A90: 2022/23 | B90: 44756 | C90: 22968 | D90: 14111 | E90: 8749 | F90: 4916 | G90: 2597 | H90: 1336 | I90: 688 | J90: 363 | K90: 200 | L90: 96 | M90: 57 | N90: 45 | O90: 22 | P90: 45 | Q90: =+'vš_druh studia '!D166/'vš_druh studia '!E166 -> 2.4758561 | R90: =+'vš_druh studia '!E173 -> 100748
A91: 2023/24 | B91: 45199 | C91: 23557 | D91: 15001 | E91: 9236 | F91: 5276 | G91: 3024 | H91: 1518 | I91: 882 | J91: 441 | K91: 249 | L91: 140 | M91: 85 | N91: 50 | O91: 17 | P91: 45 | Q91: =+'vš_druh studia '!D167/'vš_druh studia '!E167 -> 2.2148662 | R91: =+'vš_druh studia '!E181 -> 104596
A92: 2024/25 | B92: 45580 | C92: 23985 | D92: 15624 | E92: 9646 | F92: 5651 | G92: 3051 | H92: 1689 | I92: 987 | J92: 445 | K92: 262 | L92: 161 | M92: 79 | N92: 36 | O92: 32 | P92: 65 | Q92: =+'vš_druh studia '!D168/'vš_druh studia '!E168 -> 2.191191 | R92: =+'vš_druh studia '!E189 -> 107140
A93: 2025/26 | B93: 46171 | C93: 24914 | D93: 16783 | E93: 10194 | F93: 5745 | G93: 3418 | H93: 1775 | I93: 1009 | J93: 577 | K93: 294 | L93: 193 | M93: 106 | N93: 70 | O93: 47 | P93: 76 | Q93: =+'vš_druh studia '!D169/'vš_druh studia '!E169 -> 1.2727364 | R93: =+'vš_druh studia '!E197 -> 111357
A95: Struktura uchazečů podle počtu podaných přihlášek 1999/00–2025/26
B97: Násobnost přihlášek
B98: 1 | C98: 2 | D98: 3 | E98: 4 | F98: 5 | G98: 6 | H98: 7 | I98: 8 | J98: 9 | K98: 10 | L98: 11 | M98: 12 | N98: 13 | O98: 14 | P98: 15 a >
A99: 1999/00 | B99: 0.42788585 | C99: 0.23443383 | D99: 0.16013354 | E99: 0.098011135 | F99: 0.048170946 | G99: 0.019698967 | H99: 0.0069235657 | I99: 0.0030349877 | J99: 0.0010243084 | K99: 0.00036040479 | L99: 0.0001802024 | M99: 6.6390356e-05 | N99: 4.7421683e-05 | O99: 1.8968673e-05 | P99: 9.4843366e-06
A100: 2000/01 | B100: 0.51241243 | C100: 0.21524859 | D100: 0.12932309 | E100: 0.077470165 | F100: 0.038633618 | G100: 0.016997633 | H100: 0.0062617771 | I100: 0.0021838914 | J100: 0.00084070155 | K100: 0.00037686621 | L100: 0.00012562207 | M100: 3.8652945e-05 | N100: 4.8316181e-05 | O100: 9.6632362e-06 | P100: 2.8989709e-05
A101: 2001/02 | B101: 0.4438381 | C101: 0.21806667 | D101: 0.14488571 | E101: 0.096857143 | F101: 0.052847619 | G101: 0.024657143 | H101: 0.0108 | I101: 0.0044666667 | J101: 0.0018666667 | K101: 0.00094285714 | L101: 0.00035238095 | M101: 0.00018095238 | N101: 8.5714286e-05 | O101: 9.5238095e-05 | P101: 5.7142857e-05
A102: 2002/03 | B102: 0.46523593 | C102: 0.22235595 | D102: 0.14398978 | E102: 0.088986477 | F102: 0.046073423 | G102: 0.020092239 | H102: 0.0082132883 | I102: 0.0031971189 | J102: 0.00097383507 | K102: 0.00052366603 | L102: 0.00022967808 | M102: 8.268411e-05 | N102: 1.8374247e-05 | O102: 1.8374247e-05 | P102: 9.1871233e-06
A103: 2003/04 | B103: 0.46724631 | C103: 0.22 | D103: 0.141 | E103: 0.09 | F103: 0.048 | G103: 0.021 | H103: 0.008 | I103: 0.003 | J103: 0.001 | K103: 0.00022967808 | L103: 0.00022967808 | M103: 8.268411e-05 | N103: 1.8374247e-05 | O103: 1.8374247e-05 | P103: 9.1871233e-06
A104: 2004/05 | B104: 0.4704 | C104: 0.2125 | D104: 0.1374 | E104: 0.0896 | F104: 0.050439959 | G104: 0.023190874 | H104: 0.0094742737 | I104: 0.0044027525 | J104: 0.0016110101 | K104: 0.00075180471 | L104: 0.00022967808 | M104: 8.268411e-05 | N104: 1.8374247e-05 | O104: 1.8374247e-05 | P104: 9.1871233e-06
A105: 2005/06 | B105: 0.47426966 | C105: 0.21296926 | D105: 0.13232253 | E105: 0.086857262 | F105: 0.050197766 | G105: 0.024051072 | H105: 0.010603012 | I105: 0.0045243217 | J105: 0.0021650128 | K105: 0.0010547498 | L105: 0.00045798348 | M105: 0.00024287003 | N105: 0.00011796544 | O105: 7.6330581e-05 | P105: 7.6330581e-05
A106: 2006/07 | B106: 0.48010428 | C106: 0.20764691 | D106: 0.12932402 | E106: 0.086187045 | F106: 0.050943191 | G106: 0.025453492 | H106: 0.011057605 | I106: 0.0050617329 | J106: 0.0021724175 | K106: 0.00095586372 | L106: 0.00044896629 | M106: 0.00032586263 | N106: 8.6896702e-05 | O106: 0.00010862088 | P106: 7.6330581e-05
A107: 2007/08 | B107: 0.48814381 | C107: 0.20140871 | D107: 0.12669532 | E107: 0.084072997 | F107: 0.049625003 | G107: 0.026321347 | H107: 0.012186565 | I107: 0.005940014 | J107: 0.0027111532 | K107: 0.0012874572 | L107: 0.00079018535 | M107: 0.00034059713 | N107: 0.00022479411 | O107: 6.8119427e-05 | P107: 6.8119427e-05
A108: 2008/09 | B108: 0.50402645 | C108: 0.19935359 | D108: 0.12101768 | E108: 0.078363073 | F108: 0.046891551 | G108: 0.024294522 | H108: 0.012520709 | I108: 0.006185665 | J108: 0.0032795568 | K108: 0.0016771232 | L108: 0.00098454602 | M108: 0.00055677775 | N108: 0.0003462886 | O108: 0.00017653929 | P108: 0.00032591868
A109: 2009/10 | B109: 0.49714909 | C109: 0.19858819 | D109: 0.1224185 | E109: 0.079191106 | F109: 0.047565134 | G109: 0.02615605 | H109: 0.012945028 | I109: 0.0074478243 | J109: 0.0037239122 | K109: 0.0021688719 | L109: 0.0010435138 | M109: 0.00064793343 | N109: 0.00030009548 | O109: 0.0001705088 | P109: 0.00048424499
A110: 2010/11 | B110: 0.49440859 | C110: 0.20108508 | D110: 0.12645762 | E110: 0.079056764 | F110: 0.046398119 | G110: 0.025181289 | H110: 0.013002364 | I110: 0.0067070417 | J110: 0.0033468802 | K110: 0.0018792998 | L110: 0.0009761734 | M110: 0.00059765718 | N110: 0.00026562542 | O110: 0.00019921906 | P110: 0.00043828193
A111: 2011/12 | B111: =+B79/$R79 -> 0.49024483 | C111: =+C79/$R79 -> 0.20428038 | D111: =+D79/$R79 -> 0.12602514 | E111: =+E79/$R79 -> 0.080594601 | F111: =+F79/$R79 -> 0.04637966 | G111: =+G79/$R79 -> 0.024930989 | H111: =+H79/$R79 -> 0.013394558 | I111: =+I79/$R79 -> 0.0065234973 | ... P111: =+P79/$R79 -> 0.00028740818
A112: 2012/13 | B112: =+B80/$R80 -> 0.48207779 | C112: =+C80/$R80 -> 0.212486 | D112: =+D80/$R80 -> 0.13043941 | E112: =+E80/$R80 -> 0.08069959 | F112: =+F80/$R80 -> 0.046074553 | G112: =+G80/$R80 -> 0.023756859 | H112: =+H80/$R80 -> 0.012023764 | I112: =+I80/$R80 -> 0.0056006919 | ... P112: =+P80/$R80 -> 0.00024813192
A113: 2013/14 | B113: =+B81/$R81 -> 0.48490581 | C113: =+C81/$R81 -> 0.21352332 | D113: =+D81/$R81 -> 0.13251451 | E113: =+E81/$R81 -> 0.07952658 | F113: =+F81/$R81 -> 0.044392471 | G113: =+G81/$R81 -> 0.022680382 | H113: =+H81/$R81 -> 0.010688456 | I113: =+I81/$R81 -> 0.0055490589 | ... P113: =+P81/$R81 -> 0.00051393968
A114: 2014/15 | B114: =+B82/$R82 -> 0.4924976 | C114: =+C82/$R82 -> 0.21491282 | D114: =+D82/$R82 -> 0.13024696 | E114: =+E82/$R82 -> 0.077192204 | F114: =+F82/$R82 -> 0.040793029 | G114: =+G82/$R82 -> 0.021969268 | H114: =+H82/$R82 -> 0.010208523 | I114: =+I82/$R82 -> 0.0056339879 | ... P114: =+P82/$R82 -> 0.00029566117
A115: 2015/16 | B115: =+B83/$R83 -> 0.4898358 | C115: =+C83/$R83 -> 0.2139036 | D115: =+D83/$R83 -> 0.13136092 | E115: =+E83/$R83 -> 0.07724616 | F115: =+F83/$R83 -> 0.042451787 | G115: =+G83/$R83 -> 0.021301053 | H115: =+H83/$R83 -> 0.01155686 | I115: =+I83/$R83 -> 0.0057297976 | ... P115: =+P83/$R83 -> 0.0005393791
A116: =S3 -> 2016/17 | B116: =+B84/$R84 -> 0.48677413 | C116: =+C84/$R84 -> 0.21273263 | D116: =+D84/$R84 -> 0.13018649 | E116: =+E84/$R84 -> 0.07869366 | F116: =+F84/$R84 -> 0.043583582 | G116: =+G84/$R84 -> 0.022725725 | H116: =+H84/$R84 -> 0.0118882 | I116: =+I84/$R84 -> 0.0061094843 | ... P116: =+P84/$R84 -> 0.00039886761
A117: 2017/18 | B117: =+B85/$R85 -> 0.48513235 | C117: =+C85/$R85 -> 0.21702484 | D117: =+D85/$R85 -> 0.13123737 | E117: =+E85/$R85 -> 0.076368905 | F117: =+F85/$R85 -> 0.041725341 | G117: =+G85/$R85 -> 0.023143329 | H117: =+H85/$R85 -> 0.01156146 | I117: =+I85/$R85 -> 0.006020531 | ... P117: =+P85/$R85 -> 0.00033674157
A118: 2018/19 | B118: =+B86/$R86 -> 0.48945205 | C118: =+C86/$R86 -> 0.21954655 | D118: =+D86/$R86 -> 0.12895088 | E118: =+E86/$R86 -> 0.075238866 | F118: =+F86/$R86 -> 0.042706833 | G118: =+G86/$R86 -> 0.021978831 | H118: =+H86/$R86 -> 0.0099645774 | I118: =+I86/$R86 -> 0.0056234693 | ... P118: =+P86/$R86 -> 0.00024175662
A119: 2019/20 | B119: =+B87/$R87 -> 0.48365893 | C119: =+C87/$R87 -> 0.22026557 | D119: =+D87/$R87 -> 0.13342913 | E119: =+E87/$R87 -> 0.075789538 | F119: =+F87/$R87 -> 0.041680679 | G119: =+G87/$R87 -> 0.021767709 | H119: =+H87/$R87 -> 0.011220153 | I119: =+I87/$R87 -> 0.0055540269 | ... P119: =+P87/$R87 -> 0.00026496275
A120: 2020/21 | B120: =+B88/$R88 -> 0.48809524 | C120: =+C88/$R88 -> 0.22238743 | D120: =+D88/$R88 -> 0.13046689 | E120: =+E88/$R88 -> 0.075433912 | F120: =+F88/$R88 -> 0.039608367 | G120: =+G88/$R88 -> 0.021230327 | H120: =+H88/$R88 -> 0.010832625 | I120: =+I88/$R88 -> 0.0057753773 | ... P120: =+P88/$R88 -> 0.00034389287
A121: 2021/22 | B121: =+B89/$R89 -> 0.45718333 | C121: =+C89/$R89 -> 0.22690636 | D121: =+D89/$R89 -> 0.13924088 | E121: =+E89/$R89 -> 0.082243173 | F121: =+F89/$R89 -> 0.046553661 | G121: =+G89/$R89 -> 0.023350105 | H121: =+H89/$R89 -> 0.011626203 | I121: =+I89/$R89 -> 0.0058424112 | ... P121: =+P89/$R89 -> 0.00014654878
A122: 2022/23 | B122: =+B90/$R90 -> 0.44423711 | C122: =+C90/$R90 -> 0.22797475 | D122: =+D90/$R90 -> 0.14006233 | E122: =+E90/$R90 -> 0.086840434 | F122: =+F90/$R90 -> 0.048795013 | G122: =+G90/$R90 -> 0.025777187 | H122: =+H90/$R90 -> 0.013260809 | I122: =+I90/$R90 -> 0.0068289197 | ... P122: =+P90/$R90 -> 0.00044665899
A123: 2023/24 | B123: =+B91/$R91 -> 0.43212934 | C123: =+C91/$R91 -> 0.22521894 | D123: =+D91/$R91 -> 0.14341849 | E123: =+E91/$R91 -> 0.088301656 | F123: =+F91/$R91 -> 0.050441699 | G123: =+G91/$R91 -> 0.028911239 | H123: =+H91/$R91 -> 0.014512983 | I123: =+I91/$R91 -> 0.0084324448 | ... P123: =+P91/$R91 -> 0.00043022678
A124: 2024/25 | B124: =+B92/$R92 -> 0.42542468 | C124: =+C92/$R92 -> 0.22386597 | D124: =+D92/$R92 -> 0.14582789 | E124: =+E92/$R92 -> 0.090031734 | F124: =+F92/$R92 -> 0.052744073 | G124: =+G92/$R92 -> 0.028476759 | H124: =+H92/$R92 -> 0.01576442 | I124: =+I92/$R92 -> 0.0092122457 | ... P124: =+P92/$R92 -> 0.00060668284
A125: 2025/26 | B125: =+B93/$R93 -> 0.41462144 | C125: =+C93/$R93 -> 0.22373088 | D125: =+D93/$R93 -> 0.15071347 | E125: =+E93/$R93 -> 0.091543414 | F125: =+F93/$R93 -> 0.051590829 | G125: =+G93/$R93 -> 0.030694074 | H125: =+H93/$R93 -> 0.015939725 | I125: =+I93/$R93 -> 0.0090609481 | ... P125: =+P93/$R93 -> 0.00068248965

Sheet vš_druh studia 
A1: Základní přehled o přijímacím řízení na vysoké školy podle druhu studia v letech 2001/02–2025/26
A3: Druh a forma studia | D3: Počet podaných přihlášek | E3: Počet přihlášených | F3: Index přihlášek | G3: Počet přihlášek uchazečů, kteří se dostavili k přijímacímu řízení | H3: Počet uchazečů, kteří se dostavili k přijímacímu řízení | I3: Podíl přihlášek uchazečů, kteří se dostavili k přijímacímu řízení | J3: Podíl přihlášených, kteří se dostavili k přijímacímu řízení | K3: Počet přijatých | L3: Počet zapsaných | M3: Počet přijatých / počet přihlášených | N3: Úspěšnost uchazečů*)
A4: 2001/02
A5: Celkem | D5: 237452 | E5: 105000 | F5: =+D5/E5 -> 2.2614476 | G5: 192616 | H5: 94367 | I5: =+G5/D5 -> 0.81117868 | J5: =+H5/E5 -> 0.89873333 | K5: 54676 | L5: 52527 | M5: =+K5/E5 -> 0.52072381 | N5: =K5/H5 -> 0.57939746
A6: v tom | B6: Prezenční studium celkem | D6: 205170 | E6: 82297 | F6: =+D6/E6 -> 2.4930435 | G6: 166679 | H6: 74620 | I6: =+G6/D6 -> 0.8123946 | J6: =+H6/E6 -> 0.90671592 | K6: 45349 | L6: 43529 | M6: =+K6/E6 -> 0.55104074 | N6: =K6/H6 -> 0.60773251
B7: v tom | C7: bakalářské studijní programy | D7: 58921 | E7: 39750 | F7: =+D7/E7 -> 1.4822893 | G7: 48418 | H7: 34331 | I7: =+G7/D7 -> 0.82174437 | J7: =+H7/E7 -> 0.86367296 | K7: 15850 | L7: 12744 | M7: =+K7/E7 -> 0.39874214 | N7: =K7/H7 -> 0.46168186
C8: magisterské studijní programy | D8: 146249 | E8: 67509 | F8: =+D8/E8 -> 2.166363 | G8: 118261 | H8: 60720 | I8: =+G8/D8 -> 0.80862775 | J8: =+H8/E8 -> 0.89943563 | K8: 34468 | L8: 31938 | M8: =+K8/E8 -> 0.51056896 | N8: =K8/H8 -> 0.56765481
B9: Kombinované / distanční studium celkem | D9: 32282 | E9: 26640 | F9: =+D9/E9 -> 1.2117868 | G9: 25937 | H9: 22249 | I9: =+G9/D9 -> 0.80345084 | J9: =+H9/E9 -> 0.83517267 | K9: 9852 | L9: 9204 | M9: =+K9/E9 -> 0.36981982 | N9: =K9/H9 -> 0.44280642
B10: v tom | C10: bakalářské studijní programy | D10: 21699 | E10: 18487 | F10: =+D10/E10 -> 1.1737437 | G10: 17462 | H10: 15639 | I10: =+G10/D10 -> 0.80473755 | J10: =+H10/E10 -> 0.8459458 | K10: 6442 | L10: 5942 | M10: =+K10/E10 -> 0.34846108 | N10: =K10/H10 -> 0.41191892
C11: magisterské studijní programy | D11: 10583 | E11: 9545 | F11: =+D11/E11 -> 1.108748 | G11: 8475 | H11: 7866 | I11: =+G11/D11 -> 0.80081262 | J11: =+H11/E11 -> 0.82409639 | K11: 3562 | L11: 3299 | M11: =+K11/E11 -> 0.37317968 | N11: =K11/H11 -> 0.45283499
A12: 2002/03
A13: Celkem | D13: 234026 | E13: 108848 | F13: =D13/E13 -> 2.1500257 | G13: 191809 | H13: 98337 | I13: =G13/D13 -> 0.81960551 | J13: =+H13/E13 -> 0.90343415 | K13: 61077 | L13: 58342 | M13: =K13/E13 -> 0.56112193 | N13: 0.62109887
A14: v tom | B14: Prezenční studium celkem | D14: 198393 | E14: 83674 | F14: =D14/E14 -> 2.3710233 | G14: 162489 | H14: 76306 | I14: =G14/D14 -> 0.81902587 | J14: =+H14/E14 -> 0.91194397 | K14: 49877 | L14: 47684 | M14: =K14/E14 -> 0.5960872 | N14: 0.65364454
B15: v tom | C15: bakalářské studijní programy | D15: 77180 | E15: 50322 | F15: =D15/E15 -> 1.5337228 | G15: 64201 | H15: 44167 | I15: =G15/D15 -> 0.83183467 | J15: =+H15/E15 -> 0.87768769 | K15: 24946 | L15: 20431 | M15: =K15/E15 -> 0.49572751 | N15: 0.56481083
C16: magisterské studijní programy | D16: 121213 | E16: 61248 | F16: =D16/E16 -> 1.9790524 | G16: 98288 | H16: 54602 | I16: =G16/D16 -> 0.81087012 | J16: =+H16/E16 -> 0.89149033 | K16: 32705 | L16: 29181 | M16: =K16/E16 -> 0.53397662 | N16: 0.33274662
B17: Kombinované / distanční studium celkem | D17: 35633 | E17: 29328 | F17: =D17/E17 -> 1.2149823 | G17: 29320 | H17: 29320 | I17: =G17/D17 -> 0.82283277 | J17: =+H17/E17 -> 0.99972722 | K17: 11874 | L17: 10955 | M17: =K17/E17 -> 0.40486907 | N17: 0.40497954
B18: v tom | C18: bakalářské studijní programy | D18: 26211 | E18: 22278 | F18: =D18/E18 -> 1.1765419 | G18: 21805 | H18: 19150 | I18: =G18/D18 -> 0.83190264 | J18: =+H18/E18 -> 0.85959242 | K18: 8743 | L18: 8008 | M18: =K18/E18 -> 0.39244995 | N18: 0.40096308
C19: magisterské studijní programy | D19: 9421 | E19: 8556 | F19: =D19/E19 -> 1.1010986 | G19: 7515 | H19: 6942 | I19: =G19/D19 -> 0.79768602 | J19: =+H19/E19 -> 0.81136045 | K19: 3278 | L19: 2991 | M19: =K19/E19 -> 0.38312295 | N19: 0.43625233
A20: 2003/04
A21: Celkem | D21: 253273 | E21: 117544 | F21: =D21/E21 -> 2.154708 | G21: 209436 | H21: 107169 | I21: =G21/D21 -> 0.82691799 | J21: =+H21/E21 -> 0.91173518 | K21: 69582 | L21: 66517 | M21: =K21/E21 -> 0.59196556 | N21: 0.64927358
A22: v tom | B22: Prezenční studium celkem | D22: 216092 | E22: 91166 | F22: =D22/E22 -> 2.3703135 | G22: 178490 | H22: 83894 | I22: =G22/D22 -> 0.82599078 | J22: =+H22/E22 -> 0.92023342 | K22: 56930 | L22: 54329 | M22: =K22/E22 -> 0.62446526 | N22: 0.67859442
B23: v tom | C23: bakalářské studijní programy | D23: 122985 | E23: 69258 | F23: =D23/E23 -> 1.7757515 | G23: 101510 | H23: 62211 | I23: =G23/D23 -> 0.82538521 | J23: =+H23/E23 -> 0.89825002 | K23: 39130 | L23: 33296 | M23: =K23/E23 -> 0.56498888 | N23: 0.62898844
C24: magisterské studijní programy | D24: 93107 | E24: 52057 | F24: =D24/E24 -> 1.7885587 | G24: 76980 | H24: 46402 | I24: =G24/D24 -> 0.82679068 | J24: =+H24/E24 -> 0.89136908 | K24: 26368 | L24: 22313 | M24: =K24/E24 -> 0.5065217 | N24: 0.56825137
B25: Kombinované / distanční studium celkem | D25: 37181 | E25: 30806 | F25: =D25/E25 -> 1.2069402 | G25: 30946 | H25: 26589 | I25: =G25/D25 -> 0.83230682 | J25: =+H25/E25 -> 0.86311108 | K25: 13445 | L25: 12530 | M25: =K25/E25 -> 0.43644095 | N25: 0.50566024
B26: v tom | C26: bakalářské studijní programy | D26: 31188 | E26: 26434 | F26: =D26/E26 -> 1.1798441 | G26: 26164 | H26: 22845 | I26: =G26/D26 -> 0.8389124 | J26: =+H26/E26 -> 0.86422789 | K26: 11180 | L26: 10310 | M26: =K26/E26 -> 0.42294015 | N26: 0.48938499
C27: magisterské studijní programy | D27: 5993 | E27: 5595 | F27: =D27/E27 -> 1.0711349 | G27: 4782 | H27: 4546 | I27: =G27/D27 -> 0.79793092 | J27: =+H27/E27 -> 0.81251117 | K27: 2388 | L27: 2253 | M27: =K27/E27 -> 0.42680965 | N27: 0.52529696
A28: 2004/05
A29: Celkem | D29: 284977 | E29: 130353 | F29: 2.1861944 | G29: 240977 | H29: 119446 | I29: 0.84560157 | J29: 0.9163272 | K29: 75613 | L29: 72199 | M29: 0.58006337 | N29: 0.63303083
A30: v tom | B30: Prezenční studium celkem | D30: 233597 | E30: 94630 | F30: 2.4685301 | G30: 197385 | H30: 87705 | I30: 0.84498089 | J30: 0.92682025 | K30: 59036 | L30: 56112 | M30: 0.62386135 | N30: 0.67312012
B31: v tom | C31: bakalářské studijní programy | D31: 158898 | E31: 78931 | F31: 2.0131254 | G31: 134677 | H31: 72271 | I31: 0.84756888 | J31: 0.91562251 | K31: 48224 | L31: 43002 | M31: 0.61096401 | N31: 0.66726626
C32: magisterské studijní programy | D32: 74699 | E32: 41964 | F32: 1.7800734 | G32: 62708 | H32: 37668 | I32: 0.83947576 | J32: 0.89762654 | K32: 17348 | L32: 14116 | M32: 0.41340196 | N32: 0.46055007
B33: Kombinované / distanční studium celkem | D33: 51380 | E33: 40993 | F33: 1.2533847 | G33: 43592 | H33: 35853 | I33: 0.84842351 | J33: 0.87461274 | K33: 17422 | L33: 16494 | M33: 0.42499939 | N33: 0.48592865
B34: v tom | C34: bakalářské studijní programy | D34: 44770 | E34: 36598 | F34: 1.2232909 | G34: 37962 | H34: 31956 | I34: 0.84793388 | J34: 0.87316247 | K34: 15586 | L34: 14710 | M34: 0.42587027 | N34: 0.48773313
C35: magisterské studijní programy | D35: 6610 | E35: 6020 | F35: 1.0980066 | G35: 5630 | H35: 5142 | I35: 0.85173979 | J35: 0.85415282 | K35: 1990 | L35: 1829 | M35: 0.33056478 | N35: 0.38700895
A36: 2005/06
A37: Celkem | D37: 294758 | E37: 130934 | F37: =D37/E37 -> 2.2511953 | G37: 248747 | H37: 119687 | I37: =G37/D37 -> 0.84390246 | J37: =+H37/E37 -> 0.91410176 | K37: 79986 | L37: 76209 | M37: =+K37/E37 -> 0.61088793 | N37: =K37/H37 -> 0.66829313
A38: v tom | B38: Prezenční studium celkem | D38: 240902 | E38: 94259 | F38: =D38/E38 -> 2.5557453 | G38: 204248 | H38: 87652 | I38: =G38/D38 -> 0.84784684 | J38: =+H38/E38 -> 0.9299059 | K38: 61808 | L38: 58625 | M38: =+K38/E38 -> 0.65572518 | N38: =K38/H38 -> 0.70515219
B39: v tom | C39: bakalářské studijní programy | D39: 176307 | E39: 81173 | F39: =D39/E39 -> 2.1719907 | G39: 149650 | H39: 75059 | I39: =G39/D39 -> 0.84880351 | J39: =+H39/E39 -> 0.92467939 | K39: 52791 | L39: 47566 | M39: =+K39/E39 -> 0.65035172 | N39: =K39/H39 -> 0.70332672
C40: magisterské studijní programy | D40: 64595 | E40: 34629 | F40: =D40/E40 -> 1.8653441 | G40: 54598 | H40: 31024 | I40: =G40/D40 -> 0.8452357 | J40: =+H40/E40 -> 0.8958965 | K40: 14332 | L40: 11963 | M40: =+K40/E40 -> 0.41387277 | N40: =K40/H40 -> 0.46196493
B41: Kombinované / distanční studium celkem | D41: 53856 | E41: 42628 | F41: =D41/E41 -> 1.263395 | G41: 44499 | H41: 36659 | I41: =G41/D41 -> 0.82625891 | J41: =+H41/E41 -> 0.85997466 | K41: 19193 | L41: 18048 | M41: =+K41/E41 -> 0.45024397 | N41: =K41/H41 -> 0.52355493
B42: v tom | C42: bakalářské studijní programy | D42: 49763 | E42: 39925 | F42: =D42/E42 -> 1.246412 | G42: 41061 | H42: 34230 | I42: =G42/D42 -> 0.82513112 | J42: =+H42/E42 -> 0.85735755 | K42: 18092 | L42: 16957 | M42: =+K42/E42 -> 0.45314966 | N42: =K42/H42 -> 0.52854221
C43: magisterské studijní programy | D43: 4093 | E43: 3723 | F43: =D43/E43 -> 1.0993822 | G43: 3438 | H43: 3156 | I43: =G43/D43 -> 0.83997068 | J43: =+H43/E43 -> 0.84770346 | K43: 1195 | L43: 1118 | M43: =+K43/E43 -> 0.32097771 | N43: =K43/H43 -> 0.37864385
A44: 2006/07
A45: Celkem | D45: 303334 | E45: 137836 | F45: 2.2006878 | G45: 256955 | H45: 127125 | I45: 0.84710253 | J45: 0.92229171 | K45: 89075 | L45: 85482 | M45: 0.64623901 | N45: 0.7006883
A46: v tom | B46: Prezenční studium celkem | D46: 243851 | E46: 96707 | F46: 2.5215445 | G46: 206651 | H46: 90214 | I46: 0.84744783 | J46: 0.93285905 | K46: 66608 | L46: 63703 | M46: 0.6887609 | N46: 0.7383333
B47: v tom | C47: bakalářské studijní programy | D47: 190932 | E47: 87073 | F47: 2.1927808 | G47: 161784 | H47: 80757 | I47: 0.84733832 | J47: 0.92746316 | K47: 59987 | L47: 54815 | M47: 0.68892768 | N47: 0.74280867
C48: magisterské studijní programy | D48: 52919 | E48: 28873 | F48: 1.8328196 | G48: 44867 | H48: 26020 | I48: 0.84784293 | J48: 0.90118796 | K48: 11735 | L48: 9748 | M48: 0.40643508 | N48: 0.45099923
B49: Kombinované / distanční studium celkem | D49: 59483 | E49: 47704 | F49: 1.2469185 | G49: 50304 | H49: 42011 | I49: 0.845687 | J49: 0.8806599 | K49: 23768 | L49: 22338 | M49: 0.49823914 | N49: 0.56575659
B50: v tom | C50: bakalářské studijní programy | D50: 54848 | E50: 44830 | F50: 1.2234664 | G50: 46386 | H50: 39358 | I50: 0.84571908 | J50: 0.87793888 | K50: 22683 | L50: 21263 | M50: 0.50597814 | N50: 0.57632502
C51: magisterské studijní programy | D51: 4635 | E51: 4123 | F51: 1.1241814 | G51: 3918 | H51: 3544 | I51: 0.84530744 | J51: 0.85956828 | K51: 1174 | L51: 1098 | M51: 0.28474412 | N51: 0.33126411
A52: 2007/08
A53: Celkem | D53: 323704 | E53: 146800 | F53: 2.2050681 | G53: 274428 | H53: 135231 | I53: 0.84777451 | J53: 0.9211921 | K53: 97190 | L53: 92727 | M53: 0.66205722 | N53: 0.71869616
A54: v tom | B54: Prezenční studium celkem | D54: 254098 | E54: 99428 | F54: 2.555598 | G54: 215576 | H54: 92788 | I54: 0.84839708 | J54: 0.93321801 | K54: 69762 | L54: 66133 | M54: 0.70163334 | N54: 0.75184291
B55: v tom | C55: bakalářské studijní programy | D55: 211451 | E55: 92462 | F55: 2.2868962 | G55: 179506 | H55: 86167 | I55: 0.84892481 | J55: 0.93191798 | K55: 65711 | L55: 60062 | M55: 0.71068114 | N55: 0.76260053
C56: magisterské studijní programy | D56: 42647 | E56: 23151 | F56: 1.8421235 | G56: 36070 | H56: 20645 | I56: 0.84578048 | J56: 0.89175414 | K56: 8152 | L56: 6771 | M56: 0.35212302 | N56: 0.39486558
B57: Kombinované / distanční studium celkem | D57: 69606 | E57: 54728 | F57: 1.2718535 | G57: 58852 | H57: 48241 | I57: 0.84550182 | J57: 0.88146835 | K57: 28973 | L57: 27276 | M57: 0.52939994 | N57: 0.60058871
B58: v tom | C58: bakalářské studijní programy | D58: 66566 | E58: 52879 | F58: 1.2588362 | G58: 56260 | H58: 46540 | I58: 0.84517622 | J58: 0.88012254 | K58: 28066 | L58: 26416 | M58: 0.5307589 | N58: 0.60305114
C59: magisterské studijní programy | D59: 3040 | E59: 2721 | F59: 1.1172363 | G59: 2592 | H59: 2365 | I59: 0.85263158 | J59: 0.86916575 | K59: 993 | L59: 893 | M59: 0.36493936 | N59: 0.41987315
A60: 2008/09
A61: Celkem | D61: 320365 | E61: 147277 | F61: =D61/E61 -> 2.1752548 | G61: 273393 | H61: 136117 | I61: =G61/D61 -> 0.85337974 | J61: =+H61/E61 -> 0.92422442 | K61: 104003 | L61: 98726 | M61: =+K61/E61 -> 0.70617272 | N61: =K61/H61 -> 0.76407062
A62: v tom | B62: Prezenční studium celkem | D62: 249947 | E62: 98695 | F62: =D62/E62 -> 2.5325194 | G62: 213508 | H62: 92379 | I62: =G62/D62 -> 0.85421309 | J62: =+H62/E62 -> 0.93600486 | K62: 73177 | L62: 69266 | M62: =+K62/E62 -> 0.74144587 | N62: =K62/H62 -> 0.79213891
B63: v tom | C63: bakalářské studijní programy | D63: 212240 | E63: 92484 | F63: =D63/E63 -> 2.2948834 | G63: 182042 | H63: 86771 | I63: =G63/D63 -> 0.85771768 | J63: =+H63/E63 -> 0.93822715 | K63: 69739 | L63: 63820 | M63: =+K63/E63 -> 0.75406557 | N63: =K63/H63 -> 0.80371322
C64: magisterské studijní programy | D64: 37707 | E64: 20124 | F64: =D64/E64 -> 1.8737329 | G64: 31466 | H64: 17644 | I64: =G64/D64 -> 0.83448697 | J64: =+H64/E64 -> 0.87676406 | K64: 7198 | L64: 6123 | M64: =+K64/E64 -> 0.35768237 | N64: =K64/H64 -> 0.40795738
B65: Kombinované / distanční studium celkem | D65: 70418 | E65: 56180 | F65: =D65/E65 -> 1.2534354 | G65: 59885 | H65: 49787 | I65: =G65/D65 -> 0.85042177 | J65: =+H65/E65 -> 0.88620506 | K65: 32645 | L65: 30222 | M65: =+K65/E65 -> 0.58107868 | N65: =K65/H65 -> 0.65569325
B66: v tom | C66: bakalářské studijní programy | D66: 68437 | E66: 55002 | F66: =D66/E66 -> 1.2442638 | G66: 58324 | H66: 48786 | I66: =G66/D66 -> 0.85222906 | J66: =+H66/E66 -> 0.88698593 | K66: 32001 | L66: 29573 | M66: =+K66/E66 -> 0.58181521 | N66: =K66/H66 -> 0.65594638
C67: magisterské studijní programy | D67: 1981 | E67: 1783 | F67: =D67/E67 -> 1.1110488 | G67: 1561 | H67: 1426 | I67: =G67/D67 -> 0.78798587 | J67: =+H67/E67 -> 0.79977566 | K67: 737 | L67: 671 | M67: =+K67/E67 -> 0.41334829 | N67: =K67/H67 -> 0.51683029
A68: 2009/10
A69: Celkem | D69: 324993 | E69: 146620 | F69: =D69/E69 -> 2.2165666 | G69: 282097 | H69: 136767 | I69: =G69/D69 -> 0.86800946 | J69: =+H69/E69 -> 0.93279907 | K69: 105570 | L69: 99818 | M69: =+K69/E69 -> 0.72002455 | N69: =K69/H69 -> 0.77189673
A70: v tom | B70: Prezenční studium celkem | D70: 257108 | E70: 100560 | F70: =D70/E70 -> 2.5567621 | G70: 223710 | H70: 94893 | I70: =G70/D70 -> 0.87010128 | J70: =+H70/E70 -> 0.94364558 | K70: 75344 | L70: 70703 | M70: =+K70/E70 -> 0.74924423 | N70: =K70/H70 -> 0.79398902
B71: v tom | C71: bakalářské studijní programy | D71: 221555 | E71: 95168 | F71: =D71/E71 -> 2.3280409 | G71: 193064 | H71: 89811 | I71: =G71/D71 -> 0.87140439 | J71: =+H71/E71 -> 0.94371007 | K71: 72344 | L71: 65781 | M71: =+K71/E71 -> 0.76017149 | N71: =K71/H71 -> 0.8055138
C72: magisterské studijní programy | D72: 35553 | E72: 18416 | F72: =D72/E72 -> 1.9305495 | G72: 30646 | H72: 16740 | I72: =G72/D72 -> 0.8619807 | J72: =+H72/E72 -> 0.90899218 | K72: 6283 | L72: 5582 | M72: =+K72/E72 -> 0.34117072 | N72: =K72/H72 -> 0.37532855
B73: Kombinované / distanční studium celkem | D73: 67885 | E73: 53507 | F73: =D73/E73 -> 1.2687125 | G73: 58387 | H73: 47931 | I73: =G73/D73 -> 0.86008691 | J73: =+H73/E73 -> 0.89578934 | K73: 32300 | L73: 29966 | M73: =+K73/E73 -> 0.60365933 | N73: =K73/H73 -> 0.67388538
B74: v tom | C74: bakalářské studijní programy | D74: 66620 | E74: 52790 | F74: =D74/E74 -> 1.2619814 | G74: 57321 | H74: 47279 | I74: =G74/D74 -> 0.86041729 | J74: =+H74/E74 -> 0.89560523 | K74: 31792 | L74: 29451 | M74: =+K74/E74 -> 0.60223527 | N74: =K74/H74 -> 0.67243385
C75: magisterské studijní programy | D75: 1265 | E75: 1098 | F75: =D75/E75 -> 1.1520947 | G75: 1066 | H75: 953 | I75: =G75/D75 -> 0.84268775 | J75: =+H75/E75 -> 0.86794171 | K75: 597 | L75: 538 | M75: =+K75/E75 -> 0.54371585 | N75: =K75/H75 -> 0.62644281
A76: 2010/11
A77: Celkem | D77: 331536 | E77: 150588 | F77: =D77/E77 -> 2.2016097 | G77: 288945 | H77: 140072 | I77: =G77/D77 -> 0.87153431 | J77: =+H77/E77 -> 0.93016708 | K77: 106437 | L77: 100676 | M77: =+K77/E77 -> 0.70680931 | N77: =K77/H77 -> 0.75987349
A78: v tom | B78: Prezenční studium celkem | D78: 265780 | E78: 105507 | F78: =D78/E78 -> 2.5190746 | G78: 232752 | H78: 99421 | I78: =G78/D78 -> 0.87573181 | J78: =+H78/E78 -> 0.94231662 | K78: 77298 | L78: 72971 | M78: =+K78/E78 -> 0.73263385 | N78: =K78/H78 -> 0.77748162
B79: v tom | C79: bakalářské studijní programy | D79: 230623 | E79: 100377 | F79: =D79/E79 -> 2.2975682 | G79: 202103 | H79: 94678 | I79: =G79/D79 -> 0.87633497 | J79: =+H79/E79 -> 0.94322405 | K79: 74324 | L79: 68079 | M79: =+K79/E79 -> 0.74044851 | N79: =K79/H79 -> 0.78501869
C80: magisterské studijní programy | D80: 35157 | E80: 17862 | F80: =D80/E80 -> 1.9682566 | G80: 30649 | H80: 16189 | I80: =G80/D80 -> 0.87177518 | J80: =+H80/E80 -> 0.90633748 | K80: 6109 | L80: 5461 | M80: =+K80/E80 -> 0.34201097 | N80: =K80/H80 -> 0.37735499
B81: Kombinované / distanční studium celkem | D81: 65756 | E81: 52807 | F81: =D81/E81 -> 1.2452137 | G81: 56193 | H81: 46826 | I81: =G81/D81 -> 0.8545684 | J81: =+H81/E81 -> 0.8867385 | K81: 31217 | L81: 28480 | M81: =+K81/E81 -> 0.59115269 | N81: =K81/H81 -> 0.66665955
B82: v tom | C82: bakalářské studijní programy | D82: 64114 | E82: 51867 | F82: =D82/E82 -> 1.2361232 | G82: 54940 | H82: 46034 | I82: =G82/D82 -> 0.85691113 | J82: =+H82/E82 -> 0.88753928 | K82: 30662 | L82: 27952 | M82: =+K82/E82 -> 0.59116587 | N82: =K82/H82 -> 0.6660729
C83: magisterské studijní programy | D83: 1642 | E83: 1508 | F83: =D83/E83 -> 1.0888594 | G83: 1253 | H83: 1166 | I83: =G83/D83 -> 0.76309379 | J83: =+H83/E83 -> 0.77320955 | K83: 633 | L83: 555 | M83: =+K83/E83 -> 0.41976127 | N83: =K83/H83 -> 0.54288165
A84: 2011/12
A85: Celkem | D85: 330066 | E85: 149613 | F85: =D85/E85 -> 2.2061318 | G85: 288581 | H85: 139280 | I85: =G85/D85 -> 0.87431302 | J85: =+H85/E85 -> 0.93093515 | K85: 103761 | L85: 97837 | M85: =+K85/E85 -> 0.69352931 | N85: =K85/H85 -> 0.74498133
A86: v tom | B86: Prezenční studium celkem | D86: 262648 | E86: 104008 | F86: =D86/E86 -> 2.5252673 | G86: 230504 | H86: 98025 | I86: =G86/D86 -> 0.87761567 | J86: =+H86/E86 -> 0.94247558 | K86: 75720 | L86: 71038 | M86: =+K86/E86 -> 0.72802092 | N86: =K86/H86 -> 0.77245601
B87: v tom | C87: bakalářské studijní programy | D87: 227851 | E87: 98974 | F87: =D87/E87 -> 2.3021299 | G87: 200372 | H87: 93377 | I87: =G87/D87 -> 0.87939926 | J87: =+H87/E87 -> 0.94344979 | K87: 72334 | L87: 66163 | M87: =+K87/E87 -> 0.7308384 | N87: =K87/H87 -> 0.77464472
C88: magisterské studijní programy | D88: 34797 | E88: 17592 | F88: =D88/E88 -> 1.9780014 | G88: 30132 | H88: 15728 | I88: =G88/D88 -> 0.86593672 | J88: =+H88/E88 -> 0.89404275 | K88: 6037 | L88: 5478 | M88: =+K88/E88 -> 0.34316735 | N88: =K88/H88 -> 0.38383774
B89: Kombinované / distanční studium celkem | D89: 67418 | E89: 53508 | F89: =D89/E89 -> 1.2599611 | G89: 58077 | H89: 47751 | I89: =G89/D89 -> 0.8614465 | J89: =+H89/E89 -> 0.89240861 | K89: 30127 | L89: 27629 | M89: =+K89/E89 -> 0.5630373 | N89: =K89/H89 -> 0.63091872
B90: v tom | C90: bakalářské studijní programy | D90: 66043 | E90: 52733 | F90: =D90/E90 -> 1.2524036 | G90: 56873 | H90: 47026 | I90: =G90/D90 -> 0.86115107 | J90: =+H90/E90 -> 0.89177555 | K90: 29541 | L90: 27066 | M90: =+K90/E90 -> 0.5601995 | N90: =K90/H90 -> 0.62818441
C91: magisterské studijní programy | D91: 1375 | E91: 1201 | F91: =D91/E91 -> 1.1448793 | G91: 1204 | H91: 1084 | I91: =G91/D91 -> 0.87563636 | J91: =+H91/E91 -> 0.90258118 | K91: 674 | L91: 583 | M91: =+K91/E91 -> 0.561199 | N91: =K91/H91 -> 0.62177122
A92: 2012/13
A93: Celkem | D93: 309452 | E93: 141054 | F93: =D93/E93 -> 2.1938548 | G93: 268712 | H93: 130728 | I93: =G93/D93 -> 0.86834792 | J93: =+H93/E93 -> 0.92679399 | K93: 98261 | L93: 92428 | M93: =+K93/E93 -> 0.69661973 | N93: =K93/H93 -> 0.75164464
A94: v tom | B94: Prezenční studium celkem | D94: 250672 | E94: 101300 | F94: =D94/E94 -> 2.4745508 | G94: 218559 | H94: 95025 | I94: =G94/D94 -> 0.87189235 | J94: =+H94/E94 -> 0.93805528 | K94: 73041 | L94: 68406 | M94: =+K94/E94 -> 0.72103653 | N94: =K94/H94 -> 0.76865036
B95: v tom | C95: bakalářské studijní programy | D95: 218313 | E95: 96418 | F95: =D95/E95 -> 2.2642349 | G95: 190718 | H95: 90493 | I95: =G95/D95 -> 0.87359892 | J95: =+H95/E95 -> 0.93854882 | K95: 70356 | L95: 64269 | M95: =+K95/E95 -> 0.72969777 | N95: =K95/H95 -> 0.7774745
C96: magisterské studijní programy | D96: 32359 | E96: 16549 | F96: =D96/E96 -> 1.9553447 | G96: 27841 | H96: 14888 | I96: =G96/D96 -> 0.86037887 | J96: =+H96/E96 -> 0.8996314 | K96: 4993 | L96: 4532 | M96: =+K96/E96 -> 0.30171007 | N96: =K96/H96 -> 0.33537077
B97: Kombinované / distanční studium celkem | D97: 58780 | E97: 46839 | F97: =D97/E97 -> 1.2549371 | G97: 50153 | H97: 41395 | I97: =G97/D97 -> 0.85323239 | J97: =+H97/E97 -> 0.88377207 | K97: 26964 | L97: 24586 | M97: =+K97/E97 -> 0.57567412 | N97: =K97/H97 -> 0.65138302
B98: v tom | C98: bakalářské studijní programy | D98: 56965 | E98: 45920 | F98: =D98/E98 -> 1.240527 | G98: 48776 | H98: 40609 | I98: =G98/D98 -> 0.85624506 | J98: =+H98/E98 -> 0.88434233 | K98: 26224 | L98: 23913 | M98: =+K98/E98 -> 0.57108014 | N98: =K98/H98 -> 0.64576818
C99: magisterské studijní programy | D99: 1815 | E99: 1677 | F99: =D99/E99 -> 1.0822898 | G99: 1377 | H99: 1274 | I99: =G99/D99 -> 0.75867769 | J99: =+H99/E99 -> 0.75968992 | K99: 810 | L99: 691 | M99: =+K99/E99 -> 0.48300537 | N99: =K99/H99 -> 0.63579278
A100: 2013/14
A101: Celkem | D101: 290953 | E101: 134257 | F101: =D101/E101 -> 2.1671347 | G101: 250402 | H101: 123766 | I101: =G101/D101 -> 0.86062697 | J101: =+H101/E101 -> 0.92185882 | K101: 93714 | L101: 88109 | M101: =+K101/E101 -> 0.69801947 | N101: =K101/H101 -> 0.75718695
...

Sheet vš_programy
A1: Počet přihlášek, přihlášených a přijatých ke studiu na VŠ podle skupin studijních programů v letech 1999/00–2017/18
A2: Od roku 2018 se postupně přechází na oborovou klasifikaci ISCED. Pokračování v těchto tabulkách již není možné.
A3: Skupiny studijních programů | B3: 1999/00 | C3: 2000/01 | D3: 2001/02 | E3: 2002/03 | F3: 2003/04 | G3: 2004/05 | H3: 2005/06 | I3: 2006/07 | J3: 2007/08 | K3: 2008/09 | L3: 2009/10 | M3: 2010/11 | N3: 2011/12 | O3: 2012/13 | P3: 2013/14 | Q3: 2014/15 | R3: 2015/16 | S3: 2016/17 | T3: 2017/18
A4: Počet podaných přihlášek
A5: Přírodní vědy a nauky | B5: 18612 | C5: 13956 | D5: 21779 | E5: 18108 | F5: 20541 | G5: 20830 | H5: 20076 | I5: 20599 | J5: 21267 | K5: 21298 | L5: 21688 | M5: 23372 | N5: 22877 | O5: 21918 | P5: 21986 | Q5: 20557 | R5: 18486 | S5: 17557 | T5: 17230
A6: Technické vědy a nauky | B6: 42653 | C6: 28740 | D6: 42957 | E6: 44176 | F6: 48571 | G6: 49507 | H6: 48314 | I6: 48542 | J6: 48638 | K6: 47840 | L6: 47089 | M6: 48717 | N6: 48369 | O6: 46979 | P6: 45503 | Q6: 39428 | R6: 36042 | S6: 33214 | T6: 31676
A7: Zemědělsko-lesnické a veterinární vědy a nauky | B7: 6326 | C7: 4766 | D7: 5847 | E7: 7061 | F7: 7516 | G7: 8241 | H7: 8792 | I7: 8980 | J7: 9173 | K7: 9298 | L7: 10078 | M7: 10938 | N7: 10850 | O7: 11598 | P7: 10904 | Q7: 10187 | R7: 9797 | S7: 8855 | T7: 8985
A8: Zdravotnictví, lékařské a farmaceut.vědy a nauky | B8: 13414 | C8: 12829 | D8: 17148 | E8: 16672 | F8: 19811 | G8: 23594 | H8: 25580 | I8: 27543 | J8: 26681 | K8: 26832 | L8: 28389 | M8: 31250 | N8: 32520 | O8: 34042 | P8: 34466 | Q8: 33876 | R8: 34556 | S8: 34114 | T8: 33549
A9: Humanitní a spol. vědy a nauky | B9: 36843 | C9: 40517 | D9: 39000 | E9: 41252 | F9: 45128 | G9: 52489 | H9: 56709 | I9: 60104 | J9: 68318 | K9: 71395 | L9: 72967 | M9: 71223 | N9: 67194 | O9: 61775 | P9: 58504 | Q9: 49849 | R9: 47433 | S9: 44557 | T9: 41557
A10: Ekonomické vědy a nauky | B10: 46799 | C10: 39372 | D10: 46717 | E10: 43047 | F10: 46695 | G10: 54081 | H10: 61051 | I10: 66010 | J10: 71046 | K10: 72351 | L10: 72968 | M10: 71570 | N10: 70460 | O10: 63160 | P10: 55202 | Q10: 44675 | R10: 41045 | S10: 35080 | T10: 32001
A11: Právní vědy a nauky | B11: 15852 | C11: 18074 | D11: 16137 | E11: 15741 | F11: 17480 | G11: 20757 | H11: 21048 | I11: 19393 | J11: 20502 | K11: 19195 | L11: 19139 | M11: 17701 | N11: 16576 | O11: 13360 | P11: 12995 | Q11: 12299 | R11: 12355 | S11: 11589 | T11: 10581
A12: Pedagogika, učitelství a soc. péče | B12: 44593 | C12: 42516 | D12: 40529 | E12: 41261 | F12: 39794 | G12: 46965 | H12: 44139 | I12: 42817 | J12: 48392 | K12: 42356 | L12: 42227 | M12: 46358 | N12: 50797 | O12: 46773 | P12: 42469 | Q12: 41180 | R12: 35919 | S12: 31849 | T12: 30264
A13: Vědy a nauky o kultuře a umění | B13: 8727 | C13: 7403 | D13: 7338 | E13: 6708 | F13: 7737 | G13: 8513 | H13: 9049 | I13: 9346 | J13: 9687 | K13: 9800 | L13: 10448 | M13: 10407 | N13: 10423 | O13: 9847 | P13: 8924 | Q13: 8416 | R13: 8085 | S13: 7336 | T13: 7474
A14: Neuvedeno | B14: 0 | C14: 0 | D14: 0 | E14: 0 | F14: 0 | G14: 0 | H14: 0 | I14: 0 | J14: 0 | K14: 0 | L14: 0 | M14: 0 | N14: 0 | O14: 0 | P14: 0 | Q14: 0 | R14: 0 | S14: 0
A15: Celkem | B15: 233819 | C15: 208173 | D15: 237452 | E15: 234026 | F15: =SUM(F5:F14) -> 253273 | G15: 284977 | H15: 294758 | I15: 303334 | J15: 323704 | K15: 320365 | L15: 324993 | M15: 331536 | N15: 330066 | O15: =+'vš_druh studia '!D93 -> 309452 | P15: =+'vš_druh studia '!D101 -> 290953 | Q15: =+'vš_druh studia '!D109 -> 260467 | R15: =+'vš_druh studia '!D117 -> 243718 | S15: =+'vš_druh studia '!D125 -> 224151 | T15: =+'vš_druh studia '!D133 -> 213317
A16: Počet přihlášených
A17: Přírodní vědy a nauky | B17: 13854 | C17: 10285 | D17: 13563 | E17: 12707 | F17: 14504 | G17: 14865 | H17: 14493 | I17: 14810 | J17: 15253 | K17: 15644 | L17: 15847 | M17: 17234 | N17: 16793 | O17: 16215 | P17: 16141 | Q17: 15065 | R17: 13384 | S17: 12607 | T17: 12465
A18: Technické vědy a nauky | B18: 27370 | C18: 20646 | D18: 26932 | E18: 28062 | F18: 32507 | G18: 32713 | H18: 32430 | I18: 33527 | J18: 34332 | K18: 35072 | L18: 34285 | M18: 35789 | N18: 35603 | O18: 34571 | P18: 33567 | Q18: 29614 | R18: 26805 | S18: 24371 | T18: 23708
A19: Zemědělsko-lesnické a veterinární vědy a nauky | B19: 4967 | C19: 3941 | D19: 4459 | E19: 5498 | F19: 5800 | G19: 6242 | H19: 6431 | I19: 6620 | J19: 6629 | K19: 6875 | L19: 7575 | M19: 8034 | N19: 7756 | O19: 8753 | P19: 8211 | Q19: 7616 | R19: 7279 | S19: 6607 | T19: 6685
A20: Zdravotnictví, lékařské a farmaceut.vědy a nauky | B20: 7023 | C20: 7226 | D20: 8729 | E20: 8790 | F20: 10293 | G20: 12260 | H20: 12677 | I20: 12994 | J20: 12605 | K20: 12020 | L20: 12884 | M20: 14157 | N20: 14615 | O20: 15277 | P20: 15871 | Q20: 15098 | R20: 15088 | S20: 14555 | T20: 13833
A21: Humanitní a spol. vědy a nauky | B21: 25823 | C21: 28757 | D21: 25490 | E21: 26756 | F21: 28731 | G21: 32759 | H21: 34620 | I21: 36321 | J21: 40058 | K21: 40544 | L21: 40822 | M21: 40725 | N21: 39595 | O21: 36891 | P21: 35371 | Q21: 30341 | R21: 28628 | S21: 26683 | T21: 25014
A22: Ekonomické vědy a nauky | B22: 26475 | C22: 24343 | D22: 26816 | E22: 25828 | F22: 27393 | G22: 31241 | H22: 33801 | I22: 37061 | J22: 39903 | K22: 42037 | L22: 42928 | M22: 43140 | N22: 41806 | O22: 37791 | P22: 33767 | Q22: 28341 | R22: 26394 | S22: 22652 | T22: 21170
A23: Právní vědy a nauky | B23: 9886 | C23: 11910 | D23: 9905 | E23: 9853 | F23: 11070 | G23: 13834 | H23: 13518 | I23: 12251 | J23: 13096 | K23: 12350 | L23: 12104 | M23: 11276 | N23: 10715 | O23: 9243 | P23: 8940 | Q23: 8363 | R23: 8380 | S23: 7811 | T23: 6994
A24: Pedagogika, učitelství a soc. péče | B24: 30301 | C24: 29511 | D24: 26385 | E24: 27163 | F24: 27439 | G24: 32546 | H24: 30544 | I24: 30134 | J24: 33672 | K24: 29432 | L24: 29182 | M24: 31356 | N24: 33903 | O24: 30910 | P24: 28217 | Q24: 26646 | R24: 22643 | S24: 19949 | T24: 18893
A25: Vědy a nauky o kultuře a umění | B25: 6577 | C25: 5862 | D25: 5408 | E25: 4974 | F25: 5583 | G25: 6065 | H25: 6196 | I25: 6473 | J25: 6783 | K25: 6684 | L25: 7001 | M25: 7105 | N25: 6996 | O25: 6605 | P25: 5982 | Q25: 5661 | R25: 5478 | S25: 4979 | T25: 5114
A26: Neuvedeno | B26: 0 | C26: 0 | D26: 0 | E26: 0 | F26: 0 | G26: 0 | H26: 0 | I26: 0 | J26: 0 | K26: 0 | L26: 0 | M26: 0 | N26: 0 | O26: 0 | P26: 0 | Q26: 0 | R26: 0 | S26: 0
A27: Celkem | B27: 105439 | C27: 103485 | D27: 104097 | E27: 108385 | F27: 117531 | G27: 130132 | H27: 132703 | I27: 137833 | J27: 146795 | K27: 147271 | L27: 146620 | M27: 150588 | N27: 149613 | O27: =+'vš_druh studia '!E93 -> 141054 | P27: =+'vš_druh studia '!E101 -> 134257 | Q27: =+'vš_druh studia '!E109 -> 121761 | R27: =+'vš_druh studia '!E117 -> 113093 | S27: =+'vš_druh studia '!E125 -> 102791 | T27: =+'vš_druh studia '!E133 -> 97998
A28: Index přihlášek (počet přihlášek na 1 přihlášeného)
A29: Přírodní vědy a nauky | B29: 1.3434387 | C29: 1.3569276 | D29: 1.5982241 | E29: 1.4228019 | F29: . | G29: 1.4377793 | H29: =H5/H17 -> 1.3852205 | I29: 1.3908845 | J29: 1.3942831 | K29: 1.3614165 | L29: 1.3685871 | M29: =M5/M17 -> 1.3561564 | N29: =N5/N17 -> 1.3622938 | O29: =O5/O17 -> 1.3517114 | P29: =P5/P17 -> 1.3621213 | Q29: =Q5/Q17 -> 1.3645536 | R29: =R5/R17 -> 1.3812014 | S29: =S5/S17 -> 1.392639 | T29: =T5/T17 -> 1.3822704
A30: Technické vědy a nauky | B30: 1.5583851 | C30: 1.3920372 | D30: 1.5902343 | E30: 1.5703672 | F30: . | G30: 1.2666947 | H30: =H6/H18 -> 1.4897934 | I30: 1.4478048 | J30: 1.4166545 | K30: 1.3639733 | L30: 1.3734578 | M30: =M6/M18 -> 1.3612283 | N30: =N6/N18 -> 1.3585653 | O30: =O6/O18 -> 1.3589135 | P30: =P6/P18 -> 1.3555873 | Q30: =Q6/Q18 -> 1.3313973 | R30: =R6/R18 -> 1.3445999 | S30: =S6/S18 -> 1.3628493 | T30: =T6/T18 -> 1.3360891
A31: Zemědělsko-lesnické a veterinární vědy a nauky | B31: 1.2736058 | C31: 1.2093377 | D31: 1.3060085 | E31: 1.2835848 | F31: . | G31: 1.33076 | H31: =H7/H19 -> 1.367128 | I31: 1.3564955 | J31: 1.3837683 | K31: 1.3524364 | L31: 1.330429 | M31: =M7/M19 -> 1.3614638 | N31: =N7/N19 -> 1.398917 | O31: =O7/O19 -> 1.3250314 | P31: =P7/P19 -> 1.3279747 | Q31: =Q7/Q19 -> 1.3375788 | R31: =R7/R19 -> 1.3459266 | S31: =S7/S19 -> 1.3402452 | T31: =T7/T19 -> 1.3440539
A32: Zdravotnictví, lékařské a farmaceut.vědy a nauky | B32: 1.91001 | C32: 1.7753944 | D32: 1.9479723 | E32: 1.8943302 | F32: . | G32: 1.9135911 | H32: =H8/H20 -> 2.0178276 | I32: 2.1196706 | J32: 2.1166997 | K32: 2.2322795 | L32: 2.2034306 | M32: =M8/M20 -> 2.2073886 | N32: =N8/N20 -> 2.2251112 | O32: =O8/O20 -> 2.2283171 | P32: =P8/P20 -> 2.1716338 | Q32: =Q8/Q20 -> 2.2437409 | R32: =R8/R20 -> 2.2902969 | S32: =S8/S20 -> 2.3437994 | T32: =T8/T20 -> 2.4252874
A33: Humanitní a spol. vědy a nauky | B33: 1.4267513 | C33: 1.4089439 | D33: 1.5199938 | E33: 1.5649373 | F33: . | G33: 1.6115963 | H33: 1.6613154 | I33: 1.6613154 | J33: 1.6613154 | K33: 1.760883 | L33: 1.787443 | M33: =M9/M21 -> 1.7488766 | N33: =N9/N21 -> 1.6970325 | O33: =O9/O21 -> 1.6745277 | P33: =P9/P21 -> 1.6540103 | Q33: =Q9/Q21 -> 1.6429584 | R33: =R9/R21 -> 1.6568744 | S33: =S9/S21 -> 1.6698647 | T33: =T9/T21 -> 1.6613496
A34: Ekonomické vědy a nauky | B34: 1.7676676 | C34: 1.6173849 | D34: 1.7334694 | E34: 1.6615331 | F34: . | G34: 1.7293315 | H34: 1.832868 | I34: 1.832868 | J34: 1.832868 | K34: 1.7210857 | L34: 1.6997368 | M34: =M10/M22 -> 1.6590172 | N34: =N10/N22 -> 1.685404 | O34: =O10/O22 -> 1.6712974 | P34: =P10/P22 -> 1.6347914 | Q34: =Q10/Q22 -> 1.5763382 | R34: =R10/R22 -> 1.5550883 | S34: =S10/S22 -> 1.5486491 | T34: =T10/T22 -> 1.5116202
A35: Právní vědy a nauky | B35: 1.6034797 | C35: 1.5175483 | D35: 1.6258942 | E35: 1.5928962 | F35: . | G35: 1.5004723 | H35: =H11/H23 -> 1.5570351 | I35: 1.5829728 | J35: 1.5653967 | K35: 1.554251 | L35: 1.5812128 | M35: =M11/M23 -> 1.5697943 | N35: =N11/N23 -> 1.5469902 | O35: =O11/O23 -> 1.4454182 | P35: =P11/P23 -> 1.4535794 | Q35: =Q11/Q23 -> 1.4706445 | R35: =R11/R23 -> 1.4743437 | S35: =S11/S23 -> 1.4836769 | T35: =T11/T23 -> 1.5128682
A36: Pedagogika, učitelství a soc. péče | B36: 1.4716676 | C36: 1.4406831 | D36: 1.5211305 | E36: 1.5329318 | F36: . | G36: 1.4618288 | H36: =H12/H24 -> 1.4450956 | I36: 1.4208867 | J36: 1.4371585 | K36: 1.4391139 | L36: 1.4470221 | M36: =M12/M24 -> 1.4784411 | N36: =N12/N24 -> 1.498304 | O36: =O12/O24 -> 1.5131996 | P36: =P12/P24 -> 1.5050856 | Q36: =Q12/Q24 -> 1.5454477 | R36: =R12/R24 -> 1.5863181 | S36: =S12/S24 -> 1.5965211 | T36: =T12/T24 -> 1.6018631
A37: Vědy a nauky o kultuře a umění | B37: 1.3268968 | C37: 1.2628796 | D37: 1.3336968 | E37: 1.3285799 | F37: . | G37: 1.3423469 | H37: =H13/H25 -> 1.4604584 | I37: 1.4438437 | J37: 1.4281291 | K37: 1.4661879 | L37: 1.4923582 | M37: =M13/M25 -> 1.4647431 | N37: =N13/N25 -> 1.4898513 | O37: =O13/O25 -> 1.4908403 | P37: =P13/P25 -> 1.4918088 | Q37: =Q13/Q25 -> 1.4866631 | R37: =R13/R25 -> 1.4759036 | S37: =S13/S25 -> 1.4733882 | T37: =T13/T25 -> 1.4614783
A38: Neuvedeno | B38: x | C38: x | D38: x | E38: x | F38: . | G38: 1.2141703 | H38: x | I38: x | J38: x | K38: x | L38: x | M38: x | N38: x | O38: x | P38: x | Q38: x | R38: x | S38: x | T38: x
A39: Celkem | B39: 2.217576 | C39: 2.0116249 | D39: 2.2614476 | E39: 2.1500257 | F39: . | G39: 2.1861944 | H39: =H15/H27 -> 2.2211857 | I39: 2.2006878 | J39: 2.2050681 | K39: 2.1752696 | L39: 2.2165666 | M39: =M15/M27 -> 2.2016097 | N39: =N15/N27 -> 2.2061318 | O39: =O15/O27 -> 2.1938548 | P39: =P15/P27 -> 2.1671347 | Q39: =Q15/Q27 -> 2.1391661 | R39: =R15/R27 -> 2.1550229 | S39: =S15/S27 -> 2.1806481 | T39: =T15/T27 -> 2.1767485
A40: Počet přihlášených, kteří se dostavili k přijímacímu řízení
A41: Přírodní vědy a nauky | B41: . | C41: . | D41: 11673 | E41: 10667 | F41: 12368 | G41: 12726 | H41: 12679 | I41: 12903 | J41: 13528 | K41: 13988 | L41: 14488 | M41: 15869 | N41: 15385 | O41: 14756 | P41: 14890 | Q41: 13939 | R41: 12412 | S41: 11526 | T41: 11368
A42: Technické vědy a nauky | B42: . | C42: . | D42: 23660 | E42: 24854 | F42: 28681 | G42: 29427 | H42: 29328 | I42: 30666 | J42: 31289 | K42: 32350 | L42: 31919 | M42: 33424 | N42: 33529 | O42: 32392 | P42: 31555 | Q42: 27781 | R42: 25001 | S42: 22874 | T42: 22486
A43: Zemědělsko-lesnické a veterinární vědy a nauky | B43: . | C43: . | D43: 3809 | E43: 4718 | F43: 5029 | G43: 5456 | H43: 5786 | I43: 6106 | J43: 6069 | K43: 6371 | L43: 7054 | M43: 7313 | N43: 6993 | O43: 7798 | P43: 7204 | Q43: 6610 | R43: 6282 | S43: 5766 | T43: 6086
A44: Zdravotnictví, lékařské a farmaceut.vědy a nauky | B44: . | C44: . | D44: 7639 | E44: 7636 | F44: 8875 | G44: 10794 | H44: 11128 | I44: 11433 | J44: 11058 | K44: 10516 | L44: 11359 | M44: 12478 | N44: 12855 | O44: 13391 | P44: 13773 | Q44: 12957 | R44: 12798 | S44: 12315 | T44: 11704
A45: Humanitní a spol. vědy a nauky | B45: . | C45: . | D45: 21749 | E45: 23028 | F45: 25404 | G45: 28849 | H45: 30533 | I45: 31575 | J45: 34788 | K45: 35410 | L45: 35873 | M45: 35609 | N45: 34391 | O45: 31500 | P45: 29949 | Q45: 25424 | R45: 24132 | S45: 22536 | T45: 21240
A46: Ekonomické vědy a nauky | B46: . | C46: . | D46: 22778 | E46: 21913 | F46: 23714 | G46: 27438 | H46: 29345 | I46: 32502 | J46: 35214 | K46: 37670 | L46: 38924 | M46: 39250 | N46: 38426 | O46: 34555 | P46: 30185 | Q46: 25298 | R46: 23620 | S46: 20232 | T46: 19780
A47: Právní vědy a nauky | B47: . | C47: . | D47: 8705 | E47: 8652 | F47: 10038 | G47: 12641 | H47: 12334 | I47: 11117 | J47: 11928 | K47: 10959 | L47: 11104 | M47: 10335 | N47: 9694 | O47: 8497 | P47: 8202 | Q47: 7655 | R47: 7776 | S47: 7230 | T47: 6378
A48: Pedagogika, učitelství a soc. péče | B48: . | C48: . | D48: 22956 | E48: 23739 | F48: 24212 | G48: 29102 | H48: 26798 | I48: 27268 | J48: 30298 | K48: 26640 | L48: 26448 | M48: 28359 | N48: 30610 | O48: 27800 | P48: 25058 | Q48: 23169 | R48: 19703 | S48: 17285 | T48: 16173
A49: Vědy a nauky o kultuře a umění | B49: . | C49: . | D49: 4633 | E49: 4400 | F49: 4965 | G49: 5454 | H49: 5634 | I49: 5863 | J49: 6194 | K49: 5767 | L49: 6348 | M49: 6317 | N49: 6278 | O49: 5879 | P49: 5249 | Q49: 5020 | R49: 4836 | S49: 4361 | T49: 4429
A50: Neuvedeno | B50: . | C50: . | D50: 0 | E50: 0 | F50: 0 | G50: 0 | H50: 0 | I50: 0 | J50: 0 | K50: 0 | L50: 0 | M50: 0 | N50: 0 | O50: 0 | P50: 0 | Q50: 0 | R50: 0 | S50: 0
A51: Celkem | B51: . | C51: . | D51: 93669 | E51: 97965 | F51: 107156 | G51: 119283 | H51: 121312 | I51: 127124 | J51: 135226 | K51: 136113 | L51: 136766 | M51: 140072 | N51: 139280 | O51: =+'vš_druh studia '!H93 -> 130728 | P51: =+'vš_druh studia '!H101 -> 123766 | Q51: =+'vš_druh studia '!H109 -> 111374 | R51: =+'vš_druh studia '!H117 -> 103442 | S51: =+'vš_druh studia '!H125 -> 94068 | T51: =+'vš_druh studia '!H133 -> 90528
A52: Počet přijatých
A53: Přírodní vědy a nauky | B53: 4421 | C53: 4662 | D53: 6267 | E53: 6869 | F53: 7876 | G53: 8137 | H53: 8781 | I53: 9189 | J53: 10262 | K53: 11385 | L53: 11467 | M53: 12486 | N53: 11206 | O53: 10965 | P53: 10475 | Q53: 10109 | R53: 9518 | S53: 8555 | T53: 8558
A54: Technické vědy a nauky | B54: 18673 | C54: 15441 | D54: 20423 | E54: 21378 | F54: 24861 | G54: 25943 | H54: 25936 | I54: 27595 | J54: 28183 | K54: 29323 | L54: 28973 | M54: 29749 | N54: 29212 | O54: 28098 | P54: 27427 | Q54: 24426 | R54: 21789 | S54: 20073 | T54: 19541
A55: Zemědělsko-lesnické a veterinární vědy a nauky | B55: 2170 | C55: 2273 | D55: 2604 | E55: 3268 | F55: 3583 | G55: 3979 | H55: 4119 | I55: 4753 | J55: 4717 | K55: 5340 | L55: 5588 | M55: 5476 | N55: 5442 | O55: 6160 | P55: 5548 | Q55: 5128 | R55: 4910 | S55: 4942 | T55: 5235
A56: Zdravotnictví, lékařské a farmaceut.vědy a nauky | B56: 2530 | C56: 2592 | D56: 2907 | E56: 3345 | F56: 3913 | G56: 4304 | H56: 4660 | I56: 5194 | J56: 5041 | K56: 5285 | L56: 5888 | M56: 6300 | N56: 6588 | O56: 6320 | P56: 6480 | Q56: 6127 | R56: 6291 | S56: 6341 | T56: 6491
A57: Humanitní a spol. vědy a nauky | B57: 5314 | C57: 5668 | D57: 6943 | E57: 8413 | F57: 10472 | G57: 12353 | H57: 13882 | I57: 15768 | J57: 17804 | K57: 20374 | L57: 20259 | M57: 19578 | N57: 18378 | O57: 17411 | P57: 16119 | Q57: 14424 | R57: 14207 | S57: 13662 | T57: 13098
A58: Ekonomické vědy a nauky | B58: 8484 | C58: 9824 | D58: 11669 | E58: 12927 | F58: 14330 | G58: 15839 | H58: 17928 | I58: 21712 | J58: 25096 | K58: 27553 | L58: 28715 | M58: 27477 | N58: 26766 | O58: 24211 | P58: 22464 | Q58: 19136 | R58: 18655 | S58: 16348 | T58: 16332
A59: Právní vědy a nauky | B59: 1814 | C59: 1880 | D59: 2068 | E59: 2412 | F59: 2737 | G59: 2610 | H59: 3278 | I59: 3090 | J59: 3754 | K59: 3958 | L59: 3990 | M59: 3730 | N59: 3316 | O59: 3075 | P59: 3321 | Q59: 3408 | R59: 3832 | S59: 3722 | T59: 3707
A60: Pedagogika, učitelství a soc. péče | B60: 8923 | C60: 8012 | D60: 8884 | E60: 10535 | F60: 11385 | G60: 12854 | H60: 13528 | I60: 13458 | J60: 14988 | K60: 14315 | L60: 14336 | M60: 14984 | N60: 14128 | O60: 12821 | P60: 11852 | Q60: 10999 | R60: 9515 | S60: 9106 | T60: 9652
A61: Vědy a nauky o kultuře a umění | B61: 1888 | C61: 989 | D61: 1031 | E61: 1012 | F61: 1320 | G61: 1678 | H61: 1910 | I61: 2178 | J61: 2421 | K61: 2487 | L61: 2634 | M61: 2598 | N61: 2579 | O61: 2462 | P61: 2244 | Q61: 2237 | R61: 2135 | S61: 1999 | T61: 2228
A62: Neuvedeno | B62: 0 | C62: 0 | D62: 0 | E62: 0 | F62: 0 | G62: 0 | H62: 0 | I62: 0 | J62: 0 | K62: 0 | L62: 0 | M62: 0 | N62: 0 | O62: 0 | P62: 0 | Q62: 0 | R62: 0 | S62: 0
A63: Celkem | B63: 47405 | C63: 45214 | D63: 54492 | E63: 60929 | F63: 69576 | G63: 75550 | H63: 81055 | I63: 89074 | J63: 97186 | K63: 104002 | L63: 105569 | M63: 106437 | N63: 103761 | O63: =+'vš_druh studia '!K93 -> 98261 | P63: =+'vš_druh studia '!K101 -> 93714 | Q63: =+'vš_druh studia '!K109 -> 84764 | R63: =+'vš_druh studia '!K117 -> 80302 | S63: =+'vš_druh studia '!K125 -> 74767 | T63: =+'vš_druh studia '!K133 -> 74623
A64: Úspěšnost (přijatí / přihlášení), od r. 2004/05 přijatí / přihlášení, kteří se dostavili k přijímacímu řízení
A65: Přírodní vědy a nauky | B65: . | C65: . | D65: 0.461657 | E65: 0.53995443 | F65: =F53/F41 -> 0.63680466 | G65: =G53/G41 -> 0.63939965 | H65: =H53/H41 -> 0.6925625 | I65: =I53/I41 -> 0.71215996 | J65: =J53/J41 -> 0.75857481 | K65: 0.81391192 | L65: 0.79148261 | M65: =M53/M41 -> 0.78681706 | N65: =N53/N41 -> 0.72837179 | O65: =O53/O41 -> 0.74308756 | P65: =P53/P41 -> 0.70349228 | Q65: =Q53/Q41 -> 0.72523137 | R65: =R53/R41 -> 0.76683854 | S65: =S53/S41 -> 0.74223495 | T65: =T53/T41 -> 0.75281492
A66: Technické vědy a nauky | B66: . | C66: . | D66: 0.757228 | E66: 0.76097544 | F66: =F54/F42 -> 0.86681078 | G66: =G54/G42 -> 0.88160533 | H66: =H54/H42 -> 0.88434261 | I66: =I54/I42 -> 0.89985652 | J66: =J54/J42 -> 0.90073189 | K66: 0.90789189 | L66: 0.90770388 | M66: =M54/M42 -> 0.89004907 | N66: =N54/N42 -> 0.87124579 | O66: =O54/O42 -> 0.8674364 | P66: =P54/P42 -> 0.8691808 | Q66: =Q54/Q42 -> 0.87923401 | R66: =R54/R42 -> 0.87152514 | S66: =S54/S42 -> 0.87754656 | T66: =T54/T42 -> 0.86902962
A67: Zemědělsko-lesnické a veterinární vědy a nauky | B67: . | C67: . | D67: 0.33125071 | E67: 0.59425559 | F67: =F55/F43 -> 0.71246769 | G67: =G55/G43 -> 0.72928886 | H67: =H55/H43 -> 0.71189077 | I67: =I55/I43 -> 0.77841467 | J67: =J55/J43 -> 0.77722854 | K67: 0.83817297 | L67: 0.79217465 | M67: =M55/M43 -> 0.7488035 | N67: =N55/N43 -> 0.77820678 | O67: =O55/O43 -> 0.78994614 | P67: =P55/P43 -> 0.77012771 | Q67: =Q55/Q43 -> 0.77579425 | R67: =R55/R43 -> 0.78159822 | S67: =S55/S43 -> 0.85709331 | T67: =T55/T43 -> 0.86017088
A68: Zdravotnictví, lékařské a farmaceut.vědy a nauky | B68: . | C68: . | D68: 0.33125071 | E68: 0.38018407 | F68: =F56/F44 -> 0.44090141 | G68: =G56/G44 -> 0.39874004 | H68: =H56/H44 -> 0.41876348 | I68: =I56/I44 -> 0.45429896 | J68: =J56/J44 -> 0.45586905 | K68: 0.50266312 | L68: 0.51835549 | M68: =M56/M44 -> 0.5048886 | N68: =N56/N44 -> 0.51248541 | O68: =O56/O44 -> 0.47195878 | P68: =P56/P44 -> 0.47048573 | Q68: =Q56/Q44 -> 0.47287181 | R68: =R56/R44 -> 0.49156118 | S68: =S56/S44 -> 0.51490053 | T68: =T56/T44 -> 0.55459672
A69: Humanitní a spol. vědy a nauky | B69: . | C69: . | D69: 0.27168914 | E69: 0.31223519 | F69: =F57/F45 -> 0.41221855 | G69: =G57/G45 -> 0.42819508 | H69: =H57/H45 -> 0.45465562 | I69: =I57/I45 -> 0.49938242 | J69: =J57/J45 -> 0.51178567 | K69: 0.57537419 | L69: 0.56474229 | M69: =M57/M45 -> 0.54980482 | N69: =N57/N45 -> 0.534384 | O69: =O57/O45 -> 0.55273016 | P69: =P57/P45 -> 0.53821497 | Q69: =Q57/Q45 -> 0.56733795 | R69: =R57/R45 -> 0.58872037 | S69: =S57/S45 -> 0.60623003 | T69: =T57/T45 -> 0.61666667
A70: Ekonomické vědy a nauky | B70: . | C70: . | D70: 0.43473098 | E70: 0.50061757 | F70: =F58/F46 -> 0.60428439 | G70: =G58/G46 -> 0.57726511 | H70: =H58/H46 -> 0.61093883 | I70: =I58/I46 -> 0.66802043 | J70: =J58/J46 -> 0.7126711 | K70: 0.7314891 | L70: 0.7377264 | M70: =M58/M46 -> 0.70005096 | N70: =N58/N46 -> 0.69655962 | O70: =O58/O46 -> 0.70065114 | P70: =P58/P46 -> 0.7442107 | Q70: =Q58/Q46 -> 0.75642343 | R70: =R58/R46 -> 0.78979678 | S70: =S58/S46 -> 0.80802689 | T70: =T58/T46 -> 0.82568251
A71: Právní vědy a nauky | B71: . | C71: . | D71: 0.2088665 | E71: 0.24509209 | F71: =F59/F47 -> 0.27266388 | G71: =G59/G47 -> 0.20647101 | H71: =H59/H47 -> 0.26576942 | I71: =I59/I47 -> 0.27795269 | J71: =J59/J47 -> 0.31472166 | K71: 0.36116434 | L71: 0.35932997 | M71: =M59/M47 -> 0.36090953 | N71: =N59/N47 -> 0.34206726 | O71: =O59/O47 -> 0.36189243 | P71: =P59/P47 -> 0.40490124 | Q71: =Q59/Q47 -> 0.44519922 | R71: =R59/R47 -> 0.49279835 | S71: =S59/S47 -> 0.51479945 | T71: =T59/T47 -> 0.58121668
A72: Pedagogika, učitelství a soc. péče | B72: . | C72: . | D72: 0.33474703 | E72: 0.38571523 | F72: =F60/F48 -> 0.47022138 | G72: =G60/G48 -> 0.44168786 | H72: =H60/H48 -> 0.50481379 | I72: =I60/I48 -> 0.49354555 | J72: =J60/J48 -> 0.49468612 | K72: 0.53739019 | L72: 0.54204477 | M72: =M60/M48 -> 0.52836842 | N72: =N60/N48 -> 0.46154851 | O72: =O60/O48 -> 0.46118705 | P72: =P60/P48 -> 0.47298268 | Q72: =Q60/Q48 -> 0.47472916 | R72: =R60/R48 -> 0.48292138 | S72: =S60/S48 -> 0.52681516 | T72: =T60/T48 -> 0.59679713
A73: Vědy a nauky o kultuře a umění | B73: . | C73: . | D73: 0.18720465 | E73: 0.20182214 | F73: =F61/F49 -> 0.26586103 | G73: =G61/G49 -> 0.3076641 | H73: =H61/H49 -> 0.33901313 | I73: =I61/I49 -> 0.37148218 | J73: =J61/J49 -> 0.39086212 | K73: 0.43124675 | L73: 0.41493384 | M73: =M61/M49 -> 0.41127117 | N73: =N61/N49 -> 0.41079962 | O73: =O61/O49 -> 0.4187787 | P73: =P61/P49 -> 0.42751 | Q73: =Q61/Q49 -> 0.44561753 | R73: =R61/R49 -> 0.44148056 | S73: =S61/S49 -> 0.45838111 | T73: =T61/T49 -> 0.50304809
A74: Neuvedeno | B74: . | C74: . | D74: x | E74: x | F74: x | G74: x | H74: x | I74: x | J74: x | K74: x | L74: x | M74: x | N74: x | O74: x | P74: x | Q74: x | R74: x | S74: x | T74: x
A75: Celkem | B75: . | C75: . | D75: =D63/D51 -> 0.58175063 | E75: =E63/E51 -> 0.62194661 | F75: =F63/F51 -> 0.64929635 | G75: =G63/G51 -> 0.63336771 | H75: =H63/H51 -> 0.66815319 | I75: =I63/I51 -> 0.70068594 | J75: =J63/J51 -> 0.71869315 | K75: 0.76407623 | L75: 0.77189673 | M75: =M63/M51 -> 0.75987349 | N75: =N63/N51 -> 0.74498133 | O75: =O63/O51 -> 0.75164464 | P75: =P63/P51 -> 0.75718695 | Q75: =Q63/Q51 -> 0.7610753 | R75: =R63/R51 -> 0.77629976 | S75: =S63/S51 -> 0.79481864 | T75: =T63/T51 -> 0.8243085
A76: Struktura přihlášených podle skupin studijních programů
A77: Přírodní vědy a nauky | B77: =+B17/B$27 -> 0.13139351 | C77: =+C17/C$27 -> 0.099386385 | D77: =+D17/D$27 -> 0.13029194 | E77: =+E17/E$27 -> 0.11723947 | F77: =+F17/F$27 -> 0.12340574 | G77: =+G17/G$27 -> 0.11423017 | H77: =+H17/H$27 -> 0.10921381 | I77: =+I17/I$27 -> 0.10744887 | ... T77: =+T17/T$27 -> 0.12719647
A78: Technické vědy a nauky | B78: =+B18/B$27 -> 0.25958137 | C78: =+C18/C$27 -> 0.19950717 | D78: =+D18/D$27 -> 0.25872023 | E78: =+E18/E$27 -> 0.25891037 | F78: =+F18/F$27 -> 0.27658235 | G78: =+G18/G$27 -> 0.25138321 | H78: =+H18/H$27 -> 0.24438031 | I78: =+I18/I$27 -> 0.24324364 | ... T78: =+T18/T$27 -> 0.2419233
A79: Zemědělsko-lesnické a veterinární vědy a nauky | B79: =+B19/B$27 -> 0.047107806 | C79: =+C19/C$27 -> 0.038082814 | D79: =+D19/D$27 -> 0.042835048 | E79: =+E19/E$27 -> 0.050726577 | F79: =+F19/F$27 -> 0.049348682 | G79: =+G19/G$27 -> 0.04796668 | H79: =+H19/H$27 -> 0.048461602 | I79: =+I19/I$27 -> 0.048029137 | ... T79: =+T19/T$27 -> 0.068215678
A80: Zdravotnictví, lékařské a farmaceut.vědy a nauky | B80: =+B20/B$27 -> 0.066607233 | C80: =+C20/C$27 -> 0.069826545 | D80: =+D20/D$27 -> 0.083854482 | E80: =+E20/E$27 -> 0.081099783 | F80: =+F20/F$27 -> 0.087576895 | G80: =+G20/G$27 -> 0.094212031 | H80: =+H20/H$27 -> 0.095529114 | I80: =+I20/I$27 -> 0.094273505 | ... T80: =+T20/T$27 -> 0.14115594
A81: Humanitní a spol. vědy a nauky | B81: =+B21/B$27 -> 0.24490938 | C81: =+C21/C$27 -> 0.27788568 | D81: =+D21/D$27 -> 0.24486777 | E81: =+E21/E$27 -> 0.24686073 | F81: =+F21/F$27 -> 0.24445465 | G81: =+G21/G$27 -> 0.2517367 | H81: =+H21/H$27 -> 0.26088333 | I81: =+I21/I$27 -> 0.26351454 | ... T81: =+T21/T$27 -> 0.25525011
A82: Ekonomické vědy a nauky | B82: =+B22/B$27 -> 0.25109305 | C82: =+C22/C$27 -> 0.23523216 | D82: =+D22/D$27 -> 0.25760589 | E82: =+E22/E$27 -> 0.23829866 | F82: =+F22/F$27 -> 0.23307042 | G82: =+G22/G$27 -> 0.24007162 | H82: =+H22/H$27 -> 0.25471165 | I82: =+I22/I$27 -> 0.26888336 | ... T82: =+T22/T$27 -> 0.21602482
A83: Právní vědy a nauky | B83: =+B23/B$27 -> 0.093760373 | C83: =+C23/C$27 -> 0.11508914 | D83: =+D23/D$27 -> 0.095151637 | E83: =+E23/E$27 -> 0.090907413 | F83: =+F23/F$27 -> 0.094187916 | G83: =+G23/G$27 -> 0.10630744 | H83: =+H23/H$27 -> 0.10186657 | I83: =+I23/I$27 -> 0.088882924 | ... T83: =+T23/T$27 -> 0.071368803
A84: Pedagogika, učitelství a soc. péče | B84: =+B24/B$27 -> 0.28737943 | C84: =+C24/C$27 -> 0.28517176 | D84: =+D24/D$27 -> 0.25346552 | E84: =+E24/E$27 -> 0.25061586 | F84: =+F24/F$27 -> 0.23346181 | G84: =+G24/G$27 -> 0.2500999 | H84: =+H24/H$27 -> 0.23016812 | I84: =+I24/I$27 -> 0.21862689 | ... T84: =+T24/T$27 -> 0.19278965
A85: Vědy a nauky o kultuře a umění | B85: =+B25/B$27 -> 0.062377299 | C85: =+C25/C$27 -> 0.056645891 | D85: =+D25/D$27 -> 0.051951545 | E85: =+E25/E$27 -> 0.045891959 | F85: =+F25/F$27 -> 0.047502361 | G85: =+G25/G$27 -> 0.046606523 | H85: =+H25/H$27 -> 0.04669073 | I85: =+I25/I$27 -> 0.046962629 | ... T85: =+T25/T$27 -> 0.052184738
A86: Neuvedeno | B86: x | C86: x | D86: x | E86: x | F86: x | G86: x | H86: x | I86: x | J86: x | K86: x | L86: x | M86: x | N86: x | O86: x | P86: x | Q86: x | R86: x | S86: x | T86: x
A87: Celkem | B87: =+B27/B$27 -> 1 | C87: =+C27/C$27 -> 1 | D87: =+D27/D$27 -> 1 | E87: =+E27/E$27 -> 1 | F87: =+F27/F$27 -> 1 | G87: =+G27/G$27 -> 1 | H87: =+H27/H$27 -> 1 | I87: =+I27/I$27 -> 1 | ... T87: =+T27/T$27 -> 1
A88: Struktura přijatých podle skupin studijních programů
A89: Přírodní vědy a nauky | B89: =B53/B$63 -> 0.093260205 | C89: =C53/C$63 -> 0.10310966 | D89: =D53/D$63 -> 0.11500771 | E89: =E53/E$63 -> 0.11273778 | F89: =F53/F$63 -> 0.11319995 | G89: =G53/G$63 -> 0.10770351 | H89: =H53/H$63 -> 0.10833385 | I89: =I53/I$63 -> 0.10316142 | ... T89: =T53/T$63 -> 0.11468314
A90: Technické vědy a nauky | B90: =B54/B$63 -> 0.3939036 | C90: =C54/C$63 -> 0.34150927 | D90: =D54/D$63 -> 0.37478896 | E90: =E54/E$63 -> 0.3508674 | F90: =F54/F$63 -> 0.35732149 | G90: =G54/G$63 -> 0.34338848 | H90: =H54/H$63 -> 0.31998026 | I90: =I54/I$63 -> 0.30979859 | ... T90: =T54/T$63 -> 0.26186296
A91: Zemědělsko-lesnické a veterinární vědy a nauky | B91: =B55/B$63 -> 0.045775762 | C91: =C55/C$63 -> 0.05027204 | D91: =D55/D$63 -> 0.047786831 | E91: =E55/E$63 -> 0.0536362 | F91: =F55/F$63 -> 0.051497643 | G91: =G55/G$63 -> 0.052667108 | H91: =H55/H$63 -> 0.050817346 | I91: =I55/I$63 -> 0.053360128 | ... T91: =T55/T$63 -> 0.070152634
A92: Zdravotnictví, lékařské a farmaceut.vědy a nauky | B92: =B56/B$63 -> 0.053369898 | C92: =C56/C$63 -> 0.057327376 | D92: =D56/D$63 -> 0.05334728 | E92: =E56/E$63 -> 0.054899966 | F92: =F56/F$63 -> 0.056240658 | G92: =G56/G$63 -> 0.056968895 | H92: =H56/H$63 -> 0.057491827 | I92: =I56/I$63 -> 0.058311067 | ... T92: =T56/T$63 -> 0.086983906
A93: Humanitní a spol. vědy a nauky | B93: =B57/B$63 -> 0.11209788 | C93: =C57/C$63 -> 0.1253594 | D93: =D57/D$63 -> 0.1274132 | E93: =E57/E$63 -> 0.13807875 | F93: =F57/F$63 -> 0.15051167 | G93: =G57/G$63 -> 0.16350761 | H93: =H57/H$63 -> 0.17126642 | I93: =I57/I$63 -> 0.17702135 | ... T93: =T57/T$63 -> 0.17552229
A94: Ekonomické vědy a nauky | B94: =B58/B$63 -> 0.17896846 | C94: =C58/C$63 -> 0.21727783 | D94: =D58/D$63 -> 0.21414153 | E94: =E58/E$63 -> 0.21216498 | F94: =F58/F$63 -> 0.20596183 | G94: =G58/G$63 -> 0.20964924 | H94: =H58/H$63 -> 0.22118315 | I94: =I58/I$63 -> 0.24375239 | ... T94: =T58/T$63 -> 0.21886014
A95: Právní vědy a nauky | B95: =B59/B$63 -> 0.038266006 | C95: =C59/C$63 -> 0.041580042 | D95: =D59/D$63 -> 0.037950525 | E95: =E59/E$63 -> 0.03958706 | F95: =F59/F$63 -> 0.039338278 | G95: =G59/G$63 -> 0.034546658 | H95: =H59/H$63 -> 0.040441675 | I95: =I59/I$63 -> 0.034690258 | ... T95: =T59/T$63 -> 0.049676373
A96: Pedagogika, učitelství a soc. péče | B96: =B60/B$63 -> 0.18822909 | C96: =C60/C$63 -> 0.17720175 | D96: =D60/D$63 -> 0.16303311 | E96: =E60/E$63 -> 0.17290617 | F96: =F60/F$63 -> 0.16363401 | G96: =G60/G$63 -> 0.17013898 | H96: =H60/H$63 -> 0.16689902 | I96: =I60/I$63 -> 0.15108786 | ... T96: =T60/T$63 -> 0.1293435
A97: Vědy a nauky o kultuře a umění | B97: =B61/B$63 -> 0.039827022 | C97: =C61/C$63 -> 0.021873756 | D97: =D61/D$63 -> 0.018920208 | E97: =E61/E$63 -> 0.016609496 | F97: =F61/F$63 -> 0.018972059 | G97: =G61/G$63 -> 0.022210457 | H97: =H61/H$63 -> 0.023564246 | I97: =I61/I$63 -> 0.02445158 | ... T97: =T61/T$63 -> 0.029856747
A98: Neuvedeno | B98: x | C98: x | D98: x | E98: x | F98: x | G98: x | H98: x | I98: x | J98: x | K98: x | L98: x | M98: x | N98: x | O98: x | P98: x | Q98: x | R98: x | S98: x | T98: x
A99: Celkem | B99: =B63/B$63 -> 1 | C99: =C63/C$63 -> 1 | D99: =D63/D$63 -> 1 | E99: =E63/E$63 -> 1 | F99: =F63/F$63 -> 1 | G99: =G63/G$63 -> 1 | H99: =H63/H$63 -> 1 | I99: =I63/I$63 -> 1 | ... T99: =T63/T$63 -> 1
A101: Pozn.: za rok 2003/04 nejsou k dispozici potřebné údaje ke zpracování oborové struktury.

Sheet vš_věk x dfst
A1: Struktura přihlášených, přijatých a zapsaných na VŠ podle věku a formy studia pro roky 1999/00–2025/2026 | Y1: Věk k 31.8.1998 | Z1: Struktura přihláše- ných v % | AA1: Struktura přijatých v % | AB1: Struktura zapsa- ných v % | AC1: Struktura přihláše- ných v % | AD1: Struktura přijatých v % | AE1: Struktura zapsa- ných v %
A3: 1999/2000 | I3: 2000/01 | Q3: 18 | R3: =196+32254 -> 32450 | S3: =133+23429 -> 23562 | T3: =121+22237 -> 22358 | U3: =1+495 -> 496 | V3: =2+225 -> 227 | W3: =2+181 -> 183
A4: Věk k 31.8.1999 | B4: Struktura přihlášených v % | C4: Struktura přijatých v % | D4: Struktura zapsaných v % | E4: Struktura přihlášených v % | F4: Struktura přijatých v % | G4: Struktura zapsaných v % | I4: Věk k 31.8.2000 | J4: Struktura přihlášených v % | K4: Struktura přijatých v % | L4: Struktura zapsaných v % | M4: Struktura přihlášených v % | N4: Struktura přijatých v % | O4: Struktura zapsaných v % | Q4: 19 | R4: 24051 | S4: 15139 | T4: 14234 | U4: 1003 | V4: 471 | W4: 404
B5: prezenční studium | E5: kombinované / distanční studium | J5: prezenční studium | M5: kombinované / distanční studium | Q5: 20 | R5: 12424 | S5: 6574 | T5: 6167 | U5: 1331 | V5: 571 | W5: 516
A6: 18 | B6: 0.35840117 | C6: 0.43103322 | D6: 0.43556525 | E6: 0.027766892 | F6: 0.032746682 | G6: 0.028197227 | I6: 18 | J6: 0.21968901 | K6: 0.27209227 | L6: 0.27415459 | M6: 0.028131008 | N6: 0.022219664 | O6: 0.018994951 | Q6: 21 | R6: 7341 | S6: 3385 | T6: 3163 | U6: 1558 | V6: 643 | W6: 602
A7: 19 | B7: 0.26563656 | C7: 0.27694644 | D7: 0.27729832 | E7: 0.056149583 | F7: 0.067945759 | G7: 0.062249615 | I7: 19 | J7: 0.26075262 | K7: 0.27718215 | L7: 0.27828334 | M7: 0.054508045 | N7: 0.049965462 | O7: 0.044602068 | Q7: 22 | R7: 4644 | S7: 2060 | T7: 1894 | U7: 1591 | V7: 622 | W7: 2581
A8: 20 | B8: 0.1372196 | C8: 0.12026196 | D8: 0.12014182 | E8: 0.07451156 | F8: 0.08237161 | G8: 0.079506934 | I8: 20 | J8: 0.17201629 | K8: 0.16171215 | L8: 0.16228514 | M8: 0.0777819 | N8: 0.070573336 | O8: 0.068165424 | Q8: 23 | R8: 3046 | S8: 1368 | T8: 1206 | U8: 1606 | V8: 607 | W8: 580
A9: 21 | B9: 0.08107929 | C9: 0.061923752 | D9: 0.061619684 | E9: 0.087219392 | F9: 0.092758223 | G9: 0.092758089 | I9: 21 | J9: 0.11898968 | K9: 0.10921594 | L9: 0.10897652 | M9: 0.082639053 | N9: 0.079668432 | O9: 0.078624669 | Q9: 24 | R9: 1877 | S9: 817 | T9: 711 | U9: 1444 | V9: 563 | W9: 526
A10: 22 | B10: 0.05129168 | C10: 0.037684765 | D10: 0.036897781 | E10: 0.089066786 | F10: 0.089728794 | G10: 0.08952234 | I10: 22 | J10: 0.074275687 | K10: 0.064435781 | L10: 0.064093922 | M10: 0.089148986 | N10: 0.084273544 | O10: 0.084275066 | Q10: 25 | R10: 1248 | S10: 510 | T10: 440 | U10: 1278 | V10: 524 | W10: 499
A11: 23 | B11: 0.033642217 | C11: 0.025025611 | D11: 0.023494574 | E11: 0.089906511 | F11: 0.087564916 | G11: 0.089368259 | I11: 23 | J11: 0.048838282 | K11: 0.042614252 | L11: 0.041877317 | M11: 0.085708503 | N11: 0.088878655 | O11: 0.090286126 | Q11: 26 | R11: 735 | S11: 275 | T11: 254 | U11: 1059 | V11: 383 | W11: 365
A12: 24 | B12: 0.02073094 | C12: 0.014945851 | D12: 0.013851279 | E12: 0.080837485 | F12: 0.081217542 | G12: 0.081047766 | I12: 24 | J12: 0.031764736 | K12: 0.027696556 | L12: 0.026485788 | M12: 0.077512059 | N12: 0.080359199 | O12: 0.081269536 | Q12: 27 | R12: 534 | S12: 209 | T12: 192 | U12: 752 | V12: 274 | W12: 261
A13: 25 | B13: 0.013783811 | C13: 0.0093297234 | D13: 0.0085718182 | E13: 0.071544533 | F13: 0.07559146 | G13: 0.076887519 | I13: 25 | J13: 0.019648026 | K13: 0.015756985 | L13: 0.015363442 | M13: 0.069990218 | N13: 0.079323049 | O13: 0.080307766 | Q13: 28 | R13: 374 | S13: 138 | T13: 119 | U13: 678 | V13: 241 | W13: 236
A14: 26 | B14: 0.0081178693 | C14: 0.0050307332 | D14: 0.0049482769 | E14: 0.059284555 | F14: 0.05525101 | G14: 0.05624037 | I14: 26 | J14: 0.012910828 | K14: 0.0086094867 | L14: 0.0083136726 | M14: 0.059365197 | N14: 0.06516233 | O14: 0.066602549 | Q14: 29 | R14: 256 | S14: 85 | T14: 81 | U14: 555 | V14: 187 | W14: 179
A15: 27 | B15: 0.0058978805 | C15: 0.0038233572 | D15: 0.0037404298 | E15: 0.042098192 | F15: 0.039526832 | G15: 0.040215716 | I15: 27 | J15: 0.0089914696 | K15: 0.0056584362 | L15: 0.0055611729 | M15: 0.051404864 | N15: 0.054110062 | O15: 0.054460207 | Q15: 30 a více | R15: =184+180+1197 -> 1561 | S15: =60+59+423 -> 542 | T15: =59+55+398 -> 512 | U15: =469+446+3597 -> 4512 | V15: =173+150+1296 -> 1619 | W15: =164+142+1252 -> 1558
A16: 28 | B16: 0.0041307253 | C16: 0.0025245134 | D16: 0.0023182872 | E16: 0.037955551 | F16: 0.034766301 | G16: 0.036363636 | I16: 28 | J16: 0.0059302713 | K16: 0.0031676413 | L16: 0.0030052803 | M16: 0.038553648 | N16: 0.040524983 | O16: 0.041476316 | Q16: průměr | R16: 19.8 | S16: 19.38 | T16: 19.36 | U16: 25.29 | V16: 24.96 | W16: 25.1
A17: 29 | B17: 0.0028274483 | C17: 0.0015549539 | D17: 0.0015779938 | E17: 0.031069809 | F17: 0.026976342 | G17: 0.027580894 | I17: 29 | J17: 0.0043036094 | K17: 0.002274204 | L17: 0.002303112 | M17: 0.033291733 | N17: 0.033962699 | O17: 0.035104592 | R17: 90541 | S17: 54664 | T17: 51331 | U17: 17863 | V17: 6932 | W17: 6490
A18: 30 a více | B18: 0.017240808 | C18: 0.0099151178 | D18: 0.0099744794 | E18: 0.25258915 | F18: 0.23355453 | G18: 0.24006163 | I18: 30 a více | J18: 0.02141558 | K18: 0.0093675547 | L18: 0.0091281878 | M18: 0.25189733 | N18: 0.25086346 | O18: 0.25571051
A19: průměr | B19: =+R16 -> 19.8 | C19: =+S16 -> 19.38 | D19: =+T16 -> 19.36 | E19: =+U16 -> 25.29 | F19: =+V16 -> 24.96 | G19: =+W16 -> 25.1 | I19: průměr | J19: 20.47 | K19: 20 | L19: 19.986 | M19: 26.168 | N19: 26.298 | O19: 26.42
A21: 2001/02 | I21: 2002/03
A22: Věk k 31.8.2001 | B22: Struktura přihlášených v % | C22: Struktura přijatých v % | D22: Struktura zapsaných v % | E22: Struktura přihlášených v % | F22: Struktura přijatých v % | G22: Struktura zapsaných v % | I22: Věk k 31.8.2002 | J22: Struktura přihlášených v % | K22: Struktura přijatých v % | L22: Struktura zapsaných v % | M22: Struktura přihlášených v % | N22: Struktura přijatých v % | O22: Struktura zapsaných v % | R22: Věk k 31.8.1998 | S22: Struktura přihláše- ných v % | T22: Struktura přijatých v % | U22: Struktura zapsa- ných v % | V22: Struktura přihláše- ných v % | W22: Struktura přijatých v % | X22: Struktura zapsa- ných v %
B23: prezenční studium | E23: kombinované / distanční studium | J23: prezenční studium | M23: kombinované / distanční studium | S23: prezenční studium | V23: kombinované / distanční studium
A24: 18 | B24: 0.092789771 | C24: 0.12471605 | D24: 0.12705926 | E24: 0.0071707464 | F24: 0.0074104152 | G24: 0.0046718818 | I24: 18 | J24: 0.0018518519 | K24: 0.023186945 | L24: 0.023647981 | M24: 0.0019059949 | N24: 0.0018518519 | O24: 0.0014805415 | R24: 18 | S24: 17152 | T24: 10050 | U24: 9761 | V24: 834 | W24: 193 | X24: 158
A25: 19 | B25: 0.45367804 | C25: 0.48752839 | D25: 0.49389978 | E25: 0.054212344 | F25: 0.050147193 | G25: 0.039330726 | I25: 19 | J25: 0.44995863 | K25: 0.50839057 | L25: 0.51421733 | M25: 0.053547668 | N25: 0.051267057 | O25: 0.041032149 | R25: 19 | S25: 20358 | T25: 10238 | U25: 9908 | V25: 1616 | W25: 434 | X25: 371
A26: 20 | B26: 0.15871743 | C26: 0.14332973 | D26: 0.1426602 | E26: 0.056990539 | F26: 0.051162319 | G26: 0.045415037 | I26: 20 | J26: 0.23582587 | K26: 0.23604898 | L26: 0.23549173 | M26: 0.062574172 | N26: 0.066471735 | O26: 0.060067682 | R26: 20 | S26: 13430 | T26: 5973 | U26: 5778 | V26: 2306 | W26: 613 | X26: 567
A27: 21 | B27: 0.091258265 | C27: 0.078799374 | D27: 0.076970797 | E27: 0.072120439 | F27: 0.070246675 | G27: 0.068991743 | I27: 21 | J27: 0.098853903 | K27: 0.093314851 | L27: 0.092527941 | M27: 0.072283957 | N27: 0.0791423 | O27: 0.076565144 | R27: 21 | S27: 9290 | T27: 4034 | U27: 3880 | V27: 2450 | W27: 692 | X27: 654
A28: 22 | B28: 0.065453617 | C28: 0.057252498 | D28: 0.055625761 | E28: 0.08597387 | F28: 0.085372043 | G28: 0.086158192 | I28: 22 | J28: 0.064811661 | K28: 0.058072375 | L28: 0.057176734 | M28: 0.081346424 | N28: 0.092690058 | O28: 0.09179357 | R28: 22 | S28: 5799 | T28: 2380 | U28: 2282 | V28: 2643 | W28: 732 | X28: 701
A29: 23 | B29: 0.044134092 | C29: 0.038815253 | D29: 0.037451462 | E29: 0.08597387 | F29: 0.086996244 | G29: 0.088005215 | I29: 23 | J29: 0.04880037 | K29: 0.045575788 | L29: 0.044068243 | M29: 0.090229079 | N29: 0.10243665 | O29: 0.10384941 | R29: 23 | S29: 3813 | T29: 1574 | U29: 1491 | V29: 2541 | W29: 772 | X29: 751
A30: 24 | B30: 0.028977052 | C30: 0.024810886 | D30: 0.023412908 | E30: 0.081618862 | F30: 0.07562684 | G30: 0.091373316 | I30: 24 | J30: 0.032241581 | K30: 0.030243841 | L30: 0.028939683 | M30: 0.085374186 | N30: 0.092592593 | O30: 0.094120135 | R30: 24 | S30: 2480 | T30: 1023 | U30: 943 | V30: 2298 | W30: 698 | X30: 676
A31: 25 | B31: 0.017138273 | C31: 0.014048475 | D31: 0.013349264 | E31: 0.0726085 | F31: 0.07562684 | G31: 0.075945241 | I31: 25 | J31: 0.019685614 | K31: 0.016697121 | L31: 0.016226423 | M31: 0.076167871 | N31: 0.083820663 | O31: 0.085765651 | R31: 25 | S31: 1534 | T31: 582 | U31: 547 | V31: 2075 | W31: 689 | X31: 668
A32: 26 | B32: 0.011923862 | C32: 0.00840262 | D32: 0.0079038669 | E32: 0.063297792 | F32: 0.063343823 | G32: 0.064211213 | I32: 26 | J32: 0.012081468 | K32: 0.0096402243 | L32: 0.0089146521 | M32: 0.067932535 | N32: 0.073976608 | O32: 0.075296108 | R32: 26 | S32: 1008 | T32: 318 | U32: 296 | V32: 1760 | W32: 566 | X32: 554
A33: 27 | B33: 0.0076453715 | C33: 0.0049621772 | D33: 0.0046412242 | E33: 0.055563898 | F33: 0.059892397 | G33: 0.060843112 | I33: 27 | J33: 0.0085409772 | K33: 0.0065318295 | L33: 0.0062578223 | M33: 0.058654296 | N33: 0.06539961 | O33: 0.066730118 | R33: 27 | S33: 702 | T33: 209 | U33: 198 | V33: 1524 | W33: 470 | X33: 453
A34: 28 | B34: 0.0057492221 | C34: 0.0039917959 | D34: 0.003860028 | E34: 0.045952846 | F34: 0.049944168 | G34: 0.051716645 | I34: 28 | J34: 0.0055358186 | K34: 0.0035704534 | L34: 0.0034472916 | M34: 0.053295933 | N34: 0.057407407 | O34: 0.058798646 | R34: 28 | S34: 463 | T34: 117 | U34: 107 | V34: 1143 | W34: 352 | X34: 345
A35: 29 | B35: 0.0039381564 | C35: 0.0018746003 | D35: 0.0018151322 | E35: 0.037918606 | F35: 0.037356614 | G35: 0.038787484 | I35: 29 | J35: 0.0042218221 | K35: 0.0028563628 | L35: 0.0027227016 | M35: 0.044988672 | N35: 0.051461988 | O35: 0.052453469 | R35: 29 | S35: 336 | T35: 84 | U35: 82 | V35: 987 | W35: 295 | X35: 292
A36: 30 a více | B36: 0.017150428 | C36: 0.010299274 | D36: 0.010178526 | E36: 0.28119838 | F36: 0.27215511 | G36: 0.2845502 | I36: 30 a více | J36: 0.018919116 | K36: 0.012139542 | L36: 0.011922798 | M36: 0.30632575 | N36: 0.33859649 | O36: 0.35035956 | R36: 30 a více | S36: 1672 | T36: 346 | U36: 325 | V36: 7468 | W36: 2179 | X36: 2127
A37: průměr | B37: 20.73 | C37: 20.01 | D37: 19.97 | E37: 26.82 | F37: 26.79 | G37: 27.04 | I37: průměr | J37: 20.87 | K37: 21.200491 | L37: 21.485607 | M37: 26.975869 | N37: 29.568226 | O37: 29.864213 | R37: průměr
S38: =+'vš_druh studia '!#REF! -> #REF! | T38: =+'vš_druh studia '!#REF! -> #REF! | U38: =+'vš_druh studia '!#REF! -> #REF! | V38: =+'vš_druh studia '!#REF! -> #REF! | W38: =+'vš_druh studia '!#REF! -> #REF! | X38: =+'vš_druh studia '!#REF! -> #REF!
A39: 2003/04 | I39: 2004/05
A40: Věk k 31.8.2003 | B40: Struktura přihlášených v % | C40: Struktura přijatých v % | D40: Struktura zapsaných v % | E40: Struktura přihlášených v % | F40: Struktura přijatých v % | G40: Struktura zapsaných v % | I40: Věk k 31.8.2004 | J40: Struktura přihlášených v % | K40: Struktura přijatých v % | L40: Struktura zapsaných v % | M40: Struktura přihlášených v % | N40: Struktura přijatých v % | O40: Struktura zapsaných v %
B41: prezenční studium | E41: kombinované / distanční studium | J41: prezenční studium | M41: kombinované / distanční studium
A42: 18 | B42: =33.5651449005112%/100 -> 0.0033565145 | C42: =40%/100 -> 0.004 | D42: 0.004 | E42: 0 | F42: =0.0520639642989959/100 -> 0.00052063964 | G42: =4.78850758180367%/100 -> 0.00047885076 | I42: 18 | J42: 0.0038465603 | K42: 0.0042008266 | L42: 0.004170231 | M42: 0.00060986022 | N42: 0.00091858996 | O42: 0.0008487935
A43: 19 | B43: =4565.07908650155%/100 -> 0.45650791 | C43: =51.0873001932197/100 -> 0.510873 | D43: 0.522 | E43: 0.053 | F43: =382.298252138341%/100 -> 0.038229825 | G43: =320.830007980846%/100 -> 0.032083001 | I43: 19 | J43: 0.46011836 | K43: 0.52373128 | L43: 0.53836969 | M43: 0.049471861 | N43: 0.041279137 | O43: 0.036134352 | R43: Věk k 31.8.2001 | S43: Struktura přihláše- ných | T43: Struktura přijatých | U43: Struktura zapsa- ných | V43: Struktura přihláše- ných | W43: Struktura přijatých | X43: Struktura zapsa- ných
A44: 20 | B44: =2131.49639119847%/100 -> 0.21314964 | C44: =2040.40049183207%/100 -> 0.20404005 | D44: 0.204 | E44: 0.057 | F44: =481.219784306434%/100 -> 0.048121978 | G44: =453.312051077414%/100 -> 0.045331205 | I44: 20 | J44: 0.22379795 | K44: 0.21402195 | L44: 0.21328771 | M44: 0.054472715 | N44: 0.045642439 | O44: 0.042985328 | S44: prezenční studium | V44: kombinované / distanční studium
A45: 21 | B45: =1039.53228177171%/100 -> 0.10395323 | C45: =930.08958369928%/100 -> 0.093008958 | D45: 0.091 | E45: 0.061 | F45: =592.785422089996%/100 -> 0.059278542 | G45: =587.390263367917%/100 -> 0.058739026 | I45: 21 | J45: 0.10075029 | K45: 0.08964022 | L45: 0.087004562 | M45: 0.054155588 | N45: 0.050809507 | O45: 0.050018188 | R45: 18 | S45: 7634 | T45: 5655 | U45: 5530 | V45: 191 | W45: 73 | X45: 43
A46: 22 | B46: =607.572998705658%/100 -> 0.0607573 | C46: =509.221851396452%/100 -> 0.050922185 | D46: 0.049 | E46: 0.073 | F46: =701.375976199331%/100 -> 0.070137598 | G46: =695.929768555467%/100 -> 0.069592977 | I46: 22 | J46: 0.068931628 | K46: 0.059336676 | L46: 0.056333761 | M46: 0.061571488 | N46: 0.05884717 | O46: 0.057839214 | R46: 19 | S46: 37325 | T46: 22106 | U46: 21496 | V46: 1444 | W46: 494 | X46: 362
A47: 23 | B47: =477.151569664129%/100 -> 0.047715157 | C47: =439.311435095732%/100 -> 0.043931144 | D47: 0.042 | E47: 0.081 | F47: =804.016362960208%/100 -> 0.080401636 | G47: =803.67118914605%/100 -> 0.080367119 | I47: 23 | J47: 0.04153017 | K47: 0.035588455 | L47: 0.03327274 | M47: 0.065669748 | N47: 0.064760592 | O47: 0.064811447 | R47: 20 | S47: 13058 | T47: 6499 | U47: 6209 | V47: 1518 | W47: 504 | X47: 418
A48: 24 | B48: =374.70109470636%/100 -> 0.037470109 | C48: =353.240822062182%/100 -> 0.035324082 | D48: 0.033 | E48: 0.084 | F48: =876.162142060245%/100 -> 0.087616214 | G48: =883.479648842777%/100 -> 0.088347965 | I48: 24 | J48: 0.028976012 | K48: 0.025086388 | L48: 0.023257057 | M48: 0.071280463 | N48: 0.070846251 | O48: 0.070449861 | R48: 21 | S48: 7508 | T48: 3573 | U48: 3350 | V48: 1921 | W48: 692 | X48: 635
A49: 25 | B49: =216.528091613101%/100 -> 0.021652809 | C49: =196.908484103285%/100 -> 0.019690848 | D49: 0.018 | E49: 0.075 | F49: =797.322424693195%/100 -> 0.079732242 | G49: =803.67118914605%/100 -> 0.080367119 | I49: 25 | J49: 0.018429673 | K49: 0.014990853 | L49: 0.013722555 | M49: 0.067816456 | N49: 0.06929613 | O49: 0.07014672 | R49: 22 | S49: 5385 | T49: 2596 | U49: 2421 | V49: 2290 | W49: 841 | X49: 793
A50: 26 | B50: =129.105148849352%/100 -> 0.012910515 | C50: =103.109081327947%/100 -> 0.010310908 | D50: 0.01 | E50: 0.068 | F50: =713.276310896244%/100 -> 0.071327631 | G50: =725.458898643256%/100 -> 0.07254589 | I50: 26 | J50: 0.010504068 | K50: 0.0075547124 | L50: 0.0066652409 | M50: 0.06479155 | N50: 0.069812837 | O50: 0.070389232 | R50: 23 | S50: 3631 | T50: 1760 | U50: 1630 | V50: 2274 | W50: 857 | X50: 810
A51: 27 | B51: =88.5198429238971%/100 -> 0.0088519843 | C51: =65.3434041805726%/100 -> 0.0065343404 | D51: 0.006 | E51: 0.058 | F51: =585.347712904425%/100 -> 0.058534771 | G51: =592.976855546688%/100 -> 0.059297686 | I51: 27 | J51: 0.0071119095 | K51: 0.004624297 | L51: 0.0041880525 | M51: 0.057448833 | N51: 0.058330463 | O51: 0.059597429 | R51: 24 | S51: 2384 | T51: 1125 | U51: 1019 | V51: 2174 | W51: 890 | X51: 841
A52: 28 | B52: =65.5946295768159%/100 -> 0.006559463 | C52: =42.5083435798349%/100 -> 0.0042508344 | D52: 0.004 | E52: 0.051 | F52: =558.57195983637%/100 -> 0.055857196 | G52: =569.832402234637%/100 -> 0.05698324 | I52: 28 | J52: 0.0059917574 | K52: 0.0039467444 | L52: 0.0036534075 | M52: 0.051886908 | N52: 0.053507865 | O52: 0.054201528 | R52: 25 | S52: 1410 | T52: 637 | U52: 581 | V52: 1934 | W52: 745 | X52: 699
A53: 29 | B53: =49.0314371585898%/100 -> 0.0049031437 | C53: =30.2125417178992%/100 -> 0.0030212542 | D53: 0.003 | E53: 0.046 | F53: 0.048 | G53: =486.83160415004%/100 -> 0.04868316 | I53: 29 | J53: 0.0053788439 | K53: 0.0028287824 | L53: 0.002673225 | M53: 0.044836923 | N53: 0.047249971 | O53: 0.048017461 | R53: 26 | S53: 981 | T53: 381 | U53: 344 | V53: 1686 | W53: 624 | X53: 591
A54: 30 a více | B54: 0.01868 | C54: 0.014 | D54: 0.014 | E54: 0.293 | F54: =30.2% -> 0.302 | G54: 0.307 | I54: 30 a více | J54: 0.024 | K54: 0.014 | L54: 0.013 | M54: 0.356 | N54: 0.369 | O54: 0.374 | R54: 27 | S54: 629 | T54: 225 | U54: 202 | V54: 1480 | W54: 590 | X54: 560
A55: průměr | B55: 20.42 | C55: 20.5 | D55: 20.3 | E55: 25.9 | F55: 27.68 | G55: 27.81 | I55: průměr | J55: 20.69 | K55: 20.31 | L55: 20.24 | M55: 28.37 | N55: 28.64 | O55: 28.75 | R55: 28 | S55: 473 | T55: 181 | U55: 168 | V55: 1224 | W55: 492 | X55: 476
R56: 29 | S56: 324 | T56: 85 | U56: 79 | V56: 1010 | W56: 368 | X56: 357
A57: 2005/06 | I57: 2006/07
A58: Věk k 31.8.2005 | B58: Struktura přihlášených v % | C58: Struktura přijatých v % | D58: Struktura zapsaných v % | E58: Struktura přihlášených v % | F58: Struktura přijatých v % | G58: Struktura zapsaných v % | I58: Věk k 31.8.2006 | J58: Struktura přihlášených v % | K58: Struktura přijatých v % | L58: Struktura zapsaných v % | M58: Struktura přihlášených v % | N58: Struktura přijatých v % | O58: Struktura zapsaných v %
B59: prezenční studium | E59: kombinované / distanční studium | J59: prezenční studium | M59: kombinované / distanční studium
A60: 18 | B60: 0.0033312469 | C60: 0.004 | D60: 0.0039402985 | E60: 0.00030496387 | F60: 0.00041681863 | G60: 0.00038785461 | I60: 18 | J60: 0.0050254894 | K60: 0.0058701657 | L60: 0.0060122757 | M60: 0.00037732685 | N60: 0.00033658701 | O60: 0.00031336736
A61: 19 | B61: 0.47048027 | C61: 0.529 | D61: 0.54200426 | E61: 0.054565075 | F61: 0.035481686 | G61: 0.029753989 | I61: 19 | J61: 0.47274758 | K61: 0.52667848 | L61: 0.53736873 | M61: 0.055949187 | N61: 0.03938068 | O61: 0.032993106
A62: 20 | B62: 0.22869965 | C62: 0.221 | D62: 0.22021322 | E62: 0.056441775 | F62: 0.049861929 | G62: 0.04637633 | I62: 20 | J62: 0.22362394 | K62: 0.2160251 | L62: 0.21534308 | M62: 0.060665772 | N62: 0.052086839 | O62: 0.047676605
A63: 21 | B63: 0.098473355 | C63: 0.087 | D63: 0.084759062 | E63: 0.057825842 | F63: 0.052623352 | G63: 0.050753546 | I63: 21 | J63: 0.096239155 | K63: 0.085290055 | L63: 0.083434061 | M63: 0.057898709 | N63: 0.053559408 | O63: 0.052063748 | Q63: VEK
A64: 22 | B64: 0.065829258 | C64: 0.057 | D64: 0.054788913 | E64: 0.065356104 | F64: 0.062887511 | G64: 0.062222961 | I64: 22 | J64: 0.067358102 | K64: 0.060323084 | L64: 0.057438425 | M64: 0.066095086 | N64: 0.063951531 | O64: 0.063882174 | S64: Frequency | T64: Percent | U64: Valid Percent | V64: Cumulative Percent
A65: 23 | B65: 0.043391082 | C65: 0.038 | D65: 0.035837953 | E65: 0.067913109 | F65: 0.068722972 | G65: 0.068927305 | I65: 23 | J65: 0.042571892 | K65: 0.037307831 | L65: 0.035320158 | M65: 0.064690592 | N65: 0.062605183 | O65: 0.063121139 | Q65: Valid | R65: 18 | S65: 7 | T65: 0.038785461 | U65: =T65/100 -> 0.00038785461 | V65: 0.038798359
A66: 24 | B66: 0.024061363 | C66: 0.02 | D66: 0.018473348 | E66: 0.062705264 | F66: 0.064033762 | G66: 0.064494681 | I66: 24 | J66: 0.027567808 | K66: 0.023585755 | L66: 0.022055476 | M66: 0.063642462 | N66: 0.064792999 | O66: 0.066165279 | R66: 19 | S66: 537 | T66: 2.9753989 | U66: =T66/100 -> 0.029753989 | V66: 3.0151868
A67: 25 | B67: 0.014757212 | C67: 0.011 | D67: 0.01052452 | E67: 0.06373745 | F67: 0.065753139 | G67: 0.06654477 | I67: 25 | J67: 0.013535732 | K67: 0.010869565 | L67: 0.010329184 | M67: 0.056494214 | N67: 0.05919724 | O67: 0.059495031 | R67: 20 | S67: 837 | T67: 4.637633 | U67: =T67/100 -> 0.04637633 | V67: 7.654362
A68: 26 | B68: 0.0091662335 | C68: 0.006 | D68: 0.005663113 | E68: 0.062869475 | F68: 0.064242172 | G68: 0.064993351 | I68: 26 | J68: 0.0079311735 | K68: 0.0051345184 | L68: 0.0049291242 | M68: 0.05670384 | N68: 0.058734433 | O68: 0.059495031 | R68: 21 | S68: 916 | T68: 5.0753546 | U68: =T68/100 -> 0.050753546 | V68: 12.731405
A69: 27 | B69: 0.0069595476 | C69: 0.005 | D69: 0.0043667377 | E69: 0.054870038 | F69: 0.060021883 | G69: 0.060782358 | I69: 27 | J69: 0.0069281438 | K69: 0.0047591881 | L69: 0.0044110952 | M69: 0.053727151 | N69: 0.057892965 | O69: 0.059002596 | R69: 22 | S69: 1123 | T69: 6.2222961 | U69: =T69/100 -> 0.062222961 | V69: 18.95577
A70: 28 | B70: 0.0054848874 | C70: 0.003 | D70: 0.0030191898 | E70: 0.050624003 | F70: 0.053040171 | G70: 0.054355053 | I70: 28 | J70: 0.0052012781 | K70: 0.0033779726 | L70: 0.003202361 | M70: 0.049765219 | N70: 0.051497812 | O70: 0.051839914 | R70: 23 | S70: 1244 | T70: 6.8927305 | U70: =T70/100 -> 0.068927305 | V70: 25.850793
A71: 29 | B71: 0.0043497173 | C71: 0.002 | D71: 0.002217484 | E71: 0.045556911 | F71: 0.048038347 | G71: 0.048758865 | I71: 29 | J71: 0.0043430155 | K71: 0.0027173913 | L71: 0.0026686341 | M71: 0.04542596 | N71: 0.04649108 | O71: 0.047318471 | R71: 24 | S71: 1164 | T71: 6.4494681 | U71: =T71/100 -> 0.064494681 | V71: 32.302405
A72: 30 a více | B72: 0.025 | C72: 0.012 | D72: 0.014 | E72: 0.357 | F72: 0.375 | G72: 0.381 | I72: 30 a více | J72: 0.027 | K72: 0.018 | L72: 0.017 | M72: 0.369 | N72: 0.389 | O72: 0.397 | R72: 25 | S72: 1201 | T72: 6.654477 | U72: =T72/100 -> 0.06654477 | V72: 38.959095
A73: průměr | B73: 20.62 | C73: 20.27 | D73: 20.21 | E73: 28.28 | F73: 28.68 | G73: 28.82 | I73: průměr | J73: 20.66 | K73: 20.33 | L73: 20.29 | M73: 28.44 | N73: 28.87 | O73: 29.1 | R73: 26 | S73: 1173 | T73: 6.4993351 | U73: =T73/100 -> 0.064993351 | V73: 45.460592
R74: 27 | S74: 1097 | T74: 6.0782358 | U74: =T74/100 -> 0.060782358 | V74: 51.540849
A75: 2007/08 | I75: 2008/09 | R75: 28 | S75: 981 | T75: 5.4355053 | U75: =T75/100 -> 0.054355053 | V75: 56.978162
A76: Věk k 31.8.2007 | B76: Struktura přihlášených v % | C76: Struktura přijatých v % | D76: Struktura zapsaných v % | E76: Struktura přihlášených v % | F76: Struktura přijatých v % | G76: Struktura zapsaných v % | I76: Věk k 31.8.2008 | J76: Struktura přihlášených v % | K76: Struktura přijatých v % | L76: Struktura zapsaných v % | M76: Struktura přihlášených v % | N76: Struktura přijatých v % | O76: Struktura zapsaných v % | Q76: vek
B77: prezenční studium | E77: kombinované / distanční studium | J77: prezenční studium | M77: kombinované / distanční studium | S77: Frequency | T77: Percent | U77: Valid Percent | V77: Cumulative Percent
A78: 18 | B78: 0.0055919862 | C78: 0.008 | D78: 0.0065306355 | E78: 0.00058972441 | F78: 0.00041923313 | G78: 0.00036043829 | I78: 18 | J78: 0.0054916662 | K78: 0.0060811457 | L78: 0.0061068923 | M78: 0.00051619794 | N78: 0.00052075356 | O78: 0.0004632387 | Q78: Valid | R78: 18 | S78: 41 | T78: 0.058972441 | U78: 0.058972441 | V78: =T78/100 -> 0.00058972441
A79: 19 | B79: 0.47214064 | C79: 0.596 | D79: 0.5450514 | E79: 0.053449169 | F79: 0.045406172 | G79: 0.037629758 | I79: 19 | J79: 0.47289123 | K79: 0.52107903 | L79: 0.53295989 | M79: 0.062086152 | N79: 0.045581253 | O79: 0.036562769 | R79: 19 | S79: 3716 | T79: 5.3449169 | U79: 5.3449169 | V79: =T79/100 -> 0.053449169
A80: 20 | B80: 0.22283461 | C80: 0.205 | D80: 0.21379989 | E80: 0.064697083 | F80: 0.056467477 | G80: 0.051398501 | I80: 20 | J80: 0.22361822 | K80: 0.21769135 | L80: 0.21782693 | M80: 0.06744393 | N80: 0.059733497 | O80: 0.055555556 | R80: 20 | S80: 4498 | T80: 6.4697083 | U80: 6.4697083 | V80: =T80/100 -> 0.064697083
A81: 21 | B81: 0.097024983 | C81: 0.07 | D81: 0.080463704 | E81: 0.062108049 | F81: 0.057692928 | G81: 0.056408593 | I81: 21 | J81: 0.097613861 | K81: 0.086789565 | L81: 0.083879537 | M81: 0.06245995 | N81: 0.059580334 | O81: 0.058599696 | R81: 21 | S81: 4318 | T81: 6.2108049 | U81: 6.2108049 | V81: =T81/100 -> 0.062108049
A82: 22 | B82: 0.067224524 | C82: 0.046 | D82: 0.05642298 | E82: 0.066739543 | F82: 0.066013093 | G82: 0.0651312 | I82: 22 | J82: 0.06929429 | K82: 0.063284912 | L82: 0.05998614 | M82: 0.06756853 | N82: 0.066258233 | O82: 0.065482099 | R82: 22 | S82: 4640 | T82: 6.6739543 | U82: 6.6739543 | V82: =T82/100 -> 0.066739543
A83: 23 | B83: 0.042563463 | C83: 0.028 | D83: 0.034350002 | E83: 0.065027904 | F83: 0.06359444 | G83: 0.062680219 | I83: 23 | J83: 0.042879578 | K83: 0.038249723 | L83: 0.036150492 | M83: 0.064311143 | N83: 0.06264359 | O83: 0.062040897 | R83: 23 | S83: 4521 | T83: 6.5027904 | U83: 6.5027904 | V83: =T83/100 -> 0.065027904
A84: 24 | B84: 0.025536066 | C84: 0.015 | D84: 0.019477834 | E84: 0.060382026 | F84: 0.060821052 | G84: 0.060697809 | I84: 24 | J84: 0.027397538 | K84: 0.024338248 | L84: 0.022825051 | M84: 0.06007476 | N84: 0.059365906 | O84: 0.05959235 | R84: 24 | S84: 4198 | T84: 6.0382026 | U84: 6.0382026 | V84: =T84/100 -> 0.060382026
A85: 25 | B85: 0.014915316 | C85: 0.009 | D85: 0.011692404 | E85: 0.058195731 | F85: 0.059563353 | G85: 0.059652537 | I85: 25 | J85: 0.013800091 | K85: 0.011779658 | L85: 0.011073254 | M85: 0.056283375 | N85: 0.058538827 | O85: 0.058765138 | R85: 25 | S85: 4046 | T85: 5.8195731 | U85: 5.8195731 | V85: =T85/100 -> 0.058195731
A86: 26 | B86: 0.0076437221 | C86: 0.004 | D86: 0.0047482568 | E86: 0.050342328 | F86: 0.050630462 | G86: 0.051506632 | I86: 26 | J86: 0.0076194336 | K86: 0.005206554 | L86: 0.0046487454 | M86: 0.048184407 | N86: 0.048767039 | O86: 0.049765072 | R86: 26 | S86: 3500 | T86: 5.0342328 | U86: 5.0342328 | V86: =T86/100 -> 0.050342328
A87: 27 | B87: 0.006215553 | C87: 0.003 | D87: 0.0036930886 | E87: 0.049723836 | F87: 0.051081944 | G87: 0.051362457 | I87: 27 | J87: 0.0057449719 | K87: 0.0042499693 | L87: 0.0041145728 | M87: 0.044072624 | N87: 0.044264053 | O87: 0.045066508 | R87: 27 | S87: 3457 | T87: 4.9723836 | U87: 4.9723836 | V87: =T87/100 -> 0.049723836
A88: 28 | B88: 0.0057428491 | C88: 0.002 | D88: 0.0031797636 | E88: 0.04822795 | F88: 0.049469509 | G88: 0.050317186 | I88: 28 | J88: 0.0045088404 | K88: 0.0028014267 | L88: 0.002512055 | M88: 0.044019224 | N88: 0.045213662 | O88: 0.046092251 | R88: 28 | S88: 3353 | T88: 4.822795 | U88: 4.822795 | V88: =T88/100 -> 0.04822795
A89: 29 | B89: 0.0042241622 | C89: 0.002 | D89: 0.002424035 | E89: 0.043006731 | F89: 0.043310007 | G89: 0.044405998 | I89: 29 | J89: 0.0040630224 | K89: 0.0023914618 | L89: 0.0023099356 | M89: 0.042897828 | N89: 0.044631643 | O89: 0.045992985 | R89: 29 | S89: 2990 | T89: 4.3006731 | U89: 4.3006731 | V89: =T89/100 -> 0.043006731
A90: 30 a více | B90: 0.028 | C90: 0.012 | D90: 0.018 | E90: 0.378 | F90: 0.396 | G90: 0.408 | I90: 30 a více | J90: 0.024975936 | K90: 0.016002296 | L90: 0.015548754 | M90: 0.38008188 | N90: 0.40490121 | O90: 0.41602144 | R90: 30 | S90: 2677 | T90: 3.8504689 | U90: 3.8504689 | V90: =T90/100 -> 0.038504689
A91: průměr | B91: 20.69 | C91: 20.04 | D91: 20.28 | E91: 28.54 | F91: 28.9 | G91: 29.16 | I91: průměr | J91: 20.616212 | K91: 20.314006 | L91: 20.262048 | M91: 28.466518 | N91: 28.905958 | O91: 29.138045 | R91: 31 | S91: 2421 | T91: 3.4822507 | U91: 3.4822507 | V91: =T91/100 -> 0.034822507
R92: 32 | S92: 2530 | T92: 3.6390311 | U92: 3.6390311 | V92: =T92/100 -> 0.036390311
A93: 2009/10 | I93: 2010/11 | R93: 33 | S93: 2444 | T93: 3.5153328 | U93: 3.5153328 | V93: =T93/100 -> 0.035153328
A94: Věk k 31.8.2009 | B94: Struktura přihlášených v % | C94: Struktura přijatých v % | D94: Struktura zapsaných v % | E94: Struktura přihlášených v % | F94: Struktura přijatých v % | G94: Struktura zapsaných v % | I94: Věk k 31.8.2010 | J94: Struktura přihlášených v % | K94: Struktura přijatých v % | L94: Struktura zapsaných v % | M94: Struktura přihlášených v % | N94: Struktura přijatých v % | O94: Struktura zapsaných v % | R94: 34 | S94: 2045 | T94: 2.9414303 | U94: 2.9414303 | V94: =T94/100 -> 0.029414303
B95: prezenční studium | E95: kombinované / distanční studium | J95: prezenční studium | M95: kombinované / distanční studium | P95: Count | R95: 35 | S95: 1758 | T95: 2.5286232 | U95: 2.5286232 | V95: =T95/100 -> 0.025286232
A96: 18 | B96: 0.0056390417 | C96: 0.0062918127 | D96: 0.0063229366 | E96: 0.00071024055 | F96: 0.00040251417 | G96: 0.00026699596 | I96: 18 | J96: 0.0051370999 | K96: 0.0055628865 | L96: 0.0056734867 | M96: 0.00092790729 | N96: 0.000928981 | O96: 0.00070224719 | R96: 36 | S96: 1595 | T96: 2.2941718 | U96: 2.2941718 | V96: =T96/100 -> 0.022941718
A97: 19 | B97: 0.46197376 | C97: 0.50801742 | D97: 0.52007921 | E97: 0.063454386 | F97: 0.04888999 | G97: 0.039515402 | I97: 19 | J97: 0.46549518 | K97: 0.50928873 | L97: 0.52167299 | M97: 0.068494707 | N97: 0.053688695 | O97: 0.043188202 | R97: 37 | S97: 1336 | T97: 1.9216386 | U97: 1.9216386 | V97: =T97/100 -> 0.019216386
A98: 20 | B98: 0.23297099 | C98: 0.22739461 | D98: 0.2266214 | E98: 0.071379175 | F98: 0.062389696 | G98: 0.057404132 | I98: 20 | J98: 0.22762471 | K98: 0.22220497 | L98: 0.22241712 | M98: 0.068892382 | N98: 0.060031393 | O98: 0.055547753 | R98: 38 | S98: 1237 | T98: 1.7792417 | U98: 1.7792417 | V98: =T98/100 -> 0.017792417
A99: 21 | B99: 0.097226228 | C99: 0.087899543 | D99: 0.085083811 | E99: 0.06427677 | F99: 0.060996377 | G99: 0.059907219 | I99: 21 | J99: 0.102524 | K99: 0.09224042 | L99: 0.089227227 | M99: 0.064972447 | N99: 0.060223596 | O99: 0.058707865 | R99: 39 | S99: 1060 | T99: 1.5246534 | U99: 1.5246534 | V99: =T99/100 -> 0.015246534
A100: 22 | B100: 0.06954818 | C100: 0.06282521 | D100: 0.059608176 | E100: 0.069042857 | F100: 0.067808156 | G100: 0.067483229 | I100: 22 | J100: 0.071246458 | K100: 0.066392403 | L100: 0.063107262 | M100: 0.068570455 | N100: 0.068648493 | O100: 0.068398876 | R100: 40 | S100: 995 | T100: 1.4311605 | U100: 1.4311605 | V100: =T100/100 -> 0.014311605
A101: 23 | B101: 0.044764244 | C101: 0.039184454 | D101: 0.03745668 | E101: 0.067547614 | F101: 0.068613184 | G101: 0.068184094 | I101: 23 | J101: 0.044916451 | K101: 0.040492639 | L101: 0.038672897 | M101: 0.068797697 | N101: 0.068968831 | O101: 0.069311798 | R101: 41 | S101: 937 | T101: 1.347736 | U101: 1.347736 | V101: =T101/100 -> 0.01347736
A102: 24 | B102: 0.028036082 | C102: 0.02564511 | D102: 0.024273287 | E102: 0.061622713 | F102: 0.061956219 | G102: 0.06214331 | I102: 24 | J102: 0.028055011 | K102: 0.025136485 | L102: 0.023406559 | M102: 0.061544871 | N102: 0.063362911 | O102: 0.063448034 | R102: 42 | S102: 925 | T102: 1.3304758 | U102: 1.3304758 | V102: =T102/100 -> 0.013304758
...

Sheet vš_věk
A1: Struktura přihlášených uchazečů o prezenční studium na VŠ podle věku v letech 1999/00–2025/26
B3: 1999/00 | C3: 2000/01 | D3: 2001/02 | E3: 2002/03 | F3: 2003/04 | G3: 2004/05 | H3: 2005/06 | I3: 2006/07 | J3: 2007/08 | K3: 2008/09 | L3: 2009/10 | M3: 2010/11 | N3: 2011/12 | O3: 2012/13 | P3: 2013/14 | Q3: 2014/15 | R3: 2015/16 | S3: 2016/17 | T3: 2017/18 | U3: 2018/19 | V3: 2019/20 | W3: 2020/21 | X3: 2021/22 | Y3: 2022/23 | Z3: 2023/24 | AA3: 2024/25 | AB3: 2025/26
A4: 18 | B4: 0.43103322 | C4: =+'vš_věk x dfst'!J6 -> 0.21968901 | D4: 0.0927 | E4: 0.0018518519 | F4: 0.0033565145 | G4: 0.0038465603 | H4: 0.0033312469 | I4: 0.0050254894 | J4: 0.0055919862 | K4: 0.0054916662 | L4: 0.0056390417 | M4: 0.0051370999 | N4: 0.0045092685 | O4: =+'vš_věk x dfst'!J114 -> 0.0047778875 | P4: =+'vš_věk x dfst'!B132 -> 0.003483 | Q4: =+'vš_věk x dfst'!J132 -> 0.004631 | R4: =+'vš_věk x dfst'!B150 -> 0.005 | S4: =+'vš_věk x dfst'!J150 -> 0.0055343714 | T4: =+'vš_věk x dfst'!B168 -> 0.0064 | U4: =+'vš_věk x dfst'!J168 -> 0.0061 | V4: =+'vš_věk x dfst'!B186 -> 0.0066 | W4: =+'vš_věk x dfst'!J186 -> 0.0078 | X4: =+'vš_věk x dfst'!B204 -> 0.008 | Y4: =+'vš_věk x dfst'!J204 -> 0.0086 | Z4: =+'vš_věk x dfst'!B222 -> 0.009 | AA4: =+'vš_věk x dfst'!J222 -> 0.0095 | AB4: =+'vš_věk x dfst'!B240 -> 0.0097
A5: 19 | B5: 0.27694644 | C5: =+'vš_věk x dfst'!J7 -> 0.26075262 | D5: 0.4536 | E5: 0.44995863 | F5: 0.45650791 | G5: 0.46011836 | H5: 0.47048027 | I5: 0.47274758 | J5: 0.47214064 | K5: 0.47289123 | L5: 0.46197376 | M5: 0.46549518 | N5: 0.43532228 | O5: =+'vš_věk x dfst'!J115 -> 0.43363277 | P5: =+'vš_věk x dfst'!B133 -> 0.413409 | Q5: =+'vš_věk x dfst'!J133 -> 0.392593 | R5: =+'vš_věk x dfst'!B151 -> 0.4009 | S5: =+'vš_věk x dfst'!J151 -> 0.42549783 | T5: =+'vš_věk x dfst'!B169 -> 0.4404 | U5: =+'vš_věk x dfst'!J169 -> 0.452 | V5: =+'vš_věk x dfst'!B187 -> 0.4581 | W5: =+'vš_věk x dfst'!J187 -> 0.4681 | X5: =+'vš_věk x dfst'!B205 -> 0.4749 | Y5: =+'vš_věk x dfst'!J205 -> 0.4714 | Z5: =+'vš_věk x dfst'!B223 -> 0.4743 | AA5: =+'vš_věk x dfst'!J223 -> 0.4857 | AB5: =+'vš_věk x dfst'!B241 -> 0.4971
A6: 20 | B6: 0.12026196 | C6: =+'vš_věk x dfst'!J8 -> 0.17201629 | D6: 0.1587 | E6: 0.23582587 | F6: 0.21314964 | G6: 0.22379795 | H6: 0.22869965 | I6: 0.22362394 | J6: 0.22283461 | K6: 0.22361822 | L6: 0.23297099 | M6: 0.22762471 | N6: 0.25153834 | O6: =+'vš_věk x dfst'!J116 -> 0.24906219 | P6: =+'vš_věk x dfst'!B134 -> 0.258913 | Q6: =+'vš_věk x dfst'!J134 -> 0.255366 | R6: =+'vš_věk x dfst'!B152 -> 0.2422 | S6: =+'vš_věk x dfst'!J152 -> 0.24173816 | T6: =+'vš_věk x dfst'!B170 -> 0.2495 | U6: =+'vš_věk x dfst'!J170 -> 0.251 | V6: =+'vš_věk x dfst'!B188 -> 0.2435 | W6: =+'vš_věk x dfst'!J188 -> 0.2477 | X6: =+'vš_věk x dfst'!B206 -> 0.2468 | Y6: =+'vš_věk x dfst'!J206 -> 0.2438 | Z6: =+'vš_věk x dfst'!B224 -> 0.2452 | AA6: =+'vš_věk x dfst'!J224 -> 0.243 | AB6: =+'vš_věk x dfst'!B242 -> 0.2417
A7: 21 | B7: 0.061923752 | C7: =+'vš_věk x dfst'!J9 -> 0.11898968 | D7: 0.0912 | E7: 0.098853903 | F7: 0.10395323 | G7: 0.10075029 | H7: 0.098473355 | I7: 0.096239155 | J7: 0.097024983 | K7: 0.097613861 | L7: 0.097226228 | M7: 0.102524 | N7: 0.10566495 | O7: =+'vš_věk x dfst'!J117 -> 0.11353406 | P7: =+'vš_věk x dfst'!B135 -> 0.114421 | Q7: =+'vš_věk x dfst'!J135 -> 0.121367 | R7: =+'vš_věk x dfst'!B153 -> 0.1197 | S7: =+'vš_věk x dfst'!J153 -> 0.11107139 | T7: =+'vš_věk x dfst'!B171 -> 0.103 | U7: =+'vš_věk x dfst'!J171 -> 0.104 | V7: =+'vš_věk x dfst'!B189 -> 0.1058 | W7: =+'vš_věk x dfst'!J189 -> 0.1012 | X7: =+'vš_věk x dfst'!B207 -> 0.0996 | Y7: =+'vš_věk x dfst'!J207 -> 0.101 | Z7: =+'vš_věk x dfst'!B225 -> 0.0973 | AA7: =+'vš_věk x dfst'!J225 -> 0.0914 | AB7: =+'vš_věk x dfst'!B243 -> 0.0899
A8: 22 | B8: 0.037684765 | C8: =+'vš_věk x dfst'!J10 -> 0.074275687 | D8: 0.0654 | E8: 0.064811661 | F8: 0.0607573 | G8: 0.068931628 | H8: 0.065829258 | I8: 0.067358102 | J8: 0.067224524 | K8: 0.06929429 | L8: 0.06954818 | M8: 0.071246458 | N8: 0.07679217 | O8: =+'vš_věk x dfst'!J118 -> 0.075320829 | P8: =+'vš_věk x dfst'!B136 -> 0.080181 | Q8: =+'vš_věk x dfst'!J136 -> 0.081558 | R8: =+'vš_věk x dfst'!B154 -> 0.0851 | S8: =+'vš_věk x dfst'!J154 -> 0.077454719 | T8: =+'vš_věk x dfst'!B172 -> 0.0675 | U8: =+'vš_věk x dfst'!J172 -> 0.0621 | V8: =+'vš_věk x dfst'!B190 -> 0.0656 | W8: =+'vš_věk x dfst'!J190 -> 0.0606 | X8: =+'vš_věk x dfst'!B208 -> 0.0585 | Y8: =+'vš_věk x dfst'!J208 -> 0.064 | Z8: =+'vš_věk x dfst'!B226 -> 0.0628 | AA8: =+'vš_věk x dfst'!J226 -> 0.0605 | AB8: =+'vš_věk x dfst'!B244 -> 0.0568
A9: 23 | B9: 0.025025611 | C9: =+'vš_věk x dfst'!J11 -> 0.048838282 | D9: 0.0441 | E9: 0.04880037 | F9: 0.047715157 | G9: 0.04153017 | H9: 0.043391082 | I9: 0.042571892 | J9: 0.042563463 | K9: 0.042879578 | L9: 0.044764244 | M9: 0.044916451 | N9: 0.045631105 | O9: =+'vš_věk x dfst'!J119 -> 0.046495558 | P9: =+'vš_věk x dfst'!B137 -> 0.047744 | Q9: =+'vš_věk x dfst'!J137 -> 0.055384 | R9: =+'vš_věk x dfst'!B155 -> 0.053 | S9: =+'vš_věk x dfst'!J155 -> 0.050325707 | T9: =+'vš_věk x dfst'!B173 -> 0.0448 | U9: =+'vš_věk x dfst'!J173 -> 0.0398 | V9: =+'vš_věk x dfst'!B191 -> 0.0379 | W9: =+'vš_věk x dfst'!J191 -> 0.0382 | X9: =+'vš_věk x dfst'!B209 -> 0.0363 | Y9: =+'vš_věk x dfst'!J209 -> 0.0378 | Z9: =+'vš_věk x dfst'!B227 -> 0.0403 | AA9: =+'vš_věk x dfst'!J227 -> 0.0393 | AB9: =+'vš_věk x dfst'!B245 -> 0.036
A10: 24 | B10: 0.014945851 | C10: =+'vš_věk x dfst'!J12 -> 0.031764736 | D10: 0.0289 | E10: 0.032241581 | F10: 0.037470109 | G10: 0.028976012 | H10: 0.024061363 | I10: 0.027567808 | J10: 0.025536066 | K10: 0.027397538 | L10: 0.028036082 | M10: 0.028055011 | N10: 0.028507423 | O10: =+'vš_věk x dfst'!J120 -> 0.028983218 | P10: =+'vš_věk x dfst'!B138 -> 0.030522 | Q10: =+'vš_věk x dfst'!J138 -> 0.032781 | R10: =+'vš_věk x dfst'!B156 -> 0.0355 | S10: =+'vš_věk x dfst'!J156 -> 0.032451541 | T10: =+'vš_věk x dfst'!B174 -> 0.0328 | U10: =+'vš_věk x dfst'!J174 -> 0.0311 | V10: =+'vš_věk x dfst'!B192 -> 0.0307 | W10: =+'vš_věk x dfst'!J192 -> 0.029 | X10: =+'vš_věk x dfst'!B210 -> 0.0284 | Y10: =+'vš_věk x dfst'!J210 -> 0.0296 | Z10: =+'vš_věk x dfst'!B228 -> 0.0294 | AA10: =+'vš_věk x dfst'!J228 -> 0.0294 | AB10: =+'vš_věk x dfst'!B246 -> 0.0293
A11: 25 | B11: 0.0093297234 | C11: =+'vš_věk x dfst'!J13 -> 0.019648026 | D11: 0.0171 | E11: 0.019685614 | F11: 0.021652809 | G11: 0.018429673 | H11: 0.014757212 | I11: 0.013535732 | J11: 0.014915316 | K11: 0.013800091 | L11: 0.015037444 | M11: 0.015108002 | N11: 0.015143066 | O11: =+'vš_věk x dfst'!J121 -> 0.015429418 | P11: =+'vš_věk x dfst'!B139 -> 0.016556 | Q11: =+'vš_věk x dfst'!J139 -> 0.017742 | R11: =+'vš_věk x dfst'!B157 -> 0.0184 | S11: =+'vš_věk x dfst'!J157 -> 0.019145218 | T11: =+'vš_věk x dfst'!B175 -> 0.0181 | U11: =+'vš_věk x dfst'!J175 -> 0.0189 | V11: =+'vš_věk x dfst'!B193 -> 0.0196 | W11: =+'vš_věk x dfst'!J193 -> 0.0177 | X11: =+'vš_věk x dfst'!B211 -> 0.0164 | Y11: =+'vš_věk x dfst'!J211 -> 0.0185 | Z11: =+'vš_věk x dfst'!B229 -> 0.0176 | AA11: =+'vš_věk x dfst'!J229 -> 0.0168 | AB11: =+'vš_věk x dfst'!B247 -> 0.0178
A12: 26 | B12: 0.0050307332 | C12: =+'vš_věk x dfst'!J14 -> 0.012910828 | D12: 0.01316 | E12: 0.012081468 | F12: 0.012910515 | G12: 0.010504068 | H12: 0.0091662335 | I12: 0.0079311735 | J12: 0.0076437221 | K12: 0.0076194336 | L12: 0.0070015614 | M12: 0.0067578455 | N12: 0.0068360126 | O12: =+'vš_věk x dfst'!J122 -> 0.0062586377 | P12: =+'vš_věk x dfst'!B140 -> 0.00641 | Q12: =+'vš_věk x dfst'!J140 -> 0.006869 | R12: =+'vš_věk x dfst'!B158 -> 0.0071 | S12: =+'vš_věk x dfst'!J158 -> 0.0065803411 | T12: =+'vš_věk x dfst'!B176 -> 0.0066 | U12: =+'vš_věk x dfst'!J176 -> 0.0058 | V12: =+'vš_věk x dfst'!B194 -> 0.0056 | W12: =+'vš_věk x dfst'!J194 -> 0.0046 | X12: =+'vš_věk x dfst'!B212 -> 0.0041 | Y12: =+'vš_věk x dfst'!J212 -> 0.0041 | Z12: =+'vš_věk x dfst'!B230 -> 0.004 | AA12: =+'vš_věk x dfst'!J230 -> 0.0042 | AB12: =+'vš_věk x dfst'!B248 -> 0.0038
A13: 27 | B13: 0.0038233572 | C13: =+'vš_věk x dfst'!J15 -> 0.0089914696 | D13: 0.0076 | E13: 0.0085409772 | F13: 0.0088519843 | G13: 0.0071119095 | H13: 0.0069595476 | I13: 0.0069281438 | J13: 0.006215553 | K13: 0.0057449719 | L13: 0.0053804613 | M13: 0.0049191049 | N13: 0.0043458196 | O13: =+'vš_věk x dfst'!J123 -> 0.0040868707 | P13: =+'vš_věk x dfst'!B141 -> 0.004454 | Q13: =+'vš_věk x dfst'!J141 -> 0.004507 | R13: =+'vš_věk x dfst'!B159 -> 0.0048 | S13: =+'vš_věk x dfst'!J159 -> 0.0048723652 | T13: =+'vš_věk x dfst'!B177 -> 0.0047 | U13: =+'vš_věk x dfst'!J177 -> 0.0041 | V13: =+'vš_věk x dfst'!B195 -> 0.0037 | W13: =+'vš_věk x dfst'!J195 -> 0.0035 | X13: =+'vš_věk x dfst'!B213 -> 0.0034 | Y13: =+'vš_věk x dfst'!J213 -> 0.0025 | Z13: =+'vš_věk x dfst'!B231 -> 0.0026 | AA13: =+'vš_věk x dfst'!J231 -> 0.0025 | AB13: =+'vš_věk x dfst'!B249 -> 0.0024
A14: 28 | B14: 0.0025245134 | C14: =+'vš_věk x dfst'!J16 -> 0.0059302713 | D14: 0.0057 | E14: 0.0055358186 | F14: 0.006559463 | G14: 0.0059917574 | H14: 0.0054848874 | I14: 0.0052012781 | J14: 0.0057428491 | K14: 0.0045088404 | L14: 0.0041074501 | M14: 0.0039144322 | N14: 0.0033747404 | O14: =+'vš_věk x dfst'!J124 -> 0.0032379072 | P14: =+'vš_věk x dfst'!B142 -> 0.003532 | Q14: =+'vš_věk x dfst'!J142 -> 0.00364 | R14: =+'vš_věk x dfst'!B160 -> 0.0038 | S14: =+'vš_věk x dfst'!J160 -> 0.0034027116 | T14: =+'vš_věk x dfst'!B178 -> 0.0033 | U14: =+'vš_věk x dfst'!J178 -> 0.0028 | V14: =+'vš_věk x dfst'!B196 -> 0.0031 | W14: =+'vš_věk x dfst'!J196 -> 0.0024 | X14: =+'vš_věk x dfst'!B214 -> 0.0025 | Y14: =+'vš_věk x dfst'!J214 -> 0.0023 | Z14: =+'vš_věk x dfst'!B232 -> 0.0017 | AA14: =+'vš_věk x dfst'!J232 -> 0.0019 | AB14: =+'vš_věk x dfst'!B250 -> 0.0017
A15: 29 | B15: 0.0015549539 | C15: =+'vš_věk x dfst'!J17 -> 0.0043036094 | D15: 0.0039 | E15: 0.0042218221 | F15: 0.0049031437 | G15: 0.0053788439 | H15: 0.0043497173 | I15: 0.0043430155 | J15: 0.0042241622 | K15: 0.0040630224 | L15: 0.0032620911 | M15: 0.002796023 | N15: 0.0028940082 | O15: =+'vš_věk x dfst'!J125 -> 0.0024185587 | P15: =+'vš_věk x dfst'!B143 -> 0.002539 | Q15: =+'vš_věk x dfst'!J143 -> 0.002807 | R15: =+'vš_věk x dfst'!B161 -> 0.0028 | S15: =+'vš_věk x dfst'!J161 -> 0.0027009851 | T15: =+'vš_věk x dfst'!B179 -> 0.0029 | U15: =+'vš_věk x dfst'!J179 -> 0.0026 | V15: =+'vš_věk x dfst'!B197 -> 0.0021 | W15: =+'vš_věk x dfst'!J197 -> 0.002 | X15: =+'vš_věk x dfst'!B215 -> 0.0022 | Y15: =+'vš_věk x dfst'!J215 -> 0.0019 | Z15: =+'vš_věk x dfst'!B233 -> 0.0018 | AA15: =+'vš_věk x dfst'!J233 -> 0.0013 | AB15: =+'vš_věk x dfst'!B251 -> 0.0015
A16: 30 a více | B16: 0.0099151178 | C16: =+'vš_věk x dfst'!J18 -> 0.02141558 | D16: 0.0172 | E16: 0.018919116 | F16: 0.01868 | G16: 0.024 | H16: 0.025 | I16: 0.027 | J16: 0.028 | K16: 0.024975936 | L16: 0.025052462 | M16: 0.021458292 | N16: 0.019440812 | O16: =+'vš_věk x dfst'!J126 -> 0.016762093 | P16: =+'vš_věk x dfst'!B144 -> 0.017836 | Q16: =+'vš_věk x dfst'!J144 -> 0.020755 | R16: =+'vš_věk x dfst'!B162 -> 0.0196 | S16: =+'vš_věk x dfst'!J162 -> 0.019224658 | T16: =+'vš_věk x dfst'!B180 -> 0.02 | U16: =+'vš_věk x dfst'!J180 -> 0.0196 | V16: =+'vš_věk x dfst'!B198 -> 0.0177 | W16: =+'vš_věk x dfst'!J198 -> 0.0171 | X16: =+'vš_věk x dfst'!B216 -> 0.0189 | Y16: =+'vš_věk x dfst'!J216 -> 0.0143 | Z16: =+'vš_věk x dfst'!B234 -> 0.0141 | AA16: =+'vš_věk x dfst'!J234 -> 0.0143 | AB16: =+'vš_věk x dfst'!B252 -> 0.0124
A17: průměr | B17: 19.38 | C17: =+'vš_věk x dfst'!J19 -> 20.47 | D17: 20.73 | E17: 20.87 | F17: 20.42 | G17: 20.69 | H17: 20.62 | I17: 20.66 | J17: 20.69 | K17: 20.616212 | L17: 20.629027 | M17: 20.578407 | N17: 20.580465 | O17: =+'vš_věk x dfst'!J127 -> 20.54 | P17: =+'vš_věk x dfst'!B145 -> 20.61 | Q17: =+'vš_věk x dfst'!J145 -> 20.7538 | R17: =+'vš_věk x dfst'!B163 -> 20.7329 | S17: =+'vš_věk x dfst'!J163 -> 20.6589 | T17: =+'vš_věk x dfst'!B181 -> 20.6105 | U17: =+'vš_věk x dfst'!J181 -> 20.5507 | V17: =+'vš_věk x dfst'!B199 -> 20.5135 | W17: =+'vš_věk x dfst'!J199 -> 20.4559 | X17: =+'vš_věk x dfst'!B217 -> 20.4635 | Y17: =+'vš_věk x dfst'!J217 -> 20.4042 | Z17: =+'vš_věk x dfst'!B235 -> 20.3924 | AA17: =+'vš_věk x dfst'!J235 -> 20.3685 | AB17: =+'vš_věk x dfst'!B253 -> 20.3097
A19: Uchazeči o prezenční studium na VŠ podle věku v letech 1999/00–2025/26
A20: věk k 31.8. příslušného roku
J25: VEK
J27: Valid
V30: 1999/00 | X30: 2000/01 | Y30: 2001/02 | Z30: 2002/03 | AA30: 2003/04 | AB30: 2004/05 | AC30: 2005/06 | AD30: 2006/07 | AE30: 2007/08 | AF30: 2008/09 | AG30: 2009/10 | AH30: 2010/11 | AI30: 2011/12 | AJ30: 2012/13 | AK30: 2013/14 | AL30: 2014/15 | AM30: 2015/16 | AN30: 2016/17 | AO30: 2017/18 | AP30: 2018/19 | AQ30: 2019/20 | AR30: 2020/21
V31: =+B4 -> 0.43103322 | X31: =+C4 -> 0.21968901 | Y31: =+D4 -> 0.0927 | Z31: 0.0018518519 | AA31: =33.5651449005112%/100 -> 0.0033565145 | AB31: 0.0038465603 | AC31: 0.0033312469 | AD31: 0.0050254894 | AE31: 0.0055919862 | AF31: 0.0054916662 | AG31: 0.0056390417 | AH31: 0.0051370999 | AI31: =+N4 -> 0.0045092685 | AJ31: =+O4 -> 0.0047778875 | AK31: =+P4 -> 0.003483 | AL31: =+Q4 -> 0.004631 | AM31: =+R4 -> 0.005 | AN31: =+S4 -> 0.0055343714 | AO31: =+T4 -> 0.0064 | AP31: =+U4 -> 0.0061 | AQ31: =+V4 -> 0.0066 | AR31: =+X4 -> 0.008
V32: =+B5 -> 0.27694644 | X32: =+C5 -> 0.26075262 | Y32: =+D5 -> 0.4536 | Z32: 0.44995863 | AA32: =4565.07908650155%/100 -> 0.45650791 | AB32: 0.46011836 | AC32: 0.47 | AD32: 0.47274758 | AE32: 0.47214064 | AF32: 0.47289123 | AG32: 0.46197376 | AH32: 0.46549518 | AI32: =+N5 -> 0.43532228 | AJ32: =+O5 -> 0.43363277 | AK32: =+P5 -> 0.413409 | AL32: =+Q5 -> 0.392593 | AM32: =+R5 -> 0.4009 | AN32: =+S5 -> 0.42549783 | AO32: =+T5 -> 0.4404 | AP32: =+U5 -> 0.452 | AQ32: =+V5 -> 0.4581 | AR32: =+X5 -> 0.4749
V33: =+B6 -> 0.12026196 | X33: =+C6 -> 0.17201629 | Y33: =+D6 -> 0.1587 | Z33: 0.23582587 | AA33: =2131.49639119847%/100 -> 0.21314964 | AB33: 0.22379795 | AC33: 0.22869965 | AD33: 0.22362394 | AE33: 0.22283461 | AF33: 0.22361822 | AG33: 0.23297099 | AH33: 0.22762471 | AI33: =+N6 -> 0.25153834 | AJ33: =+O6 -> 0.24906219 | AK33: =+P6 -> 0.258913 | AL33: =+Q6 -> 0.255366 | AM33: =+R6 -> 0.2422 | AN33: =+S6 -> 0.24173816 | AO33: =+T6 -> 0.2495 | AP33: =+U6 -> 0.251 | AQ33: =+V6 -> 0.2435 | AR33: =+X6 -> 0.2468
V34: =+B7 -> 0.061923752 | X34: =+C7 -> 0.11898968 | Y34: =+D7 -> 0.0912 | Z34: 0.098853903 | AA34: =1039.53228177171%/100 -> 0.10395323 | AB34: 0.10075029 | AC34: 0.098473355 | AD34: 0.096239155 | AE34: 0.097024983 | AF34: 0.097613861 | AG34: 0.097226228 | AH34: 0.102524 | AI34: =+N7 -> 0.10566495 | AJ34: =+O7 -> 0.11353406 | AK34: =+P7 -> 0.114421 | AL34: =+Q7 -> 0.121367 | AM34: =+R7 -> 0.1197 | AN34: =+S7 -> 0.11107139 | AO34: =+T7 -> 0.103 | AP34: =+U7 -> 0.104 | AQ34: =+V7 -> 0.1058 | AR34: =+X7 -> 0.0996
V35: 0.037684765 | X35: 0.074275687 | Y35: 0.0654 | Z35: 0.064811661 | AA35: 0.0607573 | AB35: 0.068931628 | AC35: 0.065829258 | AD35: 0.067358102 | AE35: 0.067224524 | AF35: 0.06929429 | AG35: 0.06954818 | AH35: 0.071246458 | AI35: =+N8 -> 0.07679217 | AJ35: =+O8 -> 0.075320829 | AK35: =+P8 -> 0.080181 | AL35: =+Q8 -> 0.081558 | AM35: =+R8 -> 0.0851 | AN35: =+S8 -> 0.077454719 | AO35: =+T8 -> 0.0675 | AP35: =+U8 -> 0.0621 | AQ35: =+V8 -> 0.0656 | AR35: =+X8 -> 0.0585
V36: 0.025025611 | X36: 0.048838282 | Y36: 0.0441 | Z36: 0.04880037 | AA36: 0.047715157 | AB36: 0.04153017 | AC36: 0.043391082 | AD36: 0.042571892 | AE36: 0.042563463 | AF36: 0.042879578 | AG36: 0.044764244 | AH36: 0.044916451 | AI36: =+N9 -> 0.045631105 | AJ36: =+O9 -> 0.046495558 | AK36: =+P9 -> 0.047744 | AL36: =+Q9 -> 0.055384 | AM36: =+R9 -> 0.053 | AN36: =+S9 -> 0.050325707 | AO36: =+T9 -> 0.0448 | AP36: =+U9 -> 0.0398 | AQ36: =+V9 -> 0.0379 | AR36: =+X9 -> 0.0363
V37: 0.014945851 | X37: 0.031764736 | Y37: 0.0289 | Z37: 0.032241581 | AA37: 0.037470109 | AB37: 0.028976012 | AC37: 0.024061363 | AD37: 0.027567808 | AE37: 0.025536066 | AF37: 0.027397538 | AG37: 0.028036082 | AH37: 0.028055011 | AI37: =+N10 -> 0.028507423 | AJ37: =+O10 -> 0.028983218 | AK37: =+P10 -> 0.030522 | AL37: =+Q10 -> 0.032781 | AM37: =+R10 -> 0.0355 | AN37: =+S10 -> 0.032451541 | AO37: =+T10 -> 0.0328 | AP37: =+U10 -> 0.0311 | AQ37: =+V10 -> 0.0307 | AR37: =+X10 -> 0.0284
V38: 0.032178399 | X38: 0.073199785 | Y38: 0.06466 | Z38: 0.06466 | AA38: 0.074 | AB38: 0.071 | AC38: 0.066 | AD38: 0.065 | AE38: 0.067 | AF38: 0.060712295 | AG38: 0.05984147 | AH38: 0.0549537 | AI38: =SUM(N11:N16) -> 0.052034459 | AJ38: =SUM(O11:O16) -> 0.048193485 | AK38: =SUM(P11:P16) -> 0.051327 | AL38: =SUM(Q11:Q16) -> 0.05632 | AM38: =SUM(R11:R16) -> 0.0565 | AN38: =SUM(S11:S16) -> 0.055926279 | AO38: =SUM(T11:T16) -> 0.0556 | AP38: =SUM(U11:U16) -> 0.0538 | AQ38: =SUM(V11:V16) -> 0.0518 | AR38: =SUM(X11:X16) -> 0.0475

Sheet vš_sex
A1: Počet přihlášek, přihlášených, přijetí, přijatých, zapsání a zapsaných podle pohlaví v letech 1999/00–2025/26
A3: Pohlaví | B3: Počet podaných přihlášek | C3: Počet přihlášených | D3: Počet uchazečů, kteří se dostavili k přijímacímu řízení | E3: Index přihlášek | F3: Počet přihlášek uchazečů, kteří se dostavili k přijímacímu řízení | G3: Podíl přihlášek uchazečů, kteří se dostavili k přijímacímu řízení | H3: Počet přijetí | I3: Počet přijatých | J3: Index přijetí | K3: Počet zapsání | L3: Počet zapsaných | M3: Index zapsání | N3: Počet přijatých / počet přihlášených | O3: Úspěšnost uchazečů *
A4: 1999/00 | Q4: SEX
A5: Muži | B5: 103727 | C5: 48872 | D5: . | E5: 2.1224218 | F5: 82045 | G5: 0.79097053 | H5: 35964 | I5: 25725 | J5: 1.3980175 | K5: 25672 | L5: 24184 | M5: 1.0615283 | N5: 0.52637502 | O5: x | S5: Frequency | T5: Percent | U5: Valid Percent | V5: Cumulative Percent
A6: Ženy | B6: 130064 | C6: 56549 | D6: . | E6: 2.300023 | F6: 103573 | G6: 0.79632335 | H6: 30370 | I6: 21678 | J6: 1.4009595 | K6: 21751 | L6: 20368 | M6: 1.0679006 | N6: 0.38334895 | O6: x | Q6: Valid | S6: 7 | T6: 0.0054009845 | U6: 0.0054009845 | V6: 0.0054009845
A7: 2000/01 | R7: muz | S7: 59570 | T7: 45.962378 | U7: 45.962378 | V7: 45.967779
A8: Muži | B8: 89960 | C8: 47350 | D8: 41285 | E8: 1.8998944 | F8: 70782 | G8: 0.78681636 | H8: 31891 | I8: 24109 | J8: 1.322784 | K8: 25085 | L8: 23332 | M8: 1.0751329 | N8: 0.50916579 | O8: =I8/D8 -> 0.58396512 | R8: zena | S8: 70029 | T8: 54.032221 | U8: 54.032221 | V8: 100
A9: Ženy | B9: 118140 | C9: 56067 | D9: 49457 | E9: 2.1071218 | F9: 94762 | G9: 0.80211613 | H9: 29134 | I9: 21081 | J9: 1.3820028 | K9: 21989 | L9: 20364 | M9: 1.0797977 | N9: 0.37599658 | O9: =I9/D9 -> 0.42624906 | Q9: SEX
A10: 2001/02 | S10: Frequency | T10: Percent | U10: Valid Percent | V10: Cumulative Percent
A11: Muži | B11: 103996 | C11: 48267 | D11: 43138 | E11: 2.1545984 | F11: 82975 | G11: 0.79786723 | H11: 40986 | I11: 29092 | J11: 1.4088409 | K11: 30064 | L11: 27842 | M11: 1.0798075 | N11: 0.60273064 | O11: =I11/D11 -> 0.67439381 | Q11: Valid | S11: 2 | T11: 0.002220791 | U11: 0.002220791 | V11: 0.002220791
A12: Ženy | B12: 133394 | C12: 56715 | D12: 51213 | E12: 2.3520056 | F12: 109592 | G12: 0.82156619 | H12: 37328 | I12: 25578 | J12: 1.4593792 | K12: 27023 | L12: 24680 | M12: 1.0949352 | N12: 0.4509918 | O12: =I12/D12 -> 0.4994435
A13: 2002/03
A14: Muži | B14: 102894 | C14: 50721 | D14: 45627 | E14: 2.0286272 | F14: 83932 | G14: 0.81571326 | H14: 46210 | I14: 32049 | J14: 1.4418547 | K14: 33200 | L14: 30479 | M14: 1.0892746 | N14: 0.63186846 | O14: =I14/D14 -> 0.70241304
A15: Ženy | B15: 131122 | C15: 58123 | D15: 52706 | E15: 2.25594 | F15: 107872 | G15: 0.82268422 | H15: 42061 | I15: 29024 | J15: 1.44918 | K15: 30911 | L15: 27863 | M15: 1.1093924 | N15: 0.49935482 | O15: =I15/D15 -> 0.55067734
A16: 2003/04
A17: Muži | B17: 110051 | C17: 55338 | D17: 50153 | E17: =B17/C17 -> 1.9887058 | F17: 89698 | G17: =F17/B17 -> 0.81505847 | H17: 51026 | I17: 36482 | J17: =H17/I17 -> 1.3986624 | K17: 36829 | L17: 34826 | M17: =K17/L17 -> 1.0575145 | N17: 0.65925765 | O17: =I17/D17 -> 0.72741411
A18: Ženy | B18: 143211 | C18: 62206 | D18: 57016 | E18: =B18/C18 -> 2.3022056 | F18: 119791 | G18: =F18/B18 -> 0.83646508 | H18: 47970 | I18: 33100 | J18: =H18/I18 -> 1.4492447 | K18: 33574 | L18: 31691 | M18: =K18/L18 -> 1.0594175 | N18: 0.53210301 | O18: =I18/D18 -> 0.5805388
A19: 2004/05
A20: Muži | B20: 118384 | C20: 58509 | D20: 53174 | E20: 2.0233468 | F20: 98154 | G20: 0.82911542 | H20: 53710 | I20: 38016 | J20: 1.4128262 | K20: 38122 | L20: 36280 | M20: 1.0507718 | N20: 0.64974619 | O20: 0.71493587
A21: Ženy | B21: 166575 | C21: 71844 | D21: 66272 | E21: 2.3185652 | F21: 142810 | G21: 0.85733153 | H21: 55097 | I21: 37597 | J21: 1.4654627 | K21: 38169 | L21: 35919 | M21: 1.0626409 | N21: 0.5233144 | O21: 0.5673135
A22: 2005/06
A23: Muži | B23: 118170 | C23: 56655 | D23: 51429 | E23: =B23/C23 -> 2.0857824 | F23: 97922 | G23: =F23/B23 -> 0.82865363 | H23: 55954 | I23: 38642 | J23: =H23/I23 -> 1.4480099 | K23: 39514 | L23: 36972 | M23: =K23/L23 -> 1.0687547 | N23: 0.65925765 | O23: =I23/D23 -> 0.75136596
A24: Ženy | B24: 176564 | C24: 74279 | D24: 68258 | E24: =B24/C24 -> 2.3770379 | F24: 150815 | G24: =F24/B24 -> 0.85416619 | H24: 61921 | I24: 41344 | J24: =H24/I24 -> 1.4977022 | K24: 42005 | L24: 39237 | M24: =K24/L24 -> 1.0705457 | N24: 0.53210301 | O24: =I24/D24 -> 0.6057019
A25: 2006/07
A26: Muži | B26: 119427 | C26: 59081 | D26: 54203 | E26: 2.0214113 | F26: 99498 | G26: 0.83312819 | H26: 59570 | I26: 42299 | J26: 1.4083075 | K26: 42576 | L26: 40642 | M26: 1.0475862 | N26: 0.71594929 | O26: 0.78038116
A27: Ženy | B27: 183859 | C27: 78755 | D27: 72922 | E27: 2.3345692 | F27: 157445 | G27: 0.85633556 | H27: 70029 | I27: 46776 | J27: 1.4971139 | K27: 47480 | L27: 44840 | M27: 1.058876 | N27: 0.59394324 | O27: 0.64145251
A28: 2007/08
A29: Muži | B29: 127380 | C29: 63262 | D29: 58023 | E29: 2.013531 | F29: 105956 | G29: 0.83181033 | H29: 63578 | I29: 46100 | J29: 1.3791323 | K29: 46099 | L29: 43882 | M29: 1.0505219 | N29: 0.65925765 | O29: 0.79451252
A30: Ženy | B30: 196272 | C30: 83538 | D30: 77208 | E30: 2.3494936 | F30: 168460 | G30: 0.85829869 | H30: 76176 | I30: 51090 | J30: 1.4910159 | K30: 51820 | L30: 48845 | M30: 1.060907 | N30: 0.53210301 | O30: 0.66171899
A31: 2008/09
A32: Muži | B32: 124142 | C32: 63599 | D32: 58762 | E32: =B32/C32 -> 1.9519489 | F32: 104290 | G32: =F32/B32 -> 0.84008635 | H32: 66799 | I32: 48742 | J32: =H32/I32 -> 1.3704608 | K32: 48572 | L32: 46297 | M32: =K32/L32 -> 1.0491393 | N32: =I32/C32 -> 0.7663957 | O32: =I32/D32 -> 0.82948164
A33: Ženy | B33: 195890 | C33: 83677 | D33: 77355 | E33: =B33/C33 -> 2.3410256 | F33: 168956 | G33: =F33/B33 -> 0.86250447 | H33: 81979 | I33: 55261 | J33: =H33/I33 -> 1.4834875 | K33: 55690 | L33: 52429 | M33: =K33/L33 -> 1.0621984 | N33: =I33/C33 -> 0.66040848 | O33: =I33/D33 -> 0.71438175
A34: 2009/10
A35: Muži | B35: 126005 | C35: 63535 | D35: 59373 | E35: =B35/C35 -> 1.9832376 | F35: 108521 | G35: =F35/B35 -> 0.8612436 | H35: 68256 | I35: 49482 | J35: =H35/I35 -> 1.3794107 | K35: 48911 | L35: 46748 | M35: =K35/L35 -> 1.0462694 | N35: =I35/C35 -> 0.77881483 | O35: =I35/D35 -> 0.83340913
A36: Ženy | B36: 198426 | C36: 83085 | D36: 77394 | E36: =B36/C36 -> 2.3882289 | F36: 173089 | G36: =F36/B36 -> 0.87231008 | H36: 82921 | I36: 56088 | J36: =H36/I36 -> 1.4784089 | K36: 56156 | L36: 53070 | M36: =K36/L36 -> 1.0581496 | N36: =I36/C36 -> 0.6750677 | O36: =I36/D36 -> 0.72470734
A37: 2010/11
A38: Muži | B38: 129675 | C38: 66031 | D38: 61455 | E38: =B38/C38 -> 1.9638503 | F38: 111957 | G38: =F38/B38 -> 0.86336611 | H38: 68803 | I38: 50357 | J38: =H38/I38 -> 1.3663046 | K38: 49711 | L38: 47585 | M38: =K38/L38 -> 1.0446779 | N38: =I38/C38 -> 0.76262665 | O38: =I38/D38 -> 0.81941258
A39: Ženy | B39: 201729 | C39: 84557 | D39: 78617 | E39: =B39/C39 -> 2.3857161 | F39: 176911 | G39: =F39/B39 -> 0.87697356 | H39: 82218 | I39: 56080 | J39: =H39/I39 -> 1.4660842 | K39: 56335 | L39: 53091 | M39: =K39/L39 -> 1.0611026 | N39: =I39/C39 -> 0.66322126 | O39: =I39/D39 -> 0.71333172
A40: 2011/12
A41: Muži | B41: 128373 | C41: 64467 | D41: 60051 | E41: =B41/C41 -> 1.9912979 | F41: 111495 | G41: =F41/B41 -> 0.86852375 | H41: 65781 | I41: 49038 | J41: =H41/I41 -> 1.3414291 | K41: 48526 | L41: 46278 | M41: =K41/L41 -> 1.048576 | N41: =I41/C41 -> 0.76066825 | O41: =I41/D41 -> 0.81660588
A42: Ženy | B42: 201690 | C42: 85146 | D42: 79229 | E42: =B42/C42 -> 2.3687548 | F42: 177084 | G42: =F42/B42 -> 0.87800089 | H42: 77168 | I42: 54723 | J42: =H42/I42 -> 1.4101566 | K42: 54585 | L42: 51559 | M42: =K42/L42 -> 1.05869 | N42: =I42/C42 -> 0.64269607 | O42: =I42/D42 -> 0.69069406
A43: 2012/13
A44: Muži | B44: 119322 | C44: 60716 | D44: 56338 | E44: =B44/C44 -> 1.965248 | F44: 102562 | G44: =F44/B44 -> 0.85953973 | H44: 61291 | I44: 45990 | J44: =H44/I44 -> 1.3327028 | K44: 44946 | L44: 43239 | M44: =K44/L44 -> 1.0394782 | N44: =I44/C44 -> 0.75746097 | O44: =I44/D44 -> 0.81632291
A45: Ženy | B45: 190123 | C45: 80338 | D45: 74390 | E45: =B45/C45 -> 2.3665389 | F45: 166147 | G45: =F45/B45 -> 0.87389216 | H45: 73777 | I45: 52271 | J45: =H45/I45 -> 1.4114327 | K45: 51411 | L45: 49189 | M45: =K45/L45 -> 1.0451727 | N45: =I45/C45 -> 0.65063855 | O45: =I45/D45 -> 0.70266165
A46: 2013/14
A47: Muži | B47: 113016 | C47: 57771 | D47: 53421 | E47: =B47/C47 -> 1.9562756 | F47: 96863 | G47: =F47/B47 -> 0.85707333 | H47: 58345 | I47: 43768 | J47: =H47/I47 -> 1.3330515 | K47: 42731 | L47: 41141 | M47: =K47/L47 -> 1.0386476 | N47: =I47/C47 -> 0.75761195 | O47: =I47/D47 -> 0.81930327
A48: Ženy | B48: 177883 | C48: 76486 | D48: 70345 | E48: =B48/C48 -> 2.3256936 | F48: 153501 | G48: =F48/B48 -> 0.86293238 | H48: 69777 | I48: 49946 | J48: =H48/I48 -> 1.3970488 | K48: 48947 | L48: 46968 | M48: =K48/L48 -> 1.0421351 | N48: =I48/C48 -> 0.65300839 | O48: =I48/D48 -> 0.71001493
A49: 2014/15
A50: Muži | B50: 100554 | C50: 52013 | D50: 47767 | E50: =B50/C50 -> 1.9332475 | F50: 85911 | G50: =F50/B50 -> 0.85437675 | H50: 52608 | I50: 39439 | J50: =H50/I50 -> 1.3339081 | K50: 38174 | L50: 36797 | M50: =K50/L50 -> 1.0374215 | N50: =I50/C50 -> 0.75825274 | O50: =I50/D50 -> 0.82565369
A51: Ženy | B51: 159855 | C51: 69748 | D51: 63607 | E51: =B51/C51 -> 2.2918937 | F51: 137393 | G51: =F51/B51 -> 0.85948516 | H51: 63886 | I51: 45325 | J51: =H51/I51 -> 1.4095091 | K51: 44184 | L51: 42276 | M51: =K51/L51 -> 1.045132 | N51: =I51/C51 -> 0.64983942 | O51: =I51/D51 -> 0.7125788
A52: 2015/16
A53: Muži | B53: 94092 | C53: 48633 | D53: 44839 | E53: =B53/C53 -> 1.9347357 | F53: 80466 | G53: =F53/B53 -> 0.85518429 | H53: 50561 | I53: 37609 | J53: =H53/I53 -> 1.3443857 | K53: 36454 | L53: 35062 | M53: =K53/L53 -> 1.0397011 | N53: =I53/C53 -> 0.77332264 | O53: =I53/D53 -> 0.83875644
A54: Ženy | B54: 149551 | C54: 64460 | D54: 58603 | E54: =B54/C54 -> 2.320059 | F54: 127832 | G54: =F54/B54 -> 0.85477195 | H54: 60207 | I54: 42693 | J54: =H54/I54 -> 1.4102312 | K54: 41669 | L54: 39771 | M54: =K54/L54 -> 1.0477232 | N54: =I54/C54 -> 0.66231772 | O54: =I54/D54 -> 0.72851219
A55: 2016/17
A56: Muži | B56: 85171 | C56: 43779 | D56: 40380 | E56: =B56/C56 -> 1.9454761 | F56: 72713 | G56: =F56/B56 -> 0.85372956 | H56: 46094 | I56: 34256 | J56: =H56/I56 -> 1.3455745 | K56: 33247 | L56: 32029 | M56: =K56/L56 -> 1.038028 | N56: =I56/C56 -> 0.78247562 | O56: =I56/D56 -> 0.84834076
A57: Ženy | B57: 138921 | C57: 59012 | D57: 53688 | E57: =B57/C57 -> 2.3541144 | F57: 118105 | G57: =F57/B57 -> 0.85015944 | H57: 57440 | I57: 40511 | J57: =H57/I57 -> 1.4178865 | K57: 39481 | L57: 37810 | M57: =K57/L57 -> 1.0441947 | N57: =I57/C57 -> 0.68648749 | O57: =I57/D57 -> 0.7545634
A58: 2017/18
A59: Muži | B59: 81013 | C59: 42112 | D59: 39256 | E59: =B59/C59 -> 1.9237509 | F59: 70086 | G59: =F59/B59 -> 0.86512041 | H59: 44930 | I59: 33897 | J59: =H59/I59 -> 1.325486 | K59: 33065 | L59: 31943 | M59: =K59/L59 -> 1.0351251 | N59: =I59/C59 -> 0.80492496 | O59: =I59/D59 -> 0.86348584
A60: Ženy | B60: 132277 | C60: 55886 | D60: 51272 | E60: =B60/C60 -> 2.3669076 | F60: 113218 | G60: =F60/B60 -> 0.85591599 | H60: 58562 | I60: 40726 | J60: =H60/I60 -> 1.4379512 | K60: 39680 | L60: 37968 | M60: =K60/L60 -> 1.0450906 | N60: =I60/C60 -> 0.72873349 | O60: =I60/D60 -> 0.79431269
A61: 2018/19
A62: Muži | B62: 78678 | C62: 41314 | D62: 38761 | E62: =B62/C62 -> 1.9043908 | F62: 68185 | G62: =F62/B62 -> 0.86663362 | H62: 44256 | I62: 33720 | J62: =H62/I62 -> 1.3124555 | K62: 32087 | L62: 31744 | M62: =K62/L62 -> 1.0108052 | N62: =I62/C62 -> 0.81618822 | O62: =I62/D62 -> 0.8699466
A63: Ženy | B63: 125342 | C63: 53823 | D63: 49355 | E63: =B63/C63 -> 2.3287814 | F63: 106735 | G63: =F63/B63 -> 0.85155016 | H63: 56435 | I63: 39630 | J63: =H63/I63 -> 1.4240474 | K63: 38728 | L63: 37009 | M63: =K63/L63 -> 1.0464482 | N63: =I63/C63 -> 0.73630232 | O63: =I63/D63 -> 0.80295816
A64: 2019/20
A65: Muži | B65: 83071 | C65: 43298 | D65: 41003 | E65: =B65/C65 -> 1.9185875 | F65: 72656 | G65: =F65/B65 -> 0.87462532 | H65: 47779 | I65: 35940 | J65: =H65/I65 -> 1.3294101 | K65: 35739 | L65: 33925 | M65: =K65/L65 -> 1.0534709 | N65: =I65/C65 -> 0.83006143 | O65: =I65/D65 -> 0.87652123
A66: Ženy | B66: 128328 | C66: 54829 | D66: 50747 | E66: =B66/C66 -> 2.3405132 | F66: 110414 | G66: =F66/B66 -> 0.86040459 | H66: 59531 | I66: 41545 | J66: =H66/I66 -> 1.4329282 | K66: 40815 | L66: 38805 | M66: =K66/L66 -> 1.0517974 | N66: =I66/C66 -> 0.75771946 | O66: =I66/D66 -> 0.81866908
A67: 2020/21
A68: Muži | B68: 81759 | C68: 43414 | D68: 41971 | E68: =B68/C68 -> 1.8832404 | F68: 74379 | G68: =F68/B68 -> 0.90973471 | H68: 48708 | I68: 36970 | J68: =H68/I68 -> 1.3175007 | K68: 36519 | L68: 35127 | M68: =K68/L68 -> 1.0396276 | N68: =I68/C68 -> 0.85156862 | O68: =I68/D68 -> 0.8808463 | P68: reálná úspěšnost uchazečů
A69: Ženy | B69: 129618 | C69: 55454 | D69: 52798 | E69: =B69/C69 -> 2.3373968 | F69: 115465 | G69: =F69/B69 -> 0.89080992 | H69: 61183 | I69: 42830 | J69: =H69/I69 -> 1.4285081 | K69: 42615 | L69: 40478 | M69: =K69/L69 -> 1.0527941 | N69: =I69/C69 -> 0.77235186 | O69: =I69/D69 -> 0.81120497
A70: 2021/22
A71: Muži | B71: 86543 | C71: 43864 | D71: 42114 | E71: =B71/C71 -> 1.9729847 | F71: 77431 | G71: =F71/B71 -> 0.8947113 | H71: 49097 | I71: 36761 | J71: =H71/I71 -> 1.335573 | K71: 36107 | L71: 34845 | M71: =K71/L71 -> 1.0362175 | N71: =I71/C71 -> 0.83806766 | O71: =I71/D71 -> 0.87289262 | P71: =37741/D71 -> 0.8961628
A72: Ženy | B72: 141884 | C72: 58491 | D72: 54964 | E72: =B72/C72 -> 2.4257407 | F72: 124037 | G72: =F72/B72 -> 0.87421415 | H72: 60493 | I72: 42860 | J72: =H72/I72 -> 1.4114092 | K72: 42348 | L72: 40420 | M72: =K72/L72 -> 1.0476992 | N72: =I72/C72 -> 0.73276231 | O72: =I72/D72 -> 0.77978313 | P72: =44344/D72 -> 0.80678262
A73: 2022/23
A74: Muži | B74: 88314 | C74: 43559 | D74: 41116 | E74: =B74/C74 -> 2.027457 | F74: 76128 | G74: =F74/B74 -> 0.86201508 | H74: 46464 | I74: 35298 | J74: =H74/I74 -> 1.3163352 | K74: 35249 | L74: 33850 | M74: =K74/L74 -> 1.0413294 | N74: =I74/C74 -> 0.81034918 | O74: =I74/D74 -> 0.85849791 | P74: =38894/D74 -> 0.94595778
A75: Ženy | B75: 141409 | C75: 57189 | D75: 52675 | E75: =B75/C75 -> 2.4726608 | F75: 120743 | G75: =F75/B75 -> 0.85385654 | H75: 56935 | I75: 40840 | J75: =H75/I75 -> 1.3940989 | K75: 40891 | L75: 38863 | M75: =K75/L75 -> 1.0521833 | N75: =I75/C75 -> 0.71412335 | O75: =I75/D75 -> 0.77532036 | P75: =49144/D75 -> 0.9329663
A76: 2023/24
A77: Muži | B77: 93605 | C77: 44808 | D77: 42411 | E77: =B77/C77 -> 2.0890243 | F77: 81197 | G77: =F77/B77 -> 0.86744298 | H77: 48150 | I77: 36108 | J77: =H77/I77 -> 1.3334995 | K77: 35959 | L77: 34567 | M77: =K77/L77 -> 1.0402696 | N77: =I77/C77 -> 0.80583824 | O77: =I77/D77 -> 0.8513829 | P77: =37646/D77 -> 0.88764707
A78: Ženy | B78: 153590 | C78: 59912 | D78: 55367 | E78: =B78/C78 -> 2.5635933 | F78: 131598 | G78: =F78/B78 -> 0.85681359 | H78: 59703 | I78: 42642 | J78: =H78/I78 -> 1.4000985 | K78: 42678 | L78: 40648 | M78: =K78/L78 -> 1.049941 | N78: =I78/C78 -> 0.71174389 | O78: =I78/D78 -> 0.77016996 | P78: =44399/D78 -> 0.80190366
A79: 2024/25
A80: Muži | B80: 95347 | C80: 45281 | D80: 42836 | E80: =B80/C80 -> 2.1056735 | F80: 82880 | G80: =F80/B80 -> 0.86924602 | H80: 50068 | I80: 37016 | J80: =H80/I80 -> 1.3526043 | K80: 36972 | L80: 35485 | M80: =K80/L80 -> 1.041905 | N80: =I80/C80 -> 0.81747311 | O80: =I80/D80 -> 0.86413297 | P80: =39032/D80 -> 0.91119619
A81: Ženy | B81: 160640 | C81: 61859 | D81: 57356 | E81: =B81/C81 -> 2.5968735 | F81: 137745 | G81: =F81/B81 -> 0.85747634 | H81: 63305 | I81: 44412 | J81: =H81/I81 -> 1.425403 | K81: 44359 | L81: 42186 | M81: =K81/L81 -> 1.05151 | N81: =I81/C81 -> 0.71795535 | O81: =I81/D81 -> 0.77432178 | P81: =47434/D81 -> 0.82701025
A82: 2025/26
A83: Muži | B83: 101861 | C83: 47422 | D83: 45034 | E83: =B83/C83 -> 2.1479693 | F83: 88577 | G83: =F83/B83 -> 0.86958699 | H83: 54077 | I83: 39181 | J83: =H83/I83 -> 1.3801843 | K83: 39269 | L83: 37537 | M83: =K83/L83 -> 1.0461411 | N83: =I83/C83 -> 0.8262199 | O83: =I83/D83 -> 0.87003153 | P83: =40528/D83 -> 0.89994227
A84: Ženy | B84: 169259 | C84: 63935 | D84: 59618 | E84: =B84/C84 -> 2.6473606 | F84: 145110 | G84: =F84/B84 -> 0.85732516 | H84: 68698 | I84: 47100 | J84: =H84/I84 -> 1.4585563 | K84: 47443 | L84: 44786 | M84: =K84/L84 -> 1.0593266 | N84: =I84/C84 -> 0.7366857 | O84: =I84/D84 -> 0.79002986 | P84: =48958/D84 -> 0.82119494
A85: * Počet přijatých / počet uchazečů, kteří se dostavili k přijímacímu řízení. | S85: 1999/00 | T85: 2000/01 | U85: 2001/02 | V85: 2002/03 | W85: 2003/04 | X85: 2004/05 | Y85: 2005/06 | Z85: 2006/07 | AA85: 2007/08 | AB85: 2008/09 | AC85: 2009/10 | AD85: 2010/11 | AE85: 2011/12 | AF85: 2012/13 | AG85: 2013/14 | AH85: 2014/15 | AI85: 2015/16 | AJ85: 2016/17 | AK85: 2017/18 | AL85: 2018/19 | AM85: 2019/20 | AN85: 2020/21 | AO85: 2021/22 | AP85: 2022/23 | AQ85: 2023/24 | AR85: 2024/25 | AS85: 2025/26
R86: muži | S86: 2.1224218 | T86: 1.8998944 | U86: 2.1545984 | V86: 2.0286272 | W86: 1.9887058 | X86: 2.0233468 | Y86: 2.0857824 | Z86: 2.0214113 | AA86: 2.013531 | AB86: 1.9522731 | AC86: 1.9832376 | AD86: =+E38 -> 1.9638503 | AE86: =+E41 -> 1.9912979 | AF86: =+E44 -> 1.965248 | AG86: =E47 -> 1.9562756 | AH86: =+E50 -> 1.9332475 | AI86: =+E53 -> 1.9347357 | AJ86: =E56 -> 1.9454761 | AK86: =E59 -> 1.9237509 | AL86: =E62 -> 1.9043908 | AM86: =E65 -> 1.9185875 | AN86: =E68 -> 1.8832404 | AO86: =E71 -> 1.9729847 | AP86: =E74 -> 2.027457 | AQ86: =E77 -> 2.0890243 | AR86: =E80 -> 2.1056735 | AS86: =E83 -> 2.1479693
A87: Index přihlášek | R87: ženy | S87: 2.300023 | T87: 2.1071218 | U87: 2.3520056 | V87: 2.25594 | W87: 2.3022056 | X87: 2.3185652 | Y87: 2.3770379 | Z87: 2.3345692 | AA87: 2.3494936 | AB87: 2.3412343 | AC87: 2.3882289 | AD87: =+E39 -> 2.3857161 | AE87: =+E42 -> 2.3687548 | AF87: =+E45 -> 2.3665389 | AG87: =E48 -> 2.3256936 | AH87: =+E51 -> 2.2918937 | AI87: =+E54 -> 2.320059 | AJ87: =E57 -> 2.3541144 | AK87: =E60 -> 2.3669076 | AL87: =E63 -> 2.3287814 | AM87: =E66 -> 2.3405132 | AN87: =E69 -> 2.3373968 | AO87: =E72 -> 2.4257407 | AP87: =E75 -> 2.4726608 | AQ87: =E78 -> 2.5635933 | AR87: =E81 -> 2.5968735 | AS87: =E84 -> 2.6473606
M88: pohlavi

Sheet vš_fakulty_tisk
A1: Přijímací řízení na VŠ – podle fakult v letech 2010/11–2025/26
A3: Vysoká škola Fakulta | D3: 2009/10 | K3: 2010/11 | R3: 2011/12 | Y3: 2012/13 | AF3: 2013/14 | AM3: 2014/15 | AT3: 2015/16 | BA3: 2016/17 | BH3: 2017/18 | BO3: 2018/19 | BV3: 2019/20 | CC3: 2020/21 | CJ3: 2021/22 | CS3: 2022/23 | DB3: 2023/24 | DK3: 2024/25 | DT3: 2025/26
D4: Počet podaných přihlášek | E4: Počet přihlášených | F4: Počet přihlášených, kteří se dostavili k p. ř. | G4: Počet přijatých | H4: Počet zapsaných | I4: Počet přijatých / počet přihlášených | J4: Úspěšnost uchazečů *) | K4: Počet podaných přihlášek | L4: Počet přihlášených | M4: Počet přihlášených, kteří se dostavili k p. ř. | N4: Počet přijatých | O4: Počet zapsaných | P4: Počet přijatých / počet přihlášených | Q4: Úspěšnost uchazečů *) | R4: Počet podaných přihlášek | S4: Počet přihlášených | T4: Počet přihlášených, kteří se dostavili k p. ř. | U4: Počet přijatých | V4: Počet zapsaných | W4: Počet přijatých / počet přihlášených | X4: Úspěšnost uchazečů *) | Y4: Počet podaných přihlášek | Z4: Počet přihlášených | AA4: Počet přihlášených, kteří se dostavili k p. ř. | AB4: Počet přijatých | AC4: Počet zapsaných | AD4: Počet přijatých / počet přihlášených | AE4: Úspěšnost uchazečů *) | AF4: Počet podaných přihlášek | AG4: Počet přihlášených | AH4: Počet přihlášených, kteří se dostavili k p. ř. | AI4: Počet přijatých | AJ4: Počet zapsaných | AK4: Počet přijatých / počet přihlášených | AL4: Úspěšnost uchazečů *) | AM4: Počet podaných přihlášek | AN4: Počet přihlášených | AO4: Počet přihlášených, kteří se dostavili k p. ř. | AP4: Počet přijatých | AQ4: Počet zapsaných | AR4: Počet přijatých / počet přihlášených | AS4: Úspěšnost uchazečů *) | AT4: Počet podaných přihlášek | AU4: Počet přihlášených | AV4: Počet přihlášených, kteří se dostavili k p. ř. | AW4: Počet přijatých | AX4: Počet zapsaných | AY4: Počet přijatých / počet přihlášených | AZ4: Úspěšnost uchazečů *) | BA4: Počet podaných přihlášek | BB4: Počet přihlášených | BC4: Počet přihlášených, kteří se dostavili k p. ř. | BD4: Počet přijatých | BE4: Počet zapsaných | BF4: Počet přijatých / počet přihlášených | BG4: Úspěšnost uchazečů *) | BH4: Počet podaných přihlášek | BI4: Počet přihlášených | BJ4: Počet přihlášených, kteří se dostavili k p. ř. | BK4: Počet přijatých | BL4: Počet zapsaných | BM4: Počet přijatých / počet přihlášených | BN4: Úspěšnost uchazečů *) | BO4: Počet podaných přihlášek | BP4: Počet přihlášených | BQ4: Počet přihlášených, kteří se dostavili k p. ř. | BR4: Počet přijatých | BS4: Počet zapsaných | BT4: Počet přijatých / počet přihlášených | BU4: Úspěšnost uchazečů *) | BV4: Počet podaných přihlášek | BW4: Počet přihlášených | BX4: Počet přihlášených, kteří se dostavili k p. ř. | BY4: Počet přijatých | BZ4: Počet zapsaných | CA4: Počet přijatých / počet přihlášených | CB4: Úspěšnost uchazečů *) | CC4: Počet podaných přihlášek | CD4: Počet přihlášených | CE4: Počet přihlášených, kteří se dostavili k p. ř. | CF4: Počet přijatých | CG4: Počet zapsaných | CH4: Počet přijatých / počet přihlášených | CI4: Úspěšnost uchazečů *) | CJ4: Počet podaných přihlášek | CK4: Počet přihlášených | CL4: Počet přihlášených, kteří se dostavili k p. ř. | CM4: Počet přijatých | CN4: Počet zapsaných | CO4: Počet přijatých / počet přihlášených | CP4: Úspěšnost uchazečů *) | CQ4: reálný počet přijatých/počet přihlášených | CR4: reálná úspěšnost uchazečů | CS4: Počet podaných přihlášek | CT4: Počet přihlášených | CU4: Počet přihlášených, kteří se dostavili k p. ř. | CV4: Počet přijatých | CW4: Počet zapsaných | CX4: Počet přijatých / počet přihlášených | CY4: Úspěšnost uchazečů *) | CZ4: reálný počet přijatých/počet přihlášených | DA4: reálná úspěšnost uchazečů | DB4: Počet podaných přihlášek | DC4: Počet přihlášených | DD4: Počet přihlášených, kteří se dostavili k p. ř. | DE4: Počet přijatých | DF4: Počet zapsaných | DG4: Počet přijatých / počet přihlášených | DH4: Úspěšnost uchazečů *) | DI4: reálný počet přijatých/počet přihlášených | DJ4: reálná úspěšnost uchazečů | DK4: Počet podaných přihlášek | DL4: Počet přihlášených | DM4: Počet přihlášených, kteří se dostavili k p. ř. | DN4: Počet přijatých | DO4: Počet zapsaných | DP4: Počet přijatých / počet přihlášených | DQ4: Úspěšnost uchazečů *) | DR4: reálný počet přijatých/počet přihlášených | DS4: reálná úspěšnost uchazečů | DT4: Počet podaných přihlášek | DU4: Počet přihlášených | DV4: Počet přihlášených, kteří se dostavili k p. ř. | DW4: Počet přijatých | DX4: Počet zapsaných | DY4: Počet přijatých / počet přihlášených | DZ4: Úspěšnost uchazečů *) | EA4: reálný počet přijatých/počet přihlášených | EB4: reálná úspěšnost uchazečů
A5: Celkem | B5: RID | D5: 324993 | E5: 146620 | F5: 136767 | G5: 105570 | H5: 99818 | I5: =G5/E5 -> 0.72002455 | J5: =G5/F5 -> 0.77189673 | K5: 331536 | L5: 150588 | M5: 140072 | N5: 106437 | O5: 100676 | P5: =N5/L5 -> 0.70680931 | Q5: =N5/M5 -> 0.75987349 | R5: 330066 | S5: 149613 | T5: 139280 | U5: 103761 | V5: 97837 | W5: =U5/S5 -> 0.69352931 | X5: =U5/T5 -> 0.74498133 | Y5: 309452 | Z5: 141054 | AA5: 130728 | AB5: 98261 | AC5: 92428 | AD5: =AB5/Z5 -> 0.69661973 | AE5: =AB5/AA5 -> 0.75164464 | AF5: 290953 | AG5: 134257 | AH5: 123766 | AI5: 93714 | AJ5: 88109 | AK5: =AI5/AG5 -> 0.69801947 | AL5: =AI5/AH5 -> 0.75718695 | AM5: 260467 | AN5: 121761 | AO5: 111374 | AP5: 84764 | AQ5: 79073 | AR5: =AP5/AN5 -> 0.69615066 | AS5: =AP5/AO5 -> 0.7610753 | AT5: 243718 | AU5: 113093 | AV5: 103442 | AW5: 80302 | AX5: 74833 | AY5: =AW5/AU5 -> 0.71005279 | AZ5: =AW5/AV5 -> 0.77629976 | BA5: 224151 | BB5: 102791 | BC5: 94068 | BD5: 74767 | BE5: 69839 | BF5: =BD5/BB5 -> 0.72736913 | BG5: =BD5/BC5 -> 0.79481864 | BH5: 213317 | BI5: 97998 | BJ5: 90528 | BK5: 74623 | BL5: 69911 | BM5: =BK5/BI5 -> 0.76147472 | BN5: =BK5/BJ5 -> 0.8243085 | BO5: 204053 | BP5: 95137 | BQ5: 88116 | BR5: 73350 | BS5: 68753 | BT5: =BR5/BP5 -> 0.77099341 | BU5: =BR5/BQ5 -> 0.83242544 | BV5: 211447 | BW5: 98127 | BX5: 91750 | BY5: 77485 | BZ5: 72730 | CA5: =BY5/BW5 -> 0.78963996 | CB5: =BY5/BX5 -> 0.84452316 | CC5: 211447 | CD5: 98868 | CE5: 94769 | CF5: 79800 | CG5: 75605 | CH5: =CF5/CD5 -> 0.80713679 | CI5: =CF5/CE5 -> 0.8420475 | CJ5: 228483 | CK5: 102335 | CL5: 97078 | CM5: 79621 | CN5: 75265 | CO5: =CM5/CK5 -> 0.7780427 | CP5: =CM5/CL5 -> 0.82017553 | CQ5: 0.79992183 | CR5: 0.84323946 | CS5: 229775 | CT5: 100748 | CU5: 93791 | CV5: 76138 | CW5: 72713 | CX5: =CV5/CT5 -> 0.75572716 | CY5: =CV5/CU5 -> 0.81178365 | CZ5: 0.78211974 | DA5: 0.84013391 | DB5: 246787 | DC5: 104596 | DD5: 97645 | DE5: 78750 | DF5: 75215 | DG5: =DE5/DC5 -> 0.75289686 | DH5: =DE5/DD5 -> 0.80649291 | DI5: 0.78439902 | DJ5: 0.8402376 | DK5: 256025 | DL5: 107140 | DM5: 100192 | DN5: 81428 | DO5: 77671 | DP5: =DN5/DL5 -> 0.76001493 | DQ5: =DN5/DM5 -> 0.81271958 | DR5: 0.78622363 | DS5: 0.84074577 | DT5: 271183 | DU5: 111357 | DV5: 104652 | DW5: 86281 | DX5: 82323 | DY5: =DW5/DU5 -> 0.77481434 | DZ5: =DW5/DV5 -> 0.82445629 | EA5: 0.79971623 | EB5: 0.85095364
A6: Univerzita Karlova | B6: 11000 | D6: 45930 | E6: 25939 | F6: 23322 | G6: 10785 | H6: 9046 | I6: =G6/E6 -> 0.41578318 | J6: =G6/F6 -> 0.4624389 | K6: 46075 | L6: 26400 | M6: 23617 | N6: 11155 | O6: 9462 | P6: =N6/L6 -> 0.42253788 | Q6: =N6/M6 -> 0.47232925 | R6: 44285 | S6: 25324 | T6: 22721 | U6: 10043 | V6: 8770 | W6: =U6/S6 -> 0.39658032 | X6: =U6/T6 -> 0.442014 | Y6: 44532 | Z6: 25199 | AA6: 22402 | AB6: 9391 | AC6: 8233 | AD6: =AB6/Z6 -> 0.37267352 | AE6: =AB6/AA6 -> 0.41920364 | AF6: 43562 | AG6: 24510 | AH6: 21693 | AI6: 9117 | AJ6: 8023 | AK6: =AI6/AG6 -> 0.37197062 | AL6: =AI6/AH6 -> 0.42027382 | AM6: 41201 | AN6: 23297 | AO6: 20336 | AP6: 9152 | AQ6: 8050 | AR6: =AP6/AN6 -> 0.39284028 | AS6: =AP6/AO6 -> 0.45003934 | AT6: 40711 | AU6: 22672 | AV6: 19863 | AW6: 9200 | AX6: 8137 | AY6: =AW6/AU6 -> 0.40578687 | AZ6: =AW6/AV6 -> 0.46317273 | BA6: 40313 | BB6: 21796 | BC6: 18861 | BD6: 8893 | BE6: 7723 | BF6: =BD6/BB6 -> 0.40801064 | BG6: =BD6/BC6 -> 0.47150204 | BH6: 39360 | BI6: 21171 | BJ6: 18146 | BK6: 8846 | BL6: 7989 | BM6: =BK6/BI6 -> 0.41783572 | BN6: =BK6/BJ6 -> 0.48749036 | BO6: 36752 | BP6: 19954 | BQ6: 16842 | BR6: 8493 | BS6: 7754 | BT6: =BR6/BP6 -> 0.42562895 | BU6: =BR6/BQ6 -> 0.50427503 | BV6: 38255 | BW6: 20191 | BX6: 17358 | BY6: 9042 | BZ6: 8253 | CA6: =BY6/BW6 -> 0.44782329 | CB6: =BY6/BX6 -> 0.52091255 | CC6: 36829 | CD6: 19805 | CE6: 17931 | CF6: 9382 | CG6: 8841 | CH6: =CF6/CD6 -> 0.47371876 | CI6: =CF6/CE6 -> 0.52322793 | CJ6: 38468 | CK6: 20977 | CL6: 18016 | CM6: 9103 | CN6: 8763 | CO6: =CM6/CK6 -> 0.43395147 | CP6: =CM6/CL6 -> 0.50527309 | CQ6: 0.50059589 | CR6: 0.58287078 | CS6: 40933 | CT6: 21828 | CU6: 18469 | CV6: 8969 | CW6: 8530 | CX6: =CV6/CT6 -> 0.41089426 | CY6: =CV6/CU6 -> 0.48562456 | CZ6: 0.45812718 | DA6: 0.54144783 | DB6: 44011 | DC6: 23223 | DD6: 19676 | DE6: 9776 | DF6: 9354 | DG6: =DE6/DC6 -> 0.42096198 | DH6: =DE6/DD6 -> 0.49684895 | DI6: 0.48439047 | DJ6: 0.57171173 | DK6: 45035 | DL6: 23384 | DM6: 19955 | DN6: 9742 | DO6: 9290 | DP6: =DN6/DL6 -> 0.41660965 | DQ6: =DN6/DM6 -> 0.48819845 | DR6: 0.47074923 | DS6: 0.55164119 | DT6: 46232 | DU6: 23512 | DV6: 20367 | DW6: 10027 | DX6: 9461 | DY6: =DW6/DU6 -> 0.42646308 | DZ6: =DW6/DV6 -> 0.492316 | EA6: 0.46427356 | EB6: 0.53596504
A7: Univerzita Karlova | B7: 11110 | C7: 1. lékařská fakulta | D7: 3379 | E7: 2825 | F7: 2243 | G7: 1110 | H7: 698 | I7: =G7/E7 -> 0.39292035 | J7: =G7/F7 -> 0.49487294 | K7: 3453 | L7: 2855 | M7: 2244 | N7: 1056 | O7: 690 | P7: =N7/L7 -> 0.36987741 | Q7: =N7/M7 -> 0.47058824 | R7: 3825 | S7: 3134 | T7: 2529 | U7: 1154 | V7: 780 | W7: =U7/S7 -> 0.36821953 | X7: =U7/T7 -> 0.45630684 | Y7: 4296 | Z7: 3516 | AA7: 2983 | AB7: 1068 | AC7: 730 | AD7: =AB7/Z7 -> 0.30375427 | AE7: =AB7/AA7 -> 0.35802883 | AF7: 4182 | AG7: 3467 | AH7: 2846 | AI7: 940 | AJ7: 647 | AK7: =AI7/AG7 -> 0.27112778 | AL7: =AI7/AH7 -> 0.33028812 | AM7: 4372 | AN7: 3682 | AO7: 2804 | AP7: 825 | AQ7: 593 | AR7: =AP7/AN7 -> 0.22406301 | AS7: =AP7/AO7 -> 0.29422254 | AT7: 5139 | AU7: 4311 | AV7: 3322 | AW7: 889 | AX7: 614 | AY7: =AW7/AU7 -> 0.20621666 | AZ7: =AW7/AV7 -> 0.26760987 | BA7: 4724 | BB7: 3956 | BC7: 2906 | BD7: 833 | BE7: 570 | BF7: =BD7/BB7 -> 0.21056623 | BG7: =BD7/BC7 -> 0.28664831 | BH7: 4514 | BI7: 3838 | BJ7: 3203 | BK7: 1022 | BL7: 524 | BM7: =BK7/BI7 -> 0.26628452 | BN7: =BK7/BJ7 -> 0.31907587 | BO7: 3969 | BP7: 3397 | BQ7: 2657 | BR7: 933 | BS7: 586 | BT7: =BR7/BP7 -> 0.27465411 | BU7: =BR7/BQ7 -> 0.35114791 | BV7: 4567 | BW7: 3711 | BX7: 2838 | BY7: 1097 | BZ7: 682 | CA7: =BY7/BW7 -> 0.29560765 | CB7: =BY7/BX7 -> 0.38653982 | CC7: 4414 | CD7: 3633 | CE7: 2932 | CF7: 1308 | CG7: 713 | CH7: =CF7/CD7 -> 0.36003303 | CI7: =CF7/CE7 -> 0.44611187 | CJ7: 4577 | CK7: 3788 | CL7: 2879 | CM7: 760 | CN7: 760 | CO7: =CM7/CK7 -> 0.20063358 | CP7: =CM7/CL7 -> 0.26398055 | CQ7: 0.27375924 | CR7: 0.36019451 | CS7: 4792 | CT7: 3945 | CU7: 2981 | CV7: 767 | CW7: 766 | CX7: =CV7/CT7 -> 0.19442332 | CY7: =CV7/CU7 -> 0.25729621 | CZ7: 0.27807351 | DA7: 0.36799732 | DB7: 5012 | DC7: 4040 | DD7: 3382 | DE7: 711 | DF7: 711 | DG7: =DE7/DC7 -> 0.1759901 | DH7: =DE7/DD7 -> 0.21023063 | DI7: 0.3480198 | DJ7: 0.41573034 | DK7: 5216 | DL7: 4241 | DM7: 3410 | DN7: 812 | DO7: 812 | DP7: =DN7/DL7 -> 0.19146428 | DQ7: =DN7/DM7 -> 0.23812317 | DR7: 0.3343551 | DS7: 0.41583578 | DT7: 5985 | DU7: 4735 | DV7: 3767 | DW7: 804 | DX7: 802 | DY7: =DW7/DU7 -> 0.16979937 | DZ7: =DW7/DV7 -> 0.21343244 | EA7: 0.21436114 | EB7: 0.26944518
A8: Univerzita Karlova | B8: 11120 | C8: 3. lékařská fakulta | D8: 2134 | E8: 2006 | F8: 1750 | G8: 476 | H8: 280 | I8: =G8/E8 -> 0.23728814 | J8: =G8/F8 -> 0.272 | K8: 2225 | L8: 2104 | M8: 1848 | N8: 484 | O8: 301 | P8: =N8/L8 -> 0.23003802 | Q8: =N8/M8 -> 0.26190476 | R8: 2171 | S8: 2017 | T8: 1731 | U8: 462 | V8: 313 | W8: =U8/S8 -> 0.22905305 | X8: =U8/T8 -> 0.26689775 | Y8: 2328 | Z8: 2138 | AA8: 1586 | AB8: 378 | AC8: 291 | AD8: =AB8/Z8 -> 0.17680075 | AE8: =AB8/AA8 -> 0.23833544 | AF8: 2719 | AG8: 2485 | AH8: 1827 | AI8: 350 | AJ8: 315 | AK8: =AI8/AG8 -> 0.14084507 | AL8: =AI8/AH8 -> 0.19157088 | AM8: 2690 | AN8: 2460 | AO8: 2048 | AP8: 384 | AQ8: 262 | AR8: =AP8/AN8 -> 0.15609756 | AS8: =AP8/AO8 -> 0.1875 | AT8: 2573 | AU8: 2403 | AV8: 1924 | AW8: 442 | AX8: 318 | AY8: =AW8/AU8 -> 0.18393675 | AZ8: =AW8/AV8 -> 0.22972973 | BA8: 2954 | BB8: 2723 | BC8: 2080 | BD8: 437 | BE8: 323 | BF8: =BD8/BB8 -> 0.16048476 | BG8: =BD8/BC8 -> 0.21009615 | BH8: 2954 | BI8: 2710 | BJ8: 2029 | BK8: 414 | BL8: 322 | BM8: =BK8/BI8 -> 0.15276753 | BN8: =BK8/BJ8 -> 0.2040414 | BO8: 2918 | BP8: 2675 | BQ8: 1899 | BR8: 405 | BS8: 312 | BT8: =BR8/BP8 -> 0.15140187 | BU8: =BR8/BQ8 -> 0.21327014 | BV8: 2821 | BW8: 2605 | BX8: 2111 | BY8: 468 | BZ8: 309 | CA8: =BY8/BW8 -> 0.17965451 | CB8: =BY8/BX8 -> 0.22169588 | CC8: 2655 | CD8: 2416 | CE8: 2012 | CF8: 358 | CG8: 335 | CH8: =CF8/CD8 -> 0.14817881 | CI8: =CF8/CE8 -> 0.17793241 | CJ8: 2789 | CK8: 2570 | CL8: 2056 | CM8: 403 | CN8: 370 | CO8: =CM8/CK8 -> 0.15680934 | CP8: =CM8/CL8 -> 0.19601167 | CQ8: 0.19143969 | CR8: 0.23929961 | CS8: 2692 | CT8: 2450 | CU8: 1958 | CV8: 434 | CW8: 333 | CX8: =CV8/CT8 -> 0.17714286 | CY8: =CV8/CU8 -> 0.22165475 | CZ8: 0.18530612 | DA8: 0.23186925 | DB8: 2813 | DC8: 2559 | DD8: 2080 | DE8: 448 | DF8: 342 | DG8: =DE8/DC8 -> 0.17506839 | DH8: =DE8/DD8 -> 0.21538462 | DI8: 0.19812427 | DJ8: 0.24375 | DK8: 3270 | DL8: 2932 | DM8: 2406 | DN8: 462 | DO8: 359 | DP8: =DN8/DL8 -> 0.15757162 | DQ8: =DN8/DM8 -> 0.19201995 | DR8: 0.17326057 | DS8: 0.21113882 | DT8: 3420 | DU8: 3058 | DV8: 2634 | DW8: 393 | DX8: 393 | DY8: =DW8/DU8 -> 0.12851537 | DZ8: =DW8/DV8 -> 0.14920273 | EA8: 0.15631131 | EB8: 0.18147304
A9: Univerzita Karlova | B9: 11130 | C9: 2. lékařská fakulta | D9: 1528 | E9: 1475 | F9: 1050 | G9: 220 | H9: 190 | I9: =G9/E9 -> 0.14915254 | J9: =G9/F9 -> 0.20952381 | K9: 1995 | L9: 1893 | M9: 1634 | N9: 261 | O9: 192 | P9: =N9/L9 -> 0.13787639 | Q9: =N9/M9 -> 0.15973072 | R9: 1688 | S9: 1607 | T9: 1399 | U9: 235 | V9: 190 | W9: =U9/S9 -> 0.14623522 | X9: =U9/T9 -> 0.16797713 | Y9: 1701 | Z9: 1648 | AA9: 1278 | AB9: 243 | AC9: 207 | AD9: =AB9/Z9 -> 0.14745146 | AE9: =AB9/AA9 -> 0.19014085 | AF9: 1860 | AG9: 1804 | AH9: 1376 | AI9: 211 | AJ9: 188 | AK9: =AI9/AG9 -> 0.11696231 | AL9: =AI9/AH9 -> 0.15334302 | AM9: 1715 | AN9: 1647 | AO9: 1162 | AP9: 213 | AQ9: 191 | AR9: =AP9/AN9 -> 0.12932605 | AS9: =AP9/AO9 -> 0.18330465 | AT9: 1915 | AU9: 1842 | AV9: 1471 | AW9: 256 | AX9: 208 | AY9: =AW9/AU9 -> 0.13897937 | AZ9: =AW9/AV9 -> 0.17403127 | BA9: 1989 | BB9: 1906 | BC9: 1521 | BD9: 257 | BE9: 212 | BF9: =BD9/BB9 -> 0.13483736 | BG9: =BD9/BC9 -> 0.16896778 | BH9: 2005 | BI9: 1912 | BJ9: 1486 | BK9: 268 | BL9: 202 | BM9: =BK9/BI9 -> 0.14016736 | BN9: =BK9/BJ9 -> 0.18034993 | BO9: 2048 | BP9: 1938 | BQ9: 1487 | BR9: 273 | BS9: 208 | BT9: =BR9/BP9 -> 0.14086687 | BU9: =BR9/BQ9 -> 0.18359112 | BV9: 2121 | BW9: 1961 | BX9: 1522 | BY9: 345 | BZ9: 273 | CA9: =BY9/BW9 -> 0.17593065 | CB9: =BY9/BX9 -> 0.22667543 | CC9: 1930 | CD9: 1797 | CE9: 1500 | CF9: 385 | CG9: 319 | CH9: =CF9/CD9 -> 0.21424597 | CI9: =CF9/CE9 -> 0.25666667 | CJ9: 2137 | CK9: 2019 | CL9: 1479 | CM9: 299 | CN9: 277 | CO9: =CM9/CK9 -> 0.14809312 | CP9: =CM9/CL9 -> 0.20216362 | CQ9: 0.14809312 | CR9: 0.20216362 | CS9: 2112 | CT9: 1971 | CU9: 1510 | CV9: 350 | CW9: 290 | CX9: =CV9/CT9 -> 0.17757484 | CY9: =CV9/CU9 -> 0.23178808 | CZ9: 0.18011162 | DA9: 0.23509934 | DB9: 2256 | DC9: 2092 | DD9: 1491 | DE9: 370 | DF9: 321 | DG9: =DE9/DC9 -> 0.17686424 | DH9: =DE9/DD9 -> 0.2481556 | DI9: 0.18355641 | DJ9: 0.25754527 | DK9: 2607 | DL9: 2404 | DM9: 1752 | DN9: 425 | DO9: 364 | DP9: =DN9/DL9 -> 0.17678869 | DQ9: =DN9/DM9 -> 0.24257991 | DR9: 0.18344426 | DS9: 0.25171233 | DT9: 2713 | DU9: 2483 | DV9: 1889 | DW9: 420 | DX9: 363 | DY9: =DW9/DU9 -> 0.16915022 | DZ9: =DW9/DV9 -> 0.22233986 | EA9: 0.17156665 | EB9: 0.22551615
A10: Univerzita Karlova | B10: 11140 | C10: Lékařská fakulta v Plzni | D10: 1720 | E10: 1402 | F10: 1105 | G10: 439 | H10: 278 | I10: =G10/E10 -> 0.31312411 | J10: =G10/F10 -> 0.39728507 | K10: 1714 | L10: 1397 | M10: 1143 | N10: 454 | O10: 261 | P10: =N10/L10 -> 0.3249821 | Q10: =N10/M10 -> 0.39720035 | R10: 1820 | S10: 1470 | T10: 1219 | U10: 475 | V10: 292 | W10: =U10/S10 -> 0.32312925 | X10: =U10/T10 -> 0.38966366 | Y10: 1791 | Z10: 1453 | AA10: 1270 | AB10: 409 | AC10: 230 | AD10: =AB10/Z10 -> 0.28148658 | AE10: =AB10/AA10 -> 0.32204724 | AF10: 1710 | AG10: 1399 | AH10: 1210 | AI10: 415 | AJ10: 265 | AK10: =AI10/AG10 -> 0.29664046 | AL10: =AI10/AH10 -> 0.34297521 | AM10: 1921 | AN10: 1561 | AO10: 1253 | AP10: 423 | AQ10: 275 | AR10: =AP10/AN10 -> 0.27098014 | AS10: =AP10/AO10 -> 0.33758978 | AT10: 2036 | AU10: 1657 | AV10: 1296 | AW10: 423 | AX10: 278 | AY10: =AW10/AU10 -> 0.25528063 | AZ10: =AW10/AV10 -> 0.32638889 | BA10: 2067 | BB10: 1696 | BC10: 1433 | BD10: 456 | BE10: 227 | BF10: =BD10/BB10 -> 0.26886792 | BG10: =BD10/BC10 -> 0.31821354 | BH10: 2094 | BI10: 1730 | BJ10: 1486 | BK10: 256 | BL10: 256 | BM10: =BK10/BI10 -> 0.14797688 | BN10: =BK10/BJ10 -> 0.17227456 | BO10: 1922 | BP10: 1633 | BQ10: 1305 | BR10: 238 | BS10: 238 | BT10: =BR10/BP10 -> 0.14574403 | BU10: =BR10/BQ10 -> 0.18237548 | BV10: 2091 | BW10: 1711 | BX10: 1206 | BY10: 286 | BZ10: 286 | CA10: =BY10/BW10 -> 0.16715371 | CB10: =BY10/BX10 -> 0.2371476 | CC10: 2081 | CD10: 1708 | CE10: 1364 | CF10: 300 | CG10: 300 | CH10: =CF10/CD10 -> 0.17564403 | CI10: =CF10/CE10 -> 0.21994135 | CJ10: 2151 | CK10: 1756 | CL10: 1395 | CM10: 320 | CN10: 320 | CO10: =CM10/CK10 -> 0.18223235 | CP10: =CM10/CL10 -> 0.22939068 | CQ10: 0.23861048 | CR10: 0.30035842 | CS10: 2212 | CT10: 1806 | CU10: 1534 | CV10: 332 | CW10: 331 | CX10: =CV10/CT10 -> 0.18383167 | CY10: =CV10/CU10 -> 0.21642764 | CZ10: 0.24252492 | DA10: 0.28552803 | DB10: 2456 | DC10: 1979 | DD10: 1650 | DE10: 395 | DF10: 395 | DG10: =DE10/DC10 -> 0.19959576 | DH10: =DE10/DD10 -> 0.23939394 | DI10: 0.3274381 | DJ10: 0.39272727 | DK10: 2953 | DL10: 2405 | DM10: 2070 | DN10: 338 | DO10: 336 | DP10: =DN10/DL10 -> 0.14054054 | DQ10: =DN10/DM10 -> 0.16328502 | DR10: 0.3006237 | DS10: 0.34927536 | DT10: 2992 | DU10: 2422 | DV10: 1949 | DW10: 362 | DX10: 362 | DY10: =DW10/DU10 -> 0.14946325 | DZ10: =DW10/DV10 -> 0.18573628 | EA10: 0.19694467 | EB10: 0.24474089
A11: Univerzita Karlova | B11: 11150 | C11: Lékařská fakulta v Hradci Králové | D11: 1933 | E11: 1612 | F11: 1389 | G11: 437 | H11: 256 | I11: =G11/E11 -> 0.27109181 | J11: =G11/F11 -> 0.31461483 | K11: 1773 | L11: 1513 | M11: 1188 | N11: 425 | O11: 292 | P11: =N11/L11 -> 0.28089888 | Q11: =N11/M11 -> 0.35774411 | R11: 1933 | S11: 1606 | T11: 1305 | U11: 409 | V11: 255 | W11: =U11/S11 -> 0.25466999 | X11: =U11/T11 -> 0.31340996 | Y11: 2132 | Z11: 1781 | AA11: 1252 | AB11: 381 | AC11: 282 | AD11: =AB11/Z11 -> 0.21392476 | AE11: =AB11/AA11 -> 0.3043131 | AF11: 1739 | AG11: 1453 | AH11: 1280 | AI11: 386 | AJ11: 237 | AK11: =AI11/AG11 -> 0.26565726 | AL11: =AI11/AH11 -> 0.3015625 | AM11: 1812 | AN11: 1534 | AO11: 1258 | AP11: 373 | AQ11: 237 | AR11: =AP11/AN11 -> 0.24315515 | AS11: =AP11/AO11 -> 0.29650238 | AT11: 1933 | AU11: 1639 | AV11: 1164 | AW11: 327 | AX11: 202 | AY11: =AW11/AU11 -> 0.1995119 | AZ11: =AW11/AV11 -> 0.28092784 | BA11: 2048 | BB11: 1742 | BC11: 1322 | BD11: 371 | BE11: 224 | BF11: =BD11/BB11 -> 0.21297359 | BG11: =BD11/BC11 -> 0.2806354 | BH11: 1941 | BI11: 1659 | BJ11: 1200 | BK11: 373 | BL11: 241 | BM11: =BK11/BI11 -> 0.22483424 | BN11: =BK11/BJ11 -> 0.31083333 | BO11: 1803 | BP11: 1538 | BQ11: 1276 | BR11: 346 | BS11: 219 | BT11: =BR11/BP11 -> 0.22496749 | BU11: =BR11/BQ11 -> 0.27115987 | BV11: 2020 | BW11: 1705 | BX11: 1249 | BY11: 405 | BZ11: 293 | CA11: =BY11/BW11 -> 0.23753666 | CB11: =BY11/BX11 -> 0.32425941 | CC11: 1872 | CD11: 1587 | CE11: 1585 | CF11: 222 | CG11: 220 | CH11: =CF11/CD11 -> 0.13988658 | CI11: =CF11/CE11 -> 0.14006309 | CJ11: 1633 | CK11: 1398 | CL11: 973 | CM11: 353 | CN11: 273 | CO11: =CM11/CK11 -> 0.25250358 | CP11: =CM11/CL11 -> 0.36279548 | CQ11: 0.26251788 | CR11: 0.37718397 | CS11: 1693 | CT11: 1437 | CU11: 1013 | CV11: 365 | CW11: 260 | CX11: =CV11/CT11 -> 0.25400139 | CY11: =CV11/CU11 -> 0.36031589 | CZ11: 0.26026444 | DA11: 0.36920039 | DB11: 2031 | DC11: 1717 | DD11: 1222 | DE11: 365 | DF11: 267 | DG11: =DE11/DC11 -> 0.21258008 | DH11: =DE11/DD11 -> 0.29869067 | DI11: 0.22597554 | DJ11: 0.31751227 | DK11: 2278 | DL11: 1911 | DM11: 1590 | DN11: 503 | DO11: 304 | DP11: =DN11/DL11 -> 0.26321298 | DQ11: =DN11/DM11 -> 0.3163522 | DR11: 0.27681842 | DS11: 0.3327044 | DT11: 2393 | DU11: 1969 | DV11: 1542 | DW11: 494 | DX11: 308 | DY11: =DW11/DU11 -> 0.25088878 | DZ11: =DW11/DV11 -> 0.32036316 | EA11: 0.25799898 | EB11: 0.32944228
A12: Univerzita Karlova | B12: 11160 | C12: Farmaceutická fakulta v Hradci Králové | D12: 1017 | E12: 947 | F12: 825 | G12: 494 | H12: 320 | I12: =G12/E12 -> 0.52164731 | J12: =G12/F12 -> 0.59878788 | K12: 1057 | L12: 987 | M12: 878 | N12: 526 | O12: 352 | P12: =N12/L12 -> 0.53292806 | Q12: =N12/M12 -> 0.59908884 | R12: 883 | S12: 816 | T12: 735 | U12: 534 | V12: 391 | W12: =U12/S12 -> 0.65441176 | X12: =U12/T12 -> 0.72653061 | Y12: 1236 | Z12: 1155 | AA12: 997 | AB12: 382 | AC12: 315 | AD12: =AB12/Z12 -> 0.33073593 | AE12: =AB12/AA12 -> 0.38314945 | AF12: 1236 | AG12: 1107 | AH12: 954 | AI12: 485 | AJ12: 312 | AK12: =AI12/AG12 -> 0.43812105 | AL12: =AI12/AH12 -> 0.50838574 | AM12: 1111 | AN12: 1006 | AO12: 845 | AP12: 400 | AQ12: 307 | AR12: =AP12/AN12 -> 0.39761431 | AS12: =AP12/AO12 -> 0.47337278 | AT12: 1125 | AU12: 1048 | AV12: 800 | AW12: 470 | AX12: 373 | AY12: =AW12/AU12 -> 0.44847328 | AZ12: =AW12/AV12 -> 0.5875 | BA12: 1003 | BB12: 925 | BC12: 753 | BD12: 505 | BE12: 365 | BF12: =BD12/BB12 -> 0.54594595 | BG12: =BD12/BC12 -> 0.67065073 | BH12: 806 | BI12: 737 | BJ12: 612 | BK12: 483 | BL12: 353 | BM12: =BK12/BI12 -> 0.65535957 | BN12: =BK12/BJ12 -> 0.78921569 | BO12: 740 | BP12: 699 | BQ12: 599 | BR12: 469 | BS12: 323 | BT12: =BR12/BP12 -> 0.67095851 | BU12: =BR12/BQ12 -> 0.78297162 | BV12: 655 | BW12: 609 | BX12: 538 | BY12: 432 | BZ12: 323 | CA12: =BY12/BW12 -> 0.70935961 | CB12: =BY12/BX12 -> 0.80297398 | CC12: 666 | CD12: 629 | CE12: 629 | CF12: 296 | CG12: 276 | CH12: =CF12/CD12 -> 0.47058824 | CI12: =CF12/CE12 -> 0.47058824 | CJ12: 659 | CK12: 611 | CL12: 262 | CM12: 235 | CN12: 227 | CO12: =CM12/CK12 -> 0.38461538 | CP12: =CM12/CL12 -> 0.89694656 | CQ12: 0.42062193 | CR12: 0.98091603 | CS12: 766 | CT12: 711 | CU12: 669 | CV12: 380 | CW12: 337 | CX12: =CV12/CT12 -> 0.53445851 | CY12: =CV12/CU12 -> 0.56801196 | CZ12: 0.53445851 | DA12: 0.56801196 | DB12: 854 | DC12: 796 | DD12: 735 | DE12: 440 | DF12: 384 | DG12: =DE12/DC12 -> 0.55276382 | DH12: =DE12/DD12 -> 0.59863946 | DI12: 0.89070352 | DJ12: 0.96462585 | DK12: 899 | DL12: 838 | DM12: 758 | DN12: 455 | DO12: 392 | DP12: =DN12/DL12 -> 0.54295943 | DQ12: =DN12/DM12 -> 0.60026385 | DR12: 0.54295943 | DS12: 0.60026385 | DT12: 1036 | DU12: 961 | DV12: 877 | DW12: 607 | DX12: 413 | DY12: =DW12/DU12 -> 0.63163371 | DZ12: =DW12/DV12 -> 0.69213227 | EA12: 0.63371488 | EB12: 0.69441277
A13: Univerzita Karlova | B13: 11210 | C13: Filozofická fakulta | D13: 8451 | E13: 5853 | F13: 4784 | G13: 1669 | H13: 1386 | I13: =G13/E13 -> 0.28515291 | J13: =G13/F13 -> 0.34887124 | K13: 8233 | L13: 5804 | M13: 4865 | N13: 1676 | O13: 1395 | P13: =N13/L13 -> 0.28876637 | Q13: =N13/M13 -> 0.34450154 | R13: 7893 | S13: 5537 | T13: 4556 | U13: 1368 | V13: 1133 | W13: =U13/S13 -> 0.2470652 | X13: =U13/T13 -> 0.30026339 | Y13: 7734 | Z13: 5526 | AA13: 4417 | AB13: 1291 | AC13: 1080 | AD13: =AB13/Z13 -> 0.23362287 | AE13: =AB13/AA13 -> 0.29227983 | AF13: 7065 | AG13: 5010 | AH13: 3968 | AI13: 1083 | AJ13: 896 | AK13: =AI13/AG13 -> 0.21616766 | AL13: =AI13/AH13 -> 0.27293347 | AM13: 6147 | AN13: 4309 | AO13: 3445 | AP13: 1098 | AQ13: 918 | AR13: =AP13/AN13 -> 0.2548155 | AS13: =AP13/AO13 -> 0.31872279 | AT13: 5964 | AU13: 4240 | AV13: 3292 | AW13: 1150 | AX13: 945 | AY13: =AW13/AU13 -> 0.27122642 | AZ13: =AW13/AV13 -> 0.34933171 | BA13: 6083 | BB13: 4084 | BC13: 3144 | BD13: 1139 | BE13: 900 | BF13: =BD13/BB13 -> 0.27889324 | BG13: =BD13/BC13 -> 0.36227735 | BH13: 5826 | BI13: 3938 | BJ13: 3027 | BK13: 931 | BL13: 930 | BM13: =BK13/BI13 -> 0.23641442 | BN13: =BK13/BJ13 -> 0.30756525 | BO13: 5146 | BP13: 3641 | BQ13: 2688 | BR13: 954 | BS13: 948 | BT13: =BR13/BP13 -> 0.26201593 | BU13: =BR13/BQ13 -> 0.35491071 | BV13: 5319 | BW13: 3711 | BX13: 2730 | BY13: 1273 | BZ13: 1126 | CA13: =BY13/BW13 -> 0.34303422 | CB13: =BY13/BX13 -> 0.46630037 | CC13: 4830 | CD13: 3369 | CE13: 2630 | CF13: 1015 | CG13: 1007 | CH13: =CF13/CD13 -> 0.30127634 | CI13: =CF13/CE13 -> 0.38593156 | CJ13: 5571 | CK13: 3887 | CL13: 2930 | CM13: 1058 | CN13: 1048 | CO13: =CM13/CK13 -> 0.27218935 | CP13: =CM13/CL13 -> 0.36109215 | CQ13: 0.32673013 | CR13: 0.4334471 | CS13: 5969 | CT13: 4128 | CU13: 3152 | CV13: 1050 | CW13: 1036 | CX13: =CV13/CT13 -> 0.25436047 | CY13: =CV13/CU13 -> 0.33312183 | CZ13: 0.28754845 | DA13: 0.37658629 | DB13: 6286 | DC13: 4301 | DD13: 3157 | DE13: 1087 | DF13: 1022 | DG13: =DE13/DC13 -> 0.25273192 | DH13: =DE13/DD13 -> 0.34431422 | DI13: 0.29876773 | DJ13: 0.40703199 | DK13: 5646 | DL13: 3939 | DM13: 2932 | DN13: 1112 | DO13: 1060 | DP13: =DN13/DL13 -> 0.28230515 | DQ13: =DN13/DM13 -> 0.3792633 | DR13: 0.32520944 | DS13: 0.43690314 | DT13: 5446 | DU13: 3830 | DV13: 2842 | DW13: 1095 | DX13: 1023 | DY13: =DW13/DU13 -> 0.28590078 | DZ13: =DW13/DV13 -> 0.38529205 | EA13: 0.31096606 | EB13: 0.41907108
A14: Univerzita Karlova | B14: 11220 | C14: Právnická fakulta | D14: 4399 | E14: 4399 | F14: 4141 | G14: 836 | H14: 703 | I14: =G14/E14 -> 0.19004319 | J14: =G14/F14 -> 0.2018836 | K14: 4095 | L14: 4095 | M14: 3888 | N14: 869 | O14: 763 | P14: =N14/L14 -> 0.21221001 | Q14: =N14/M14 -> 0.22350823 | R14: 3549 | S14: 3549 | T14: 3356 | U14: 834 | V14: 726 | W14: =U14/S14 -> 0.23499577 | X14: =U14/T14 -> 0.24851013 | Y14: 3422 | Z14: 3422 | AA14: 3422 | AB14: 814 | AC14: 703 | AD14: =AB14/Z14 -> 0.23787259 | AE14: =AB14/AA14 -> 0.23787259 | AF14: 3240 | AG14: 3240 | AH14: 3240 | AI14: 801 | AJ14: 702 | AK14: =AI14/AG14 -> 0.24722222 | AL14: =AI14/AH14 -> 0.24722222 | AM14: 3068 | AN14: 3068 | AO14: 3067 | AP14: 683 | AQ14: 609 | AR14: =AP14/AN14 -> 0.2226206 | AS14: =AP14/AO14 -> 0.22269319 | AT14: 3000 | AU14: 3000 | AV14: 3000 | AW14: 636 | AX14: 590 | AY14: =AW14/AU14 -> 0.212 | AZ14: =AW14/AV14 -> 0.212 | BA14: 2823 | BB14: 2823 | BC14: 2823 | BD14: 636 | BE14: 570 | BF14: =BD14/BB14 -> 0.22529224 | BG14: =BD14/BC14 -> 0.22529224 | BH14: 2690 | BI14: 2690 | BJ14: 2576 | BK14: 667 | BL14: 620 | BM14: =BK14/BI14 -> 0.24795539 | BN14: =BK14/BJ14 -> 0.25892857 | BO14: 2346 | BP14: 2346 | BQ14: 2267 | BR14: 675 | BS14: 608 | BT14: =BR14/BP14 -> 0.28772379 | BU14: =BR14/BQ14 -> 0.29775033 | BV14: 2432 | BW14: 2432 | BX14: 2432 | BY14: 656 | BZ14: 595 | CA14: =BY14/BW14 -> 0.26973684 | CB14: =BY14/BX14 -> 0.26973684 | CC14: 2180 | CD14: 2127 | CE14: 2127 | CF14: 650 | CG14: 579 | CH14: =CF14/CD14 -> 0.30559473 | CI14: =CF14/CE14 -> 0.30559473 | CJ14: 2207 | CK14: 2207 | CL14: 2083 | CM14: 634 | CN14: 583 | CO14: =CM14/CK14 -> 0.28726778 | CP14: =CM14/CL14 -> 0.3043687 | CQ14: 0.28726778 | CR14: 0.3043687 | CS14: 2285 | CT14: 2285 | CU14: 2110 | CV14: 633 | CW14: 580 | CX14: =CV14/CT14 -> 0.27702407 | CY14: =CV14/CU14 -> 0.3 | CZ14: 0.27702407 | DA14: 0.3 | DB14: 2388 | DC14: 2388 | DD14: 2202 | DE14: 657 | DF14: 606 | DG14: =DE14/DC14 -> 0.27512563 | DH14: =DE14/DD14 -> 0.29836512 | DI14: 0.27512563 | DJ14: 0.29836512 | DK14: 2571 | DL14: 2571 | DM14: 2374 | DN14: 755 | DO14: 678 | DP14: =DN14/DL14 -> 0.29366005 | DQ14: =DN14/DM14 -> 0.31802864 | DR14: 0.29366005 | DS14: 0.31802864 | DT14: 2546 | DU14: 2546 | DV14: 2402 | DW14: 756 | DX14: 714 | DY14: =DW14/DU14 -> 0.29693637 | DZ14: =DW14/DV14 -> 0.31473772 | EA14: 0.29693637 | EB14: 0.31473772
A15: Univerzita Karlova | B15: 11230 | C15: Fakulta sociálních věd | D15: 6999 | E15: 5016 | F15: 4657 | G15: 1103 | H15: 757 | I15: =G15/E15 -> 0.21989633 | J15: =G15/F15 -> 0.23684776 | K15: 6193 | L15: 4621 | M15: 4255 | N15: 1107 | O15: 758 | P15: =N15/L15 -> 0.23955854 | Q15: =N15/M15 -> 0.26016451 | R15: 4695 | S15: 3649 | T15: 3007 | U15: 1037 | V15: 754 | W15: =U15/S15 -> 0.28418745 | X15: =U15/T15 -> 0.34486199 | Y15: 4699 | Z15: 3584 | AA15: 2946 | AB15: 1010 | AC15: 739 | AD15: =AB15/Z15 -> 0.28180804 | AE15: =AB15/AA15 -> 0.34283775 | AF15: 4813 | AG15: 3729 | AH15: 3237 | AI15: 908 | AJ15: 662 | AK15: =AI15/AG15 -> 0.24349692 | AL15: =AI15/AH15 -> 0.28050664 | AM15: 3868 | AN15: 3033 | AO15: 2643 | AP15: 890 | AQ15: 658 | AR15: =AP15/AN15 -> 0.29343884 | AS15: =AP15/AO15 -> 0.33673855 | AT15: 3890 | AU15: 3017 | AV15: 2711 | AW15: 1021 | AX15: 765 | AY15: =AW15/AU15 -> 0.33841564 | AZ15: =AW15/AV15 -> 0.3766138 | BA15: 3843 | BB15: 2928 | BC15: 2619 | BD15: 1146 | BE15: 835 | BF15: =BD15/BB15 -> 0.39139344 | BG15: =BD15/BC15 -> 0.43757159 | BH15: 3574 | BI15: 2704 | BJ15: 2445 | BK15: 910 | BL15: 794 | BM15: =BK15/BI15 -> 0.33653846 | BN15: =BK15/BJ15 -> 0.37218814 | BO15: 3762 | BP15: 2763 | BQ15: 2440 | BR15: 922 | BS15: 830 | BT15: =BR15/BP15 -> 0.33369526 | BU15: =BR15/BQ15 -> 0.37786885 | BV15: 3334 | BW15: 2531 | BX15: 2223 | BY15: 927 | BZ15: 781 | CA15: =BY15/BW15 -> 0.3662584 | CB15: =BY15/BX15 -> 0.41700405 | CC15: 3121 | CD15: 2468 | CE15: 2074 | CF15: 850 | CG15: 812 | CH15: =CF15/CD15 -> 0.34440843 | CI15: =CF15/CE15 -> 0.40983607 | CJ15: 3413 | CK15: 2607 | CL15: 2301 | CM15: 872 | CN15: 776 | CO15: =CM15/CK15 -> 0.33448408 | CP15: =CM15/CL15 -> 0.37896567 | CQ15: 0.41311853 | CR15: 0.46805737 | CS15: 3662 | CT15: 2858 | CU15: 2427 | CV15: 946 | CW15: 800 | CX15: =CV15/CT15 -> 0.3310007 | CY15: =CV15/CU15 -> 0.38978162 | CZ15: 0.39993002 | DA15: 0.47095179 | DB15: 3895 | DC15: 2979 | DD15: 2633 | DE15: 1162 | DF15: 941 | DG15: =DE15/DC15 -> 0.39006378 | DH15: =DE15/DD15 -> 0.44132169 | DI15: 0.46022155 | DJ15: 0.52069882 | DK15: 3904 | DL15: 2944 | DM15: 2642 | DN15: 1207 | DO15: 981 | DP15: =DN15/DL15 -> 0.40998641 | DQ15: =DN15/DM15 -> 0.45685087 | DR15: 0.48029891 | DS15: 0.53520061 | DT15: 4302 | DU15: 3164 | DV15: 2850 | DW15: 1244 | DX15: 1008 | DY15: =DW15/DU15 -> 0.3931732 | DZ15: =DW15/DV15 -> 0.43649123 | EA15: 0.42762326 | EB15: 0.47473684
A16: Univerzita Karlova | B16: 11240 | C16: Fakulta humanitních studií** | D16: 2601 | E16: 2601 | F16: 2405 | G16: 1170 | H16: 749 | I16: =G16/E16 -> 0.44982699 | J16: =G16/F16 -> 0.48648649 | K16: 2591 | L16: 2591 | M16: 2388 | N16: 1054 | O16: 666 | P16: =N16/L16 -> 0.40679274 | Q16: =N16/M16 -> 0.44137353 | R16: 2439 | S16: 2439 | T16: 2229 | U16: 686 | V16: 686 | W16: =U16/S16 -> 0.28126281 | X16: =U16/T16 -> 0.30776133 | Y16: 2276 | Z16: 2273 | AA16: 2044 | AB16: 703 | AC16: 703 | AD16: =AB16/Z16 -> 0.30928289 | AE16: =AB16/AA16 -> 0.34393346 | AF16: 2094 | AG16: 2090 | AH16: 1907 | AI16: 671 | AJ16: 671 | AK16: =AI16/AG16 -> 0.32105263 | AL16: =AI16/AH16 -> 0.35186156 | AM16: 1899 | AN16: 1895 | AO16: 1743 | AP16: 695 | AQ16: 651 | AR16: =AP16/AN16 -> 0.36675462 | AS16: =AP16/AO16 -> 0.39873781 | AT16: 1745 | AU16: 1743 | AV16: 1539 | AW16: 720 | AX16: 717 | AY16: =AW16/AU16 -> 0.4130809 | AZ16: =AW16/AV16 -> 0.46783626 | BA16: 1526 | BB16: 1522 | BC16: 1353 | BD16: 681 | BE16: 678 | BF16: =BD16/BB16 -> 0.44743758 | BG16: =BD16/BC16 -> 0.50332594 | BH16: 1541 | BI16: 1536 | BJ16: 1272 | BK16: 806 | BL16: 804 | BM16: =BK16/BI16 -> 0.52473958 | BN16: =BK16/BJ16 -> 0.6336478 | BO16: 1428 | BP16: 1421 | BQ16: 1216 | BR16: 769 | BS16: 769 | BT16: =BR16/BP16 -> 0.54116819 | BU16: =BR16/BQ16 -> 0.63240132 | BV16: 1530 | BW16: 1521 | BX16: 1344 | BY16: 773 | BZ16: 772 | CA16: =BY16/BW16 -> 0.50821828 | CB16: =BY16/BX16 -> 0.57514881 | CC16: 1654 | CD16: 1650 | CE16: 1646 | CF16: 762 | CG16: 760 | CH16: =CF16/CD16 -> 0.46181818 | CI16: =CF16/CE16 -> 0.46294046 | CJ16: 1588 | CK16: 1579 | CL16: 1040 | CM16: 894 | CN16: 846 | CO16: =CM16/CK16 -> 0.56618113 | CP16: =CM16/CL16 -> 0.85961538 | CQ16: 0.56618113 | CR16: 0.85961538 | CS16: 1679 | CT16: 1671 | CU16: 1382 | CV16: 727 | CW16: 706 | CX16: =CV16/CT16 -> 0.43506882 | CY16: =CV16/CU16 -> 0.5260492 | CZ16: 0.55236385 | DA16: 0.66787265 | DB16: 1723 | DC16: 1710 | DD16: 1374 | DE16: 701 | DF16: 681 | DG16: =DE16/DC16 -> 0.40994152 | DH16: =DE16/DD16 -> 0.51018923 | DI16: 0.58596491 | DJ16: 0.72925764 | DK16: 1767 | DL16: 1753 | DM16: 1437 | DN16: 730 | DO16: 692 | DP16: =DN16/DL16 -> 0.41642898 | DQ16: =DN16/DM16 -> 0.50800278 | DR16: 0.58585282 | DS16: 0.71468337 | DT16: 1904 | DU16: 1899 | DV16: 1606 | DW16: 757 | DX16: 716 | DY16: =DW16/DU16 -> 0.39863086 | DZ16: =DW16/DV16 -> 0.47135741 | EA16: 0.50289626 | EB16: 0.59464508
A17: Univerzita Karlova | B17: 11260 | C17: Katolická teologická fakulta | D17: 262 | E17: 260 | F17: 234 | G17: 203 | H17: 171 | I17: =G17/E17 -> 0.78076923 | J17: =G17/F17 -> 0.86752137 | K17: 327 | L17: 305 | M17: 253 | N17: 206 | O17: 183 | P17: =N17/L17 -> 0.67540984 | Q17: =N17/M17 -> 0.81422925 | R17: 295 | S17: 276 | T17: 234 | U17: 185 | V17: 166 | W17: =U17/S17 -> 0.67028986 | X17: =U17/T17 -> 0.79059829 | Y17: 262 | Z17: 247 | AA17: 201 | AB17: 168 | AC17: 149 | AD17: =AB17/Z17 -> 0.68016194 | AE17: =AB17/AA17 -> 0.8358209 | AF17: 271 | AG17: 252 | AH17: 210 | AI17: 154 | AJ17: 141 | AK17: =AI17/AG17 -> 0.61111111 | AL17: =AI17/AH17 -> 0.73333333 | AM17: 246 | AN17: 231 | AO17: 167 | AP17: 141 | AQ17: 126 | AR17: =AP17/AN17 -> 0.61038961 | AS17: =AP17/AO17 -> 0.84431138 | AT17: 254 | AU17: 241 | AV17: 196 | AW17: 144 | AX17: 124 | AY17: =AW17/AU17 -> 0.59751037 | AZ17: =AW17/AV17 -> 0.73469388 | BA17: 140 | BB17: 130 | BC17: 102 | BD17: 102 | BE17: 90 | BF17: =BD17/BB17 -> 0.78461538 | BG17: =BD17/BC17 -> 1 | BH17: 162 | BI17: 153 | BJ17: 107 | BK17: 84 | BL17: 78 | BM17: =BK17/BI17 -> 0.54901961 | BN17: =BK17/BJ17 -> 0.78504673 | BO17: 158 | BP17: 150 | BQ17: 115 | BR17: 91 | BS17: 89 | BT17: =BR17/BP17 -> 0.60666667 | BU17: =BR17/BQ17 -> 0.79130435 | BV17: 166 | BW17: 152 | BX17: 107 | BY17: 85 | BZ17: 84 | CA17: =BY17/BW17 -> 0.55921053 | CB17: =BY17/BX17 -> 0.79439252 | CC17: 173 | CD17: 168 | CE17: 160 | CF17: 113 | CG17: 112 | CH17: =CF17/CD17 -> 0.67261905 | CI17: =CF17/CE17 -> 0.70625 | CJ17: 153 | CK17: 144 | CL17: 97 | CM17: 85 | CN17: 85 | CO17: =CM17/CK17 -> 0.59027778 | CP17: =CM17/CL17 -> 0.87628866 | CQ17: 0.63888889 | CR17: 0.94845361 | CS17: 127 | CT17: 124 | CU17: 98 | CV17: 74 | CW17: 74 | CX17: =CV17/CT17 -> 0.59677419 | CY17: =CV17/CU17 -> 0.75510204 | CZ17: 0.72580645 | DA17: 0.91836735 | DB17: 490 | DC17: 473 | DD17: 449 | DE17: 366 | DF17: 362 | DG17: =DE17/DC17 -> 0.77378436 | DH17: =DE17/DD17 -> 0.81514477 | DI17: 0.94503171 | DJ17: 0.99554566 | DK17: 302 | DL17: 280 | DM17: 219 | DN17: 154 | DO17: 146 | DP17: =DN17/DL17 -> 0.55 | DQ17: =DN17/DM17 -> 0.70319635 | DR17: 0.71071429 | DS17: 0.9086758 | DT17: 228 | DU17: 215 | DV17: 147 | DW17: 112 | DX17: 104 | DY17: =DW17/DU17 -> 0.52093023 | DZ17: =DW17/DV17 -> 0.76190476 | EA17: 0.58604651 | EB17: 0.85714286
A18: Univerzita Karlova | B18: 11270 | C18: Evangelická teologická fakulta | D18: 366 | E18: 363 | F18: 302 | G18: 269 | H18: 235 | I18: =G18/E18 -> 0.74104683 | J18: =G18/F18 -> 0.89072848 | K18: 342 | L18: 332 | M18: 296 | N18: 272 | O18: 216 | P18: =N18/L18 -> 0.81927711 | Q18: =N18/M18 -> 0.91891892 | R18: 342 | S18: 338 | T18: 296 | U18: 234 | V18: 200 | W18: =U18/S18 -> 0.69230769 | X18: =U18/T18 -> 0.79054054 | Y18: 261 | Z18: 258 | AA18: 245 | AB18: 228 | AC18: 172 | AD18: =AB18/Z18 -> 0.88372093 | AE18: =AB18/AA18 -> 0.93061224 | AF18: 281 | AG18: 274 | AH18: 239 | AI18: 182 | AJ18: 163 | AK18: =AI18/AG18 -> 0.66423358 | AL18: =AI18/AH18 -> 0.76150628 | AM18: 220 | AN18: 219 | AO18: 185 | AP18: 172 | AQ18: 159 | AR18: =AP18/AN18 -> 0.78538813 | AS18: =AP18/AO18 -> 0.92972973 | AT18: 257 | AU18: 257 | AV18: 193 | AW18: 163 | AX18: 144 | AY18: =AW18/AU18 -> 0.63424125 | AZ18: =AW18/AV18 -> 0.84455959 | BA18: 179 | BB18: 177 | BC18: 130 | BD18: 113 | BE18: 89 | BF18: =BD18/BB18 -> 0.63841808 | BG18: =BD18/BC18 -> 0.86923077 | BH18: 203 | BI18: 201 | BJ18: 201 | BK18: 154 | BL18: 128 | BM18: =BK18/BI18 -> 0.76616915 | BN18: =BK18/BJ18 -> 0.76616915 | BO18: 181 | BP18: 173 | BQ18: 143 | BR18: 88 | BS18: 79 | BT18: =BR18/BP18 -> 0.50867052 | BU18: =BR18/BQ18 -> 0.61538462 | BV18: 113 | BW18: 111 | BX18: 88 | BY18: 73 | BZ18: 65 | CA18: =BY18/BW18 -> 0.65765766 | CB18: =BY18/BX18 -> 0.82954545 | CC18: 98 | CD18: 97 | CE18: 97 | CF18: 97 | CG18: 78 | CH18: =CF18/CD18 -> 1 | CI18: =CF18/CE18 -> 1 | CJ18: 109 | CK18: 107 | CL18: 107 | CM18: 100 | CN18: 79 | CO18: =CM18/CK18 -> 0.93457944 | CP18: =CM18/CL18 -> 0.93457944 | CQ18: 0.97196262 | CR18: 0.97196262 | CS18: 142 | CT18: 137 | CU18: 126 | CV18: 109 | CW18: 94 | CX18: =CV18/CT18 -> 0.79562044 | CY18: =CV18/CU18 -> 0.86507937 | CZ18: 0.89051095 | DA18: 0.96825397 | DB18: 195 | DC18: 189 | DD18: 168 | DE18: 140 | DF18: 122 | DG18: =DE18/DC18 -> 0.74074074 | DH18: =DE18/DD18 -> 0.83333333 | DI18: 0.88888889 | DJ18: 1 | DK18: 205 | DL18: 199 | DM18: 119 | DN18: 96 | DO18: 89 | DP18: =DN18/DL18 -> 0.48241206 | DQ18: =DN18/DM18 -> 0.80672269 | DR18: 0.49748744 | DS18: 0.83193277 | DT18: 195 | DU18: 183 | DV18: 122 | DW18: 112 | DX18: 104 | DY18: =DW18/DU18 -> 0.61202186 | DZ18: =DW18/DV18 -> 0.91803279 | EA18: 0.61202186 | EB18: 0.91803279
... A23: Univerzita Karlova | B23: 11510 | C23: Fakulta tělesné výchovy a sportu | D23: 1649 | E23: 1479 | F23: 1174 | G23: 518 | H23: 446 | I23: =G23/E23 -> 0.35023665 | J23: =G23/F23 -> 0.44122658 | K23: 1725 | L23: 1542 | M23: 1259 | N23: 546 | O23: 478 | P23: =N23/L23 -> 0.3540856 | Q23: =N23/M23 -> 0.43367752 | R23: 1751 | S23: 1558 | T23: 1310 | U23: 524 | V23: 480 | W23: =U23/S23 -> 0.33632863 | X23: =U23/T23 -> 0.4 | Y23: 2293 | Z23: 1933 | AA23: 1699 | AB23: 481 | AC23: 426 | AD23: =AB23/Z23 -> 0.24883601 | AE23: =AB23/AA23 -> 0.28310771 | AF23: 2295 | AG23: 1924 | AH23: 1671 | AI23: 476 | AJ23: 425 | AK23: =AI23/AG23 -> 0.24740125 | AL23: =AI23/AH23 -> 0.28485937 | AM23: 2356 | AN23: 1990 | AO23: 1728 | AP23: 520 | AQ23: 462 | AR23: =AP23/AN23 -> 0.26130653 | AS23: =AP23/AO23 -> 0.30092593 | AT23: 2057 | AU23: 1732 | AV23: 1494 | AW23: 517 | AX23: 462 | AY23: =AW23/AU23 -> 0.29849885 | AZ23: =AW23/AV23 -> 0.34605087 | BA23: 2083 | BB23: 1736 | BC23: 1445 | BD23: 466 | BE23: 428 | BF23: =BD23/BB23 -> 0.26843318 | BG23: =BD23/BC23 -> 0.32249135 | BH23: 2140 | BI23: 1785 | BJ23: 1429 | BK23: 494 | BL23: 453 | BM23: =BK23/BI23 -> 0.2767507 | BN23: =BK23/BJ23 -> 0.34569629 | BO23: 2056 | BP23: 1735 | BQ23: 1369 | BR23: 500 | BS23: 448 | BT23: =BR23/BP23 -> 0.28818444 | BU23: =BR23/BQ23 -> 0.36523009 | BV23: 2354 | BW23: 1872 | BX23: 1577 | BY23: 496 | BZ23: 475 | CA23: =BY23/BW23 -> 0.26495726 | CB23: =BY23/BX23 -> 0.31452124 | CC23: 2155 | CD23: 1738 | CE23: 1440 | CF23: 624 | CG23: 598 | CH23: =CF23/CD23 -> 0.35903337 | CI23: =CF23/CE23 -> 0.43333333 | CJ23: 2275 | CK23: 1816 | CL23: 1648 | CM23: 584 | CN23: 562 | CO23: =CM23/CK23 -> 0.3215859 | CP23: =CM23/CL23 -> 0.35436893 | CQ23: 0.37665198 | CR23: 0.41504854 | CS23: 2418 | CT23: 1866 | CU23: 1538 | CV23: 582 | CW23: 517 | CX23: =CV23/CT23 -> 0.31189711 | CY23: =CV23/CU23 -> 0.37841352 | CZ23: 0.35316184 | DA23: 0.42847854 | DB23: 2547 | DC23: 1968 | DD23: 1683 | DE23: 663 | DF23: 618 | DG23: =DE23/DC23 -> 0.33689024 | DH23: =DE23/DD23 -> 0.39393939 | DI23: 0.40447154 | DJ23: 0.47296494 | DK23: 2591 | DL23: 2001 | DM23: 1744 | DN23: 593 | DO23: 578 | DP23: =DN23/DL23 -> 0.29635182 | DQ23: =DN23/DM23 -> 0.34002294 | DR23: 0.38330835 | DS23: 0.43979358 | DT23: 2923 | DU23: 2195 | DV23: 1907 | DW23: 616 | DX23: 596 | DY23: =DW23/DU23 -> 0.28063781 | DZ23: =DW23/DV23 -> 0.32302045 | EA23: 0.31890661 | EB23: 0.36706869
A24: Jihočeská univerzita v Českých Budějovicích | B24: 12000 | D24: 11811 | E24: 8374 | F24: 7604 | G24: 5160 | H24: 3782 | I24: =G24/E24 -> 0.61619298 | J24: =G24/F24 -> 0.67859022 | K24: 11466 | L24: 8090 | M24: 7371 | N24: 5162 | O24: 3849 | P24: =N24/L24 -> 0.63807169 | Q24: =N24/M24 -> 0.70031203 | R24: 12112 | S24: 8398 | T24: 7804 | U24: 5504 | V24: 4017 | W24: =U24/S24 -> 0.65539414 | X24: =U24/T24 -> 0.70527934 | Y24: 11193 | Z24: 7901 | AA24: 7390 | AB24: 5215 | AC24: 3842 | AD24: =AB24/Z24 -> 0.66004303 | AE24: =AB24/AA24 -> 0.70568336 | AF24: 9788 | AG24: 6950 | AH24: 6336 | AI24: 4535 | AJ24: 3390 | AK24: =AI24/AG24 -> 0.65251799 | AL24: =AI24/AH24 -> 0.71575126 | AM24: 9389 | AN24: 6777 | AO24: 6142 | AP24: 4182 | AQ24: 3214 | AR24: =AP24/AN24 -> 0.61708721 | AS24: =AP24/AO24 -> 0.6808857 | AT24: 8504 | AU24: 6099 | AV24: 5398 | AW24: 3671 | AX24: 2878 | AY24: =AW24/AU24 -> 0.60190195 | AZ24: =AW24/AV24 -> 0.68006669 | BA24: 8074 | BB24: 5778 | BC24: 5141 | BD24: 3605 | BE24: 2856 | BF24: =BD24/BB24 -> 0.62391831 | BG24: =BD24/BC24 -> 0.70122544 | BH24: 7408 | BI24: 5331 | BJ24: 4720 | BK24: 3395 | BL24: 2626 | BM24: =BK24/BI24 -> 0.63684112 | BN24: =BK24/BJ24 -> 0.71927966 | BO24: 6536 | BP24: 4736 | BQ24: 4203 | BR24: 3110 | BS24: 2416 | BT24: =BR24/BP24 -> 0.6566723 | BU24: =BR24/BQ24 -> 0.73994766 | BV24: 6691 | BW24: 4828 | BX24: 4304 | BY24: 3151 | BZ24: 2544 | CA24: =BY24/BW24 -> 0.6526512 | CB24: =BY24/BX24 -> 0.73210967 | CC24: 6732 | CD24: 4880 | CE24: 4553 | CF24: 3714 | CG24: 2684 | CH24: =CF24/CD24 -> 0.76106557 | CI24: =CF24/CE24 -> 0.8157259 | CJ24: 6915 | CK24: 4980 | CL24: 4658 | CM24: 3754 | CN24: 2653 | CO24: =CM24/CK24 -> 0.75381526 | CP24: =CM24/CL24 -> 0.80592529 | CQ24: 0.7937751 | CR24: 0.84864749 | CS24: 7426 | CT24: 5245 | CU24: 4692 | CV24: 3700 | CW24: 2556 | CX24: =CV24/CT24 -> 0.70543375 | CY24: =CV24/CU24 -> 0.7885763 | CZ24: 0.7422307 | DA24: 0.82971014 | DB24: 8376 | DC24: 5696 | DD24: 5035 | DE24: 3758 | DF24: 2739 | DG24: =DE24/DC24 -> 0.65976124 | DH24: =DE24/DD24 -> 0.74637537 | DI24: 0.73771067 | DJ24: 0.83455809 | DK24: 8728 | DL24: 5858 | DM24: 5140 | DN24: 3671 | DO24: 2670 | DP24: =DN24/DL24 -> 0.62666439 | DQ24: =DN24/DM24 -> 0.71420233 | DR24: 0.71355411 | DS24: 0.81322957 | DT24: 9342 | DU24: 6247 | DV24: 5523 | DW24: 3973 | DX24: 3072 | DY24: =DW24/DU24 -> 0.63598527 | DZ24: =DW24/DV24 -> 0.71935542 | EA24: 0.70481831 | EB24: 0.79721166
A25: Jihočeská univerzita v Českých Budějovicích | B25: 12110 | C25: Zdravotně sociální fakulta | D25: 2170 | E25: 1723 | F25: 1520 | G25: 794 | H25: 642 | I25: =G25/E25 -> 0.46082414 | J25: =G25/F25 -> 0.52236842 | K25: 2357 | L25: 1822 | M25: 1586 | N25: 785 | O25: 634 | P25: =N25/L25 -> 0.43084523 | Q25: =N25/M25 -> 0.49495586 | R25: 2087 | S25: 1619 | T25: 1434 | U25: 875 | V25: 680 | W25: =U25/S25 -> 0.54045707 | X25: =U25/T25 -> 0.61018131 | Y25: 1984 | Z25: 1526 | AA25: 1344 | AB25: 886 | AC25: 719 | AD25: =AB25/Z25 -> 0.58060288 | AE25: =AB25/AA25 -> 0.65922619 | AF25: 2005 | AG25: 1583 | AH25: 1323 | AI25: 811 | AJ25: 668 | AK25: =AI25/AG25 -> 0.51231838 | AL25: =AI25/AH25 -> 0.61300076 | AM25: 1743 | AN25: 1375 | AO25: 1212 | AP25: 941 | AQ25: 714 | AR25: =AP25/AN25 -> 0.68436364 | AS25: =AP25/AO25 -> 0.77640264 | AT25: 1780 | AU25: 1377 | AV25: 1199 | AW25: 868 | AX25: 703 | AY25: =AW25/AU25 -> 0.63035585 | AZ25: =AW25/AV25 -> 0.72393661 | BA25: 1804 | BB25: 1400 | BC25: 1252 | BD25: 862 | BE25: 663 | BF25: =BD25/BB25 -> 0.61571429 | BG25: =BD25/BC25 -> 0.6884984 | BH25: 1638 | BI25: 1282 | BJ25: 1102 | BK25: 744 | BL25: 561 | BM25: =BK25/BI25 -> 0.58034321 | BN25: =BK25/BJ25 -> 0.67513612 | BO25: 1155 | BP25: 923 | BQ25: 819 | BR25: 616 | BS25: 466 | BT25: =BR25/BP25 -> 0.66738895 | BU25: =BR25/BQ25 -> 0.75213675 | BV25: 1304 | BW25: 1036 | BX25: 910 | BY25: 659 | BZ25: 503 | CA25: =BY25/BW25 -> 0.63610039 | CB25: =BY25/BX25 -> 0.72417582 | CC25: 1271 | CD25: 1008 | CE25: 961 | CF25: 840 | CG25: 509 | CH25: =CF25/CD25 -> 0.83333333 | CI25: =CF25/CE25 -> 0.87408949 | CJ25: 1248 | CK25: 989 | CL25: 969 | CM25: 838 | CN25: 559 | CO25: =CM25/CK25 -> 0.84732053 | CP25: =CM25/CL25 -> 0.86480908 | CQ25: 0.84732053 | CR25: 0.86480908 | CS25: 1265 | CT25: 958 | CU25: 846 | CV25: 708 | CW25: 455 | CX25: =CV25/CT25 -> 0.73903967 | CY25: =CV25/CU25 -> 0.83687943 | CZ25: 0.73903967 | DA25: 0.83687943 | DB25: 1486 | DC25: 1110 | DD25: 961 | DE25: 775 | DF25: 539 | DG25: =DE25/DC25 -> 0.6981982 | DH25: =DE25/DD25 -> 0.80645161 | DI25: 0.6981982 | DJ25: 0.80645161 | DK25: 1806 | DL25: 1325 | DM25: 1137 | DN25: 840 | DO25: 529 | DP25: =DN25/DL25 -> 0.63396226 | DQ25: =DN25/DM25 -> 0.73878628 | DR25: 0.63396226 | DS25: 0.73878628 | DT25: 1989 | DU25: 1456 | DV25: 1258 | DW25: 942 | DX25: 693 | DY25: =DW25/DU25 -> 0.64697802 | DZ25: =DW25/DV25 -> 0.74880763 | EA25: 0.68131868 | EB25: 0.78855326
A26: Jihočeská univerzita v Českých Budějovicích | B26: 12210 | C26: Filozofická fakulta | D26: 1028 | E26: 839 | F26: 786 | G26: 545 | H26: 306 | I26: =G26/E26 -> 0.64958284 | J26: =G26/F26 -> 0.69338422 | K26: 1003 | L26: 833 | M26: 788 | N26: 469 | O26: 283 | P26: =N26/L26 -> 0.56302521 | Q26: =N26/M26 -> 0.59517766 | R26: 1021 | S26: 814 | T26: 741 | U26: 497 | V26: 275 | W26: =U26/S26 -> 0.61056511 | X26: =U26/T26 -> 0.67071525 | Y26: 875 | Z26: 710 | AA26: 710 | AB26: 449 | AC26: 264 | AD26: =AB26/Z26 -> 0.63239437 | AE26: =AB26/AA26 -> 0.63239437 | AF26: 741 | AG26: 647 | AH26: 511 | AI26: 405 | AJ26: 247 | AK26: =AI26/AG26 -> 0.625966 | AL26: =AI26/AH26 -> 0.7925636 | AM26: 677 | AN26: 583 | AO26: 474 | AP26: 351 | AQ26: 210 | AR26: =AP26/AN26 -> 0.60205832 | AS26: =AP26/AO26 -> 0.74050633 | AT26: 639 | AU26: 542 | AV26: 428 | AW26: 341 | AX26: 203 | AY26: =AW26/AU26 -> 0.62915129 | AZ26: =AW26/AV26 -> 0.79672897 | BA26: 583 | BB26: 497 | BC26: 373 | BD26: 301 | BE26: 188 | BF26: =BD26/BB26 -> 0.6056338 | BG26: =BD26/BC26 -> 0.80697051 | BH26: 471 | BI26: 414 | BJ26: 312 | BK26: 236 | BL26: 141 | BM26: =BK26/BI26 -> 0.57004831 | BN26: =BK26/BJ26 -> 0.75641026 | BO26: 528 | BP26: 438 | BQ26: 358 | BR26: 281 | BS26: 166 | BT26: =BR26/BP26 -> 0.64155251 | BU26: =BR26/BQ26 -> 0.7849162 | BV26: 424 | BW26: 370 | BX26: 286 | BY26: 222 | BZ26: 140 | CA26: =BY26/BW26 -> 0.6 | CB26: =BY26/BX26 -> 0.77622378 | CC26: 619 | CD26: 522 | CE26: 519 | CF26: 378 | CG26: 282 | CH26: =CF26/CD26 -> 0.72413793 | CI26: =CF26/CE26 -> 0.7283237 | CJ26: 716 | CK26: 603 | CL26: 596 | CM26: 427 | CN26: 315 | CO26: =CM26/CK26 -> 0.70812604 | CP26: =CM26/CL26 -> 0.71644295 | CQ26: 0.9668325 | CR26: 0.97818792 | CS26: 868 | CT26: 721 | CU26: 575 | CV26: 442 | CW26: 265 | CX26: =CV26/CT26 -> 0.61303745 | CY26: =CV26/CU26 -> 0.76869565 | CZ26: 0.73647712 | DA26: 0.92347826 | DB26: 1043 | DC26: 841 | DD26: 676 | DE26: 516 | DF26: 354 | DG26: =DE26/DC26 -> 0.61355529 | DH26: =DE26/DD26 -> 0.76331361 | DI26: 0.78953627 | DJ26: 0.98224852 | DK26: 1108 | DL26: 875 | DM26: 701 | DN26: 499 | DO26: 338 | DP26: =DN26/DL26 -> 0.57028571 | DQ26: =DN26/DM26 -> 0.71184023 | DR26: 0.74628571 | DS26: 0.93152639 | DT26: 1057 | DU26: 852 | DV26: 638 | DW26: 598 | DX26: 393 | DY26: =DW26/DU26 -> 0.70187793 | DZ26: =DW26/DV26 -> 0.93730408 | EA26: 0.70187793 | EB26: 0.93730408
A27: Jihočeská univerzita v Českých Budějovicích | B27: 12220 | C27: Zemědělská fakulta | D27: 1646 | E27: 1373 | F27: 1373 | G27: 1194 | H27: 790 | I27: =G27/E27 -> 0.86962855 | J27: =G27/F27 -> 0.86962855 | K27: 1469 | L27: 1228 | M27: 1228 | N27: 1089 | O27: 700 | P27: =N27/L27 -> 0.88680782 | Q27: =N27/M27 -> 0.88680782 | R27: 1239 | S27: 1022 | T27: 1022 | U27: 1017 | V27: 609 | W27: =U27/S27 -> 0.99510763 | X27: =U27/T27 -> 0.99510763 | Y27: 1162 | Z27: 968 | AA27: 968 | AB27: 940 | AC27: 620 | AD27: =AB27/Z27 -> 0.97107438 | AE27: =AB27/AA27 -> 0.97107438 | AF27: 966 | AG27: 805 | AH27: 805 | AI27: 717 | AJ27: 465 | AK27: =AI27/AG27 -> 0.89068323 | AL27: =AI27/AH27 -> 0.89068323 | AM27: 857 | AN27: 699 | AO27: 699 | AP27: 402 | AQ27: 391 | AR27: =AP27/AN27 -> 0.5751073 | AS27: =AP27/AO27 -> 0.5751073 | AT27: 754 | AU27: 625 | AV27: 625 | AW27: 438 | AX27: 346 | AY27: =AW27/AU27 -> 0.7008 | AZ27: =AW27/AV27 -> 0.7008 | BA27: 712 | BB27: 613 | BC27: 613 | BD27: 498 | BE27: 411 | BF27: =BD27/BB27 -> 0.81239804 | BG27: =BD27/BC27 -> 0.81239804 | BH27: 631 | BI27: 536 | BJ27: 536 | BK27: 426 | BL27: 339 | BM27: =BK27/BI27 -> 0.79477612 | BN27: =BK27/BJ27 -> 0.79477612 | BO27: 541 | BP27: 475 | BQ27: 475 | BR27: 375 | BS27: 302 | BT27: =BR27/BP27 -> 0.78947368 | BU27: =BR27/BQ27 -> 0.78947368 | BV27: 513 | BW27: 439 | BX27: 439 | BY27: 337 | BZ27: 288 | CA27: =BY27/BW27 -> 0.76765376 | CB27: =BY27/BX27 -> 0.76765376 | CC27: 493 | CD27: 427 | CE27: 427 | CF27: 427 | CG27: 297 | CH27: =CF27/CD27 -> 1 | CI27: =CF27/CE27 -> 1 | CJ27: 586 | CK27: 509 | CL27: 509 | CM27: 509 | CN27: 352 | CO27: =CM27/CK27 -> 1 | CP27: =CM27/CL27 -> 1 | CQ27: 1 | CR27: 1 | CS27: 725 | CT27: 613 | CU27: 613 | CV27: 613 | CW27: 398 | CX27: =CV27/CT27 -> 1 | CY27: =CV27/CU27 -> 1 | CZ27: 1 | DA27: 1 | DB27: 669 | DC27: 570 | DD27: 570 | DE27: 570 | DF27: 330 | DG27: =DE27/DC27 -> 1 | DH27: =DE27/DD27 -> 1 | DI27: 1 | DJ27: 1 | DK27: 698 | DL27: 609 | DM27: 609 | DN27: 609 | DO27: 326 | DP27: =DN27/DL27 -> 1 | DQ27: =DN27/DM27 -> 1 | DR27: 1 | DS27: 1 | DT27: 695 | DU27: 596 | DV27: 596 | DW27: 481 | DX27: 337 | DY27: =DW27/DU27 -> 0.80704698 | DZ27: =DW27/DV27 -> 0.80704698 | EA27: 0.98322148 | EB27: 0.98322148
