Workbook

Sheet Obsah
A1: Seznam tabulek a grafů
A3: ='vš_vše CZ'!A1 -> Počet podaných přihlášek, přihlášených, přijatých a zapsaných na VŠ v letech 1999/00–2025/26 (v tis.)
A4: ='vš_vše CZ'!A12 -> Počet přihlášených a zapsaných na VŠ ve vztahu k populaci 18/19letých a k počtu maturantů (v denní formě vzdělávání) v letech 1999/00–2025/26 (v tis.)
A5: ='vš_vše CZ'!A26 -> Počet přihlášených a zapsaných do prezenční formy studia VŠ ve vztahu k populaci 18/19letých a k počtu maturantů (v denní formě vzdělávání) v letech 1999/00–2025/26 (v tis.)
A6: ='vš_vše CZ'!A40 -> Počet podaných přihlášek, přihlášených, přijatých a zapsaných na VŠ v letech 1999/00–2025/26
A7: ='vš_vše CZ'!A63 -> Uchazeči podle počtu podaných přihlášek 1999/00–2025/26
A8: ='vš_vše CZ'!A95 -> Struktura uchazečů podle počtu podaných přihlášek 1999/00–2025/26
A9: ='vš_druh studia '!A1:M1 -> Základní přehled o přijímacím řízení na vysoké školy podle druhu studia v letech 2001/02–2025/26
A10: =vš_programy!A1 -> Počet přihlášek, přihlášených a přijatých ke studiu na VŠ podle skupin studijních programů v letech 1999/00–2017/18
A11: ='vš_věk x dfst'!A1 -> Struktura přihlášených, přijatých a zapsaných na VŠ podle věku a formy studia pro roky 1999/00–2025/2026
A12: =vš_věk!A1 -> Struktura přihlášených uchazečů o prezenční studium na VŠ podle věku v letech 1999/00–2025/26
A13: =vš_věk!A19 -> Uchazeči o prezenční studium na VŠ podle věku v letech 1999/00–2025/26
A14: =vš_sex!A1 -> Počet přihlášek, přihlášených, přijetí, přijatých, zapsání a zapsaných podle pohlaví v letech 1999/00–2025/26
A15: =vš_fakulty_tisk!A1 -> Přijímací řízení na VŠ – podle fakult v letech 2010/11–2025/26
A59: Ležatá čárka ( - ) na místě čísla značí, že jev se nevyskytoval
A60: Tečka ( . ) na místě čísla značí, že údaj není k dispozici nebo je nespolehlivý
A61: Ležatý křížek ( x ) značí, že zápis není možný z logických důvodů

Sheet vš_vše CZ
A1: Počet podaných přihlášek, přihlášených, přijatých a zapsaných na VŠ v letech 1999/00–2025/26 (v tis.)
B3: 1999/2000 | C3: 2000/01 | D3: 2001/02 | E3: 2002/03 | F3: 2003/04 | G3: 2004/05 | H3: 2005/06 | I3: 2006/07 | J3: 2007/08 | K3: 2008/09 | L3: 2009/10 | M3: 2010/11 | N3: 2011/12 | O3: 2012/13 | P3: 2013/14 | Q3: 2014/15 | R3: 2015/16 | S3: 2016/17 | T3: 2017/18 | U3: 2018/19 | V3: 2019/20 | W3: 2020/21 | X3: 2021/22 | Y3: 2022/23 | Z3: 2023/24 | AA3: 2024/25 | AB3: 2025/26
A4: počet podaných přihlášek | B4: 233.8 | C4: 208.2 | D4: 237.452 | E4: 234 | F4: 253.3 | G4: 285 | H4: 294.8 | I4: 303.3 | J4: 323.7 | K4: 320.365 | L4: =324993/1000 -> 324.993 | M4: 331.536 | N4: 330.066 | O4: 309.452 | P4: 291 | Q4: 260.467 | R4: 243.718 | S4: 224.151 | T4: 213.317 | U4: 204.053 | V4: 211.447 | W4: 211.447 | X4: 228.483 | Y4: 229.775 | Z4: 246.7878 | AA4: 256.025 | AB4: 271.183
A5: přihlášené osoby | B5: 105.4 | C5: 103.5 | D5: 105 | E5: 108.8 | F5: 117.5 | G5: 130.4 | H5: 130.9 | I5: 137.8 | J5: 146.8 | K5: 147.276 | L5: =146620/1000 -> 146.62 | M5: 150.588 | N5: 149.613 | O5: =+'vš_druh studia '!E93/1000 -> 141.054 | P5: =+'vš_druh studia '!E101/1000 -> 134.257 | Q5: 121.761 | R5: 113.093 | S5: 102.791 | T5: 97.998 | U5: 95.137 | V5: 98.127 | W5: 98.868 | X5: 102.355 | Y5: 100.738 | Z5: 104.596 | AA5: 107.14 | AB5: 111.357
A6: přihlášené osoby, které se dostavily k p.ř. | B6: . | C6: 94.1 | D6: 90 | E6: 98.3 | F6: 107.2 | G6: 119.4 | H6: 119.7 | I6: 127.1 | J6: 135.2 | K6: 136.116 | L6: =136767/1000 -> 136.767 | M6: 140.072 | N6: 139.28 | O6: =+'vš_druh studia '!H93/1000 -> 130.728 | P6: =+'vš_druh studia '!H101/1000 -> 123.766 | Q6: 111.374 | R6: 103.442 | S6: 94.068 | T6: 90.528 | U6: 88.116 | V6: 91.75 | W6: 94.769 | X6: 97.078 | Y6: 93.791 | Z6: 97.645 | AA6: 100.192 | AB6: 104.652
A7: počet přijatých osob | B7: 47.4 | C7: 45.2 | D7: 54.676 | E7: 61.1 | F7: 69.6 | G7: 75.6 | H7: 80 | I7: 89.1 | J7: 97.2 | K7: 104.003 | L7: =105570/1000 -> 105.57 | M7: 106.437 | N7: 103.761 | O7: =+'vš_druh studia '!K93/1000 -> 98.261 | P7: =+'vš_druh studia '!K101/1000 -> 93.714 | Q7: 84.764 | R7: 80.302 | S7: 74.767 | T7: 74.623 | U7: 73.35 | V7: 77.485 | W7: 79.8 | X7: 79.621 | Y7: 76.138 | Z7: 78.75 | AA7: 81.428 | AB7: 86.281
A8: počet zapsaných osob | B8: 43.2 | C8: 43.7 | D8: 52.527 | E8: 58.3 | F8: 66.5 | G8: 72.2 | H8: 76.2 | I8: 85.5 | J8: 92.7 | K8: 98.726 | L8: =99818/1000 -> 99.818 | M8: 100.676 | N8: 97.837 | O8: =+'vš_druh studia '!L93/1000 -> 92.428 | P8: =+'vš_druh studia '!L101/1000 -> 88.109 | Q8: 79.073 | R8: 74.833 | S8: 69.839 | T8: 69.911 | U8: 68.753 | V8: 72.73 | W8: 75.605 | X8: 75.265 | Y8: 72.713 | Z8: 75.215 | AA8: 77.671 | AB8: 82.323
A10: Údaje za všechny formy a druhy studia.
A12: Počet přihlášených a zapsaných na VŠ ve vztahu k populaci 18/19letých a k počtu maturantů (v denní formě vzdělávání) v letech 1999/00–2025/26 (v tis.)
B14: 1999/00 | C14: 2000/01 | D14: 2001/02 | E14: 2002/03 | F14: 2003/04 | G14: 2004/05 | H14: 2005/06 | I14: 2006/07 | J14: 2007/08 | K14: 2008/09 | L14: 2009/10 | M14: 2010/11 | N14: 2011/12 | O14: 2012/13 | P14: 2013/14 | Q14: 2014/15 | R14: 2015/16 | S14: 2016/17 | T14: =T3 -> 2017/18 | U14: 2018/19 | V14: 2019/20 | W14: 2019/20 | X14: 2021/22 | Y14: 2022/23 | Z14: 2023/24 | AA14: 2024/25 | AB14: 2025/26
A15: přihlášení v tis. | B15: 105.4 | C15: 103.5 | D15: 105 | E15: 108.8 | F15: 117.5 | G15: 130.4 | H15: 130.9 | I15: 137.8 | J15: 146.8 | K15: 147.276 | L15: 146.62 | M15: 150.588 | N15: =+N5 -> 149.613 | O15: =+O5 -> 141.054 | P15: =+P5 -> 134.257 | Q15: =+Q5 -> 121.761 | R15: =+R5 -> 113.093 | S15: =+S5 -> 102.791 | T15: =+T5 -> 97.998 | U15: =+U5 -> 95.137 | ... Z15: =+Z5 -> 104.596 | AA15: 107.14 | AB15: 111.357
A16: podíl na počtu 18/19letých* | B16: =B15/B21 -> 0.74620526 | C16: =C15/C21 -> 0.74612878 | D16: =D15/D21 -> 0.75158907 | E16: =E15/E21 -> 0.80635001 | F16: =F15/F21 -> 0.86538957 | G16: =G15/G21 -> 0.96236162 | H16: =H15/H21 -> 0.98377412 | I16: =I15/I21 -> 1.0493531 | J16: =J15/J21 -> 1.0878425 | K16: 1.1390255 | L16: =L15/L21 -> 1.1061069 | M16: =M15/M21 -> 1.1513284 | N16: =N15/N21 -> 1.2121676 | O16: =O15/O21 -> 1.148564 | P16: =P15/P21 -> 1.231275 | Q16: =Q15/Q21 -> 1.2327357 | R16: =R15/R21 -> 1.2114684 | S16: =S15/S21 -> 1.1037249 | ... AB16: =AB15/AB21 -> 0.89788102
A17: podíl na počtu maturantů | B17: =B15/B22 -> 1.1577329 | C17: =C15/C22 -> 2.951577 | D17: =D15/D22 -> 1.435976 | E17: =E15/E22 -> 1.4684843 | F17: =F15/F22 -> 1.4810053 | G17: =G15/G22 -> 1.5965718 | H17: =H15/H22 -> 1.5456735 | I17: =I15/I22 -> 1.61398 | J17: =J15/J22 -> 1.7113746 | K17: 1.6510762 | L17: =L15/L22 -> 1.7474316 | M17: =M15/M22 -> 1.8576433 | N17: =N15/N22 -> 2.006343 | O17: =O15/O22 -> 1.9427052 | P17: =P15/P22 -> 1.9172176 | Q17: =Q15/Q22 -> 2.0027798 | R17: =R15/R22 -> 2.0151637 | S17: =S15/S22 -> 1.9640592 | ... AB17: =AB15/AB22 -> 1.5854464
A18: zapsaní v tis. | B18: 43.2 | C18: 43.7 | D18: 52.527 | E18: 58.3 | F18: 66.5 | G18: 72.2 | H18: 76.2 | I18: 85.5 | J18: 92.7 | K18: 98.726 | L18: 99.818 | M18: 100.676 | N18: =+N8 -> 97.837 | O18: =+O8 -> 92.428 | P18: =+P8 -> 88.109 | Q18: =+Q8 -> 79.073 | R18: =+R8 -> 74.833 | S18: =+S8 -> 69.839 | T18: =+T8 -> 69.911 | U18: =+U8 -> 68.753 | V18: 72.73 | W18: 75.605 | X18: =+X8 -> 75.265 | Y18: =+Y8 -> 72.713 | Z18: =+Z8 -> 75.215 | AA18: =+AA8 -> 77.671 | AB18: =+AB8 -> 82.323
A19: podíl na počtu 18/19letých* | B19: =B18/B21 -> 0.30584504 | C19: =C18/C21 -> 0.31503215 | D19: =D18/D21 -> 0.3759878 | E19: =E18/E21 -> 0.43207909 | F19: =F18/F21 -> 0.48977367 | G19: =G18/G21 -> 0.53284133 | H19: =H18/H21 -> 0.57267829 | I19: =I18/I21 -> 0.65108629 | J19: =J18/J21 -> 0.68694144 | K19: 0.76354215 | L19: =L18/L21 -> 0.75303082 | M19: =M18/M21 -> 0.76972361 | N19: =N18/N21 -> 0.79267739 | O19: =O18/O21 -> 0.75261585 | P19: =P18/P21 -> 0.80805033 | Q19: =Q18/Q21 -> 0.80055278 | R19: =R18/R21 -> 0.80162182 | S19: =S18/S21 -> 0.74990068 | ... AB19: =AB18/AB21 -> 0.66377739
A20: podíl na počtu maturantů | B20: =B18/B22 -> 0.4745167 | C20: =C18/C22 -> 1.2462214 | D20: =D18/D22 -> 0.71835724 | E20: =E18/E22 -> 0.78688082 | F20: =F18/F22 -> 0.83818599 | G20: =G18/G22 -> 0.88399143 | H20: =H18/H22 -> 0.89977329 | I20: =I18/I22 -> 1.0014172 | J20: =J18/J22 -> 1.0806841 | K20: 1.1067937 | L20: =L18/L22 -> 1.1896408 | M20: =M18/M22 -> 1.2419323 | N20: =N18/N22 -> 1.3120156 | O20: =O18/O22 -> 1.2729902 | P20: =P18/P22 -> 1.2582147 | Q20: =Q18/Q22 -> 1.3006283 | R20: =R18/R22 -> 1.3334224 | S20: =S18/S22 -> 1.3344352 | ... AB20: =AB18/AB22 -> 1.1720745
A21: 18/19letí k 31.12.* | B21: 141.248 | C21: 138.716 | D21: 139.704 | E21: 134.929 | F21: 135.777 | G21: 135.5 | H21: 133.059 | I21: 131.319 | J21: 134.946 | K21: 131.517 | L21: 132.555 | M21: 130.795 | N21: 123.426 | O21: 122.809 | P21: 109.039 | Q21: 98.773 | R21: 93.352 | S21: 93.131 | T21: 92.799 | U21: 92.144 | V21: 94.396 | W21: 95.638 | X21: 96.895 | Y21: 103.679 | Z21: 110.906 | AA21: 116.665 | AB21: 124.022
A22: maturanti v předch. roce (denní forma vzdělávání) | B22: 91.04 | C22: 35.066 | D22: 73.121 | E22: 74.09 | F22: 79.338 | G22: 81.675 | H22: 84.688 | I22: 85.379 | J22: 85.779 | K22: 84.318 | L22: 83.906 | M22: 81.064 | N22: 74.57 | O22: 72.607 | P22: 70.027 | Q22: 60.796 | R22: 56.121 | S22: 52.336 | T22: 52.455 | U22: 52.764 | V22: 54.534 | W22: 57.572 | X22: 62.004 | Y22: 58.849 | Z22: 62.266 | AA22: 66.665 | AB22: 70.237
A24: * Do roku 2000 populace 18letých, od roku 2001 populace 19letých. V roce 2022 a 2023 jsou do stavu započítány i osoby s ukrajinským státním občanstvím v režimu dočasné ochrany.
A26: Počet přihlášených a zapsaných do prezenční formy studia VŠ ve vztahu k populaci 18/19letých a k počtu maturantů (v denní formě vzdělávání) v letech 1999/00–2025/26 (v tis.)
B28: 1999/00 | C28: 2000/01 | D28: 2001/02 | E28: 2002/03 | F28: 2003/04 | G28: 2004/05 | H28: 2005/06 | I28: 2006/07 | J28: 2007/08 | K28: 2008/09 | L28: 2009/10 | M28: 2010/11 | N28: 2011/12 | O28: 2012/13 | P28: 2013/14 | Q28: 2014/15 | R28: 2015/16 | S28: 2016/17 | T28: =T3 -> 2017/18 | U28: 2018/19 | V28: 2019/20 | W28: 2019/20 | X28: 2021/22 | Y28: 2022/23 | Z28: 2023/24 | AA28: 2024/25 | AB28: 2025/26
A29: přihlášení v tis. | B29: 90.6 | C29: 78.074 | D29: 82.297 | E29: 83.67 | F29: 91.166 | G29: 94.63 | H29: 94.3 | I29: 96.7 | J29: 99.4 | K29: 98.695 | L29: 100.56 | M29: 105.507 | N29: 104.008 | O29: =+'vš_druh studia '!E94/1000 -> 101.3 | P29: =+'vš_druh studia '!E102/1000 -> 97.666 | Q29: 87.643 | R29: 81.872 | S29: 75.528 | T29: 72.525 | U29: 71.584 | V29: 75.21 | W29: 75.82 | X29: 76.893 | Y29: 78.926 | Z29: 82.259 | AA29: 85.716 | AB29: 90.335
A30: podíl na počtu 18/19letých* | B30: =B29/B35 -> 0.64164306 | C30: =C29/C35 -> 0.56289834 | D30: =D29/D35 -> 0.58909807 | E30: =E29/E35 -> 0.62023721 | F30: =F29/F35 -> 0.67132548 | G30: =G29/G35 -> 0.69837638 | H30: =H29/H35 -> 0.70870817 | I30: =I29/I35 -> 0.73637478 | J30: =J29/J35 -> 0.73659093 | K30: 0.7633024 | L30: =L29/L35 -> 0.75862849 | M30: =M29/M35 -> 0.80665928 | N30: =N29/N35 -> 0.84267496 | O30: =O29/O35 -> 0.82485811 | P30: =P29/P35 -> 0.89569787 | Q30: =Q29/Q35 -> 0.88731738 | R30: =R29/R35 -> 0.8770246 | S30: =S29/S35 -> 0.81098667 | ... Y30: =Y29/Y35 -> 0.76125348 | Z30: 0.74170018 | AA30: =AA29/AA35 -> 0.73471907 | AB30: =AB29/AB35 -> 0.72837884
A31: podíl na počtu maturantů | B31: =B29/B36 -> 0.9956044 | C31: =C29/C36 -> 2.2243305 | D31: =D29/D36 -> 1.125814 | E31: =E29/E36 -> 1.1291498 | F31: =F29/F36 -> 1.1481864 | G31: =G29/G36 -> 1.1586165 | H31: =H29/H36 -> 1.113499 | I31: =I29/I36 -> 1.132597 | J31: =J29/J36 -> 1.1587918 | K31: 1.1064462 | L31: =L29/L36 -> 1.198484 | M31: =M29/M36 -> 1.3015272 | N31: =N29/N36 -> 1.39477 | O31: =O29/O36 -> 1.3951823 | P31: =P29/P36 -> 1.3946906 | Q31: =Q29/Q36 -> 1.4415916 | R31: =R29/R36 -> 1.4588478 | S31: =S29/S36 -> 1.4431367 | ... Y31: =Y29/Y36 -> 1.3411613 | Z31: 1.3210902 | AA31: =AA29/AA36 -> 1.2857721 | AB31: =AB29/AB36 -> 1.2861455
A32: zapsaní v tis. | B32: 39.5 | C32: 35.6 | D32: 43.5 | E32: 47.68 | F32: 54.329 | G32: 56.112 | H32: 58.6 | I32: 63.7 | J32: 66.1 | K32: 69.266 | L32: 70.703 | M32: 72.971 | N32: 71.038 | O32: ='vš_druh studia '!L94/1000 -> 68.406 | P32: =+'vš_druh studia '!L102/1000 -> 66.292 | Q32: 58.603 | R32: 55.306 | S32: 51.929 | T32: 52.223 | U32: 52.278 | V32: 56.504 | W32: 58.513 | X32: 58.123 | Y32: 57.813 | Z32: 60.355 | AA32: 63.139 | AB32: 67.548
A33: podíl na počtu 18/19letých* | B33: =B32/B35 -> 0.27974504 | C33: =C32/C35 -> 0.25666907 | D33: =D32/D35 -> 0.31138153 | E33: =E32/E35 -> 0.353447 | F33: =F32/F35 -> 0.40006627 | G33: =G32/G35 -> 0.4141107 | H33: =H32/H35 -> 0.44040614 | I33: =I32/I35 -> 0.48507832 | J33: =J32/J35 -> 0.48982556 | K33: 0.53569992 | L33: =L32/L35 -> 0.53338614 | M33: =M32/M35 -> 0.55790359 | N33: =N32/N35 -> 0.57555134 | O33: =O32/O35 -> 0.55701129 | P33: =P32/P35 -> 0.60796596 | Q33: =Q32/Q35 -> 0.59330991 | R33: =R32/R35 -> 0.5924458 | S33: =S32/S35 -> 0.55759092 | ... Y33: =Y32/Y35 -> 0.55761533 | Z33: 0.54419959 | AA33: =AA32/AA35 -> 0.54119916 | AB33: =AB32/AB35 -> 0.5446453
A34: podíl na počtu maturantů | B34: =B32/B36 -> 0.43406593 | C34: =C32/C36 -> 1.014245 | D34: =D32/D36 -> 0.59507524 | E34: =E32/E36 -> 0.64345479 | F34: =F32/F36 -> 0.68424433 | G34: =G32/G36 -> 0.68701561 | H34: =H32/H36 -> 0.69195163 | I34: =I32/I36 -> 0.7460851 | J34: =J32/J36 -> 0.77058488 | K34: 0.77652466 | L34: =L32/L36 -> 0.84264534 | M34: =M32/M36 -> 0.9001653 | N34: =N32/N36 -> 0.95263511 | O34: =O32/O36 -> 0.94214056 | P34: =P32/P36 -> 0.94666343 | Q34: =Q32/Q36 -> 0.96392855 | R34: =R32/R36 -> 0.98547781 | S34: =S32/S36 -> 0.99222333 | ... Y34: =Y32/Y36 -> 0.98239562 | Z34: 0.96930909 | AA34: =AA32/AA36 -> 0.94710868 | AB34: =AB32/AB36 -> 0.96171534
A35: 18/19letí k 31.12.* | B35: 141.2 | C35: 138.7 | D35: 139.7 | E35: 134.9 | F35: 135.8 | G35: =+G21 -> 135.5 | H35: =+H21 -> 133.059 | I35: =+I21 -> 131.319 | J35: =+J21 -> 134.946 | K35: =+K21 -> 131.517 | L35: =+L21 -> 132.555 | M35: =+M21 -> 130.795 | N35: =+N21 -> 123.426 | ... X35: =+X21 -> 96.895 | Y35: =Y21 -> 103.679 | Z35: 110.906 | AA35: =AA21 -> 116.665 | AB35: =AB21 -> 124.022
A36: maturanti v předch. roce (denní forma vzdělávání) | B36: 91 | C36: 35.1 | D36: 73.1 | E36: 74.1 | F36: 79.4 | G36: =+G22 -> 81.675 | H36: =+H22 -> 84.688 | I36: =+I22 -> 85.379 | J36: =+J22 -> 85.779 | K36: =+K22 -> 84.318 | L36: =+L22 -> 83.906 | M36: =+M22 -> 81.064 | N36: =+N22 -> 74.57 | ... X36: =+X22 -> 62.004 | Y36: =Y22 -> 58.849 | Z36: 62.266 | AA36: =AA22 -> 66.665 | AB36: =AB22 -> 70.237
A38: * Do roku 2000 populace 18letých, od roku 2001 populace 19letých. V roce 2022 a 2023 jsou do stavu započítány i osoby s ukrajinským státním občanstvím v režimu dočasné ochrany.
A40: Počet podaných přihlášek, přihlášených, přijatých a zapsaných na VŠ v letech 1999/00–2025/26
A63: Uchazeči podle počtu podaných přihlášek 1999/00–2025/26
B65: Násobnost přihlášek | R65: celkem přihlášených
B66: 1 | C66: 2 | D66: 3 | E66: 4 | F66: 5 | G66: 6 | H66: 7 | I66: 8 | J66: 9 | K66: 10 | L66: 11 | M66: 12 | N66: 13 | O66: 14 | P66: 15 a > | Q66: průměr
A67: 1999/00 | B67: 45115 | C67: 24718 | D67: 16884 | E67: 10334 | F67: 5079 | G67: 2077 | H67: 730 | I67: 320 | J67: 108 | K67: 38 | L67: 19 | M67: 7 | N67: 5 | O67: 2 | P67: 1 | Q67: 2.22 | R67: 105437
A68: 2000/01 | B68: 53027 | C68: 22275 | D68: 13383 | E68: 8017 | F68: 3998 | G68: 1759 | H68: 648 | I68: 226 | J68: 87 | K68: 39 | L68: 13 | M68: 4 | N68: 5 | O68: 1 | P68: 3 | Q68: 2 | R68: 103485
A69: 2001/02 | B69: 46603 | C69: 22897 | D69: 15213 | E69: 10170 | F69: 5549 | G69: 2589 | H69: 1134 | I69: 469 | J69: 196 | K69: 99 | L69: 37 | M69: 19 | N69: 9 | O69: 10 | P69: 6 | Q69: 2.26 | R69: 105000
A70: 2002/03 | B70: 50640 | C70: 24203 | D70: 15673 | E70: 9686 | F70: 5015 | G70: 2187 | H70: 894 | I70: 348 | J70: 106 | K70: 57 | L70: 25 | M70: 9 | N70: 2 | O70: 2 | P70: 1 | Q70: 2.15 | R70: 108848
A71: 2003/04 | B71: 54922 | C71: 25900 | D71: 16624 | E71: 10569 | F71: 5609 | G71: 2429 | H71: 898 | I71: 376 | J71: 128 | K71: 42 | L71: 20 | M71: 11 | N71: 4 | O71: 5 | P71: 3 | Q71: 2.2 | R71: 117544
A72: 2004/05 | B72: 61312 | C72: 27698 | D72: 17910 | E72: 11678 | F72: 6575 | G72: 3023 | H72: 1235 | I72: 525 | J72: 210 | K72: 98 | L72: 47 | M72: 19 | N72: 12 | O72: 4 | P72: 7 | Q72: 2.2 | R72: 130353
...

Sheet vš_druh studia 
A1: Základní přehled o přijímacím řízení na vysoké školy podle druhu studia v letech 2001/02–2025/26
A3: Druh a forma studia | D3: Počet podaných přihlášek | E3: Počet přihlášených | F3: Index přihlášek | G3: Počet přihlášek uchazečů, kteří se dostavili k přijímacímu řízení | H3: Počet uchazečů, kteří se dostavili k přijímacímu řízení | I3: Podíl přihlášek uchazečů, kteří se dostavili k přijímacímu řízení | J3: Podíl přihlášených, kteří se dostavili k přijímacímu řízení | K3: Počet přijatých | L3: Počet zapsaných | M3: Počet přijatých / počet přihlášených | N3: Úspěšnost uchazečů*)
A4: 2001/02
A5: Celkem | D5: 237452 | E5: 105000 | F5: =+D5/E5 -> 2.2614476 | G5: 192616 | H5: 94367 | I5: =+G5/D5 -> 0.81117868 | J5: =+H5/E5 -> 0.89873333 | K5: 54676 | L5: 52527 | M5: =+K5/E5 -> 0.52072381 | N5: =K5/H5 -> 0.57939746
A6: v tom | B6: Prezenční studium celkem | D6: 205170 | E6: 82297 | F6: =+D6/E6 -> 2.4930435 | G6: 166679 | H6: 74620 | I6: =+G6/D6 -> 0.8123946 | J6: =+H6/E6 -> 0.90671592 | K6: 45349 | L6: 43529 | M6: =+K6/E6 -> 0.55104074 | N6: =K6/H6 -> 0.60773251
B7: v tom | C7: bakalářské studijní programy | D7: 58921 | E7: 39750 | F7: =+D7/E7 -> 1.4822893 | G7: 48418 | H7: 34331 | I7: =+G7/D7 -> 0.82174437 | J7: =+H7/E7 -> 0.86367296 | K7: 15850 | L7: 12744 | M7: =+K7/E7 -> 0.39874214 | N7: =K7/H7 -> 0.46168186
C8: magisterské studijní programy | D8: 146249 | E8: 67509 | F8: =+D8/E8 -> 2.166363 | G8: 118261 | H8: 60720 | I8: =+G8/D8 -> 0.80862775 | J8: =+H8/E8 -> 0.89943563 | K8: 34468 | L8: 31938 | M8: =+K8/E8 -> 0.51056896 | N8: =K8/H8 -> 0.56765481
B9: Kombinované / distanční studium celkem | D9: 32282 | E9: 26640 | F9: =+D9/E9 -> 1.2117868 | G9: 25937 | H9: 22249 | I9: =+G9/D9 -> 0.80345084 | J9: =+H9/E9 -> 0.83517267 | K9: 9852 | L9: 9204 | M9: =+K9/E9 -> 0.36981982 | N9: =K9/H9 -> 0.44280642
B10: v tom | C10: bakalářské studijní programy | D10: 21699 | E10: 18487 | F10: =+D10/E10 -> 1.1737437 | G10: 17462 | H10: 15639 | I10: =+G10/D10 -> 0.80473755 | J10: =+H10/E10 -> 0.8459458 | K10: 6442 | L10: 5942 | M10: =+K10/E10 -> 0.34846108 | N10: =K10/H10 -> 0.41191892
C11: magisterské studijní programy | D11: 10583 | E11: 9545 | F11: =+D11/E11 -> 1.108748 | G11: 8475 | H11: 7866 | I11: =+G11/D11 -> 0.80081262 | J11: =+H11/E11 -> 0.82409639 | K11: 3562 | L11: 3299 | M11: =+K11/E11 -> 0.37317968 | N11: =K11/H11 -> 0.45283499
A12: 2002/03
A13: Celkem | D13: 234026 | E13: 108848 | F13: =D13/E13 -> 2.1500257 | G13: 191809 | H13: 98337 | I13: =G13/D13 -> 0.81960551 | J13: =+H13/E13 -> 0.90343415 | K13: 61077 | L13: 58342 | M13: =K13/E13 -> 0.56112193 | N13: 0.62109887
A14: v tom | B14: Prezenční studium celkem | D14: 198393 | E14: 83674 | F14: =D14/E14 -> 2.3710233 | G14: 162489 | H14: 76306 | I14: =G14/D14 -> 0.81902587 | J14: =+H14/E14 -> 0.91194397 | K14: 49877 | L14: 47684 | M14: =K14/E14 -> 0.5960872 | N14: 0.65364454
B15: v tom | C15: bakalářské studijní programy | D15: 77180 | E15: 50322 | F15: =D15/E15 -> 1.5337228 | G15: 64201 | H15: 44167 | I15: =G15/D15 -> 0.83183467 | J15: =+H15/E15 -> 0.87768769 | K15: 24946 | L15: 20431 | M15: =K15/E15 -> 0.49572751 | N15: 0.56481083
C16: magisterské studijní programy | D16: 121213 | E16: 61248 | F16: =D16/E16 -> 1.9790524 | G16: 98288 | H16: 54602 | I16: =G16/D16 -> 0.81087012 | J16: =+H16/E16 -> 0.89149033 | K16: 32705 | L16: 29181 | M16: =K16/E16 -> 0.53397662 | N16: 0.33274662
B17: Kombinované / distanční studium celkem | D17: 35633 | E17: 29328 | F17: =D17/E17 -> 1.2149823 | G17: 29320 | H17: 29320 | I17: =G17/D17 -> 0.82283277 | J17: =+H17/E17 -> 0.99972722 | K17: 11874 | L17: 10955 | M17: =K17/E17 -> 0.40486907 | N17: 0.40497954
B18: v tom | C18: bakalářské studijní programy | D18: 26211 | E18: 22278 | F18: =D18/E18 -> 1.1765419 | G18: 21805 | H18: 19150 | I18: =G18/D18 -> 0.83190264 | J18: =+H18/E18 -> 0.85959242 | K18: 8743 | L18: 8008 | M18: =K18/E18 -> 0.39244995 | N18: 0.40096308
C19: magisterské studijní programy | D19: 9421 | E19: 8556 | F19: =D19/E19 -> 1.1010986 | G19: 7515 | H19: 6942 | I19: =G19/D19 -> 0.79768602 | J19: =+H19/E19 -> 0.81136045 | K19: 3278 | L19: 2991 | M19: =K19/E19 -> 0.38312295 | N19: 0.43625233
A20: 2003/04
A21: Celkem | D21: 253273 | E21: 117544 | F21: =D21/E21 -> 2.154708 | G21: 209436 | H21: 107169 | I21: =G21/D21 -> 0.82691799 | J21: =+H21/E21 -> 0.91173518 | K21: 69582 | L21: 66517 | M21: =K21/E21 -> 0.59196556 | N21: 0.64927358
A22: v tom | B22: Prezenční studium celkem | D22: 216092 | E22: 91166 | F22: =D22/E22 -> 2.3703135 | G22: 178490 | H22: 83894 | I22: =G22/D22 -> 0.82599078 | J22: =+H22/E22 -> 0.92023342 | K22: 56930 | L22: 54329 | M22: =K22/E22 -> 0.62446526 | N22: 0.67859442
B23: v tom | C23: bakalářské studijní programy | D23: 122985 | E23: 69258 | F23: =D23/E23 -> 1.7757515 | G23: 101510 | H23: 62211 | I23: =G23/D23 -> 0.82538521 | J23: =+H23/E23 -> 0.89825002 | K23: 39130 | L23: 33296 | M23: =K23/E23 -> 0.56498888 | N23: 0.62898844
C24: magisterské studijní programy | D24: 93107 | E24: 52057 | F24: =D24/E24 -> 1.7885587 | G24: 76980 | H24: 46402 | I24: =G24/D24 -> 0.82679068 | J24: =+H24/E24 -> 0.89136908 | K24: 26368 | L24: 22313 | M24: =K24/E24 -> 0.5065217 | N24: 0.56825137
B25: Kombinované / distanční studium celkem | D25: 37181 | E25: 30806 | F25: =D25/E25 -> 1.2069402 | G25: 30946 | H25: 26589 | I25: =G25/D25 -> 0.83230682 | J25: =+H25/E25 -> 0.86311108 | K25: 13445 | L25: 12530 | M25: =K25/E25 -> 0.43644095 | N25: 0.50566024
B26: v tom | C26: bakalářské studijní programy | D26: 31188 | E26: 26434 | F26: =D26/E26 -> 1.1798441 | G26: 26164 | H26: 22845 | I26: =G26/D26 -> 0.8389124 | J26: =+H26/E26 -> 0.86422789 | K26: 11180 | L26: 10310 | M26: =K26/E26 -> 0.42294015 | N26: 0.48938499
C27: magisterské studijní programy | D27: 5993 | E27: 5595 | F27: =D27/E27 -> 1.0711349 | G27: 4782 | H27: 4546 | I27: =G27/D27 -> 0.79793092 | J27: =+H27/E27 -> 0.81251117 | K27: 2388 | L27: 2253 | M27: =K27/E27 -> 0.42680965 | N27: 0.52529696
A28: 2004/05
A29: Celkem | D29: 284977 | E29: 130353 | F29: 2.1861944 | G29: 240977 | H29: 119446 | I29: 0.84560157 | J29: 0.9163272 | K29: 75613 | L29: 72199 | M29: 0.58006337 | N29: 0.63303083
A30: v tom | B30: Prezenční studium celkem | D30: 233597 | E30: 94630 | F30: 2.4685301 | G30: 197385 | H30: 87705 | I30: 0.84498089 | J30: 0.92682025 | K30: 59036 | L30: 56112 | M30: 0.62386135 | N30: 0.67312012
B31: v tom | C31: bakalářské studijní programy | D31: 158898 | E31: 78931 | F31: 2.0131254 | G31: 134677 | H31: 72271 | I31: 0.84756888 | J31: 0.91562251 | K31: 48224 | L31: 43002 | M31: 0.61096401 | N31: 0.66726626
C32: magisterské studijní programy | D32: 74699 | E32: 41964 | F32: 1.7800734 | G32: 62708 | H32: 37668 | I32: 0.83947576 | J32: 0.89762654 | K32: 17348 | L32: 14116 | M32: 0.41340196 | N32: 0.46055007
B33: Kombinované / distanční studium celkem | D33: 51380 | E33: 40993 | F33: 1.2533847 | G33: 43592 | H33: 35853 | I33: 0.84842351 | J33: 0.87461274 | K33: 17422 | L33: 16494 | M33: 0.42499939 | N33: 0.48592865
B34: v tom | C34: bakalářské studijní programy | D34: 44770 | E34: 36598 | F34: 1.2232909 | G34: 37962 | H34: 31956 | I34: 0.84793388 | J34: 0.87316247 | K34: 15586 | L34: 14710 | M34: 0.42587027 | N34: 0.48773313
C35: magisterské studijní programy | D35: 6610 | E35: 6020 | F35: 1.0980066 | G35: 5630 | H35: 5142 | I35: 0.85173979 | J35: 0.85415282 | K35: 1990 | L35: 1829 | M35: 0.33056478 | N35: 0.38700895
A36: 2005/06
A37: Celkem | D37: 294758 | E37: 130934 | F37: =D37/E37 -> 2.2511953 | G37: 248747 | H37: 119687 | I37: =G37/D37 -> 0.84390246 | J37: =+H37/E37 -> 0.91410176 | K37: 79986 | L37: 76209 | M37: =+K37/E37 -> 0.61088793 | N37: =K37/H37 -> 0.66829313
A38: v tom | B38: Prezenční studium celkem | D38: 240902 | E38: 94259 | F38: =D38/E38 -> 2.5557453 | G38: 204248 | H38: 87652 | I38: =G38/D38 -> 0.84784684 | J38: =+H38/E38 -> 0.9299059 | K38: 61808 | L38: 58625 | M38: =+K38/E38 -> 0.65572518 | N38: =K38/H38 -> 0.70515219
B39: v tom | C39: bakalářské studijní programy | D39: 176307 | E39: 81173 | F39: =D39/E39 -> 2.1719907 | G39: 149650 | H39: 75059 | I39: =G39/D39 -> 0.84880351 | J39: =+H39/E39 -> 0.92467939 | K39: 52791 | L39: 47566 | M39: =+K39/E39 -> 0.65035172 | N39: =K39/H39 -> 0.70332672
C40: magisterské studijní programy | D40: 64595 | E40: 34629 | F40: =D40/E40 -> 1.8653441 | G40: 54598 | H40: 31024 | I40: =G40/D40 -> 0.8452357 | J40: =+H40/E40 -> 0.8958965 | K40: 14332 | L40: 11963 | M40: =+K40/E40 -> 0.41387277 | N40: =K40/H40 -> 0.46196493
B41: Kombinované / distanční studium celkem | D41: 53856 | E41: 42628 | F41: =D41/E41 -> 1.263395 | G41: 44499 | H41: 36659 | I41: =G41/D41 -> 0.82625891 | J41: =+H41/E41 -> 0.85997466 | K41: 19193 | L41: 18048 | M41: =+K41/E41 -> 0.45024397 | N41: =K41/H41 -> 0.52355493
...

Sheet vš_programy
A1: Počet přihlášek, přihlášených a přijatých ke studiu na VŠ podle skupin studijních programů v letech 1999/00–2017/18
A2: Od roku 2018 se postupně přechází na oborovou klasifikaci ISCED. Pokračování v těchto tabulkách již není možné.
A3: Skupiny studijních programů | B3: 1999/00 | C3: 2000/01 | D3: 2001/02 | E3: 2002/03 | F3: 2003/04 | G3: 2004/05 | H3: 2005/06 | I3: 2006/07 | J3: 2007/08 | K3: 2008/09 | L3: 2009/10 | M3: 2010/11 | N3: 2011/12 | O3: 2012/13 | P3: 2013/14 | Q3: 2014/15 | R3: 2015/16 | S3: 2016/17 | T3: 2017/18
A4: Počet podaných přihlášek
A5: Přírodní vědy a nauky | B5: 18612 | C5: 13956 | D5: 21779 | E5: 18108 | F5: 20541 | G5: 20830 | H5: 20076 | I5: 20599 | J5: 21267 | K5: 21298 | L5: 21688 | M5: 23372 | N5: 22877 | O5: 21918 | P5: 21986 | Q5: 20557 | R5: 18486 | S5: 17557 | T5: 17230
A6: Technické vědy a nauky | B6: 42653 | C6: 28740 | D6: 42957 | E6: 44176 | F6: 48571 | G6: 49507 | H6: 48314 | I6: 48542 | J6: 48638 | K6: 47840 | L6: 47089 | M6: 48717 | N6: 48369 | O6: 46979 | P6: 45503 | Q6: 39428 | R6: 36042 | S6: 33214 | T6: 31676
A7: Zemědělsko-lesnické a veterinární vědy a nauky | B7: 6326 | C7: 4766 | D7: 5847 | E7: 7061 | F7: 7516 | G7: 8241 | H7: 8792 | I7: 8980 | J7: 9173 | K7: 9298 | L7: 10078 | M7: 10938 | N7: 10850 | O7: 11598 | P7: 10904 | Q7: 10187 | R7: 9797 | S7: 8855 | T7: 8985
A8: Zdravotnictví, lékařské a farmaceut.vědy a nauky | B8: 13414 | C8: 12829 | D8: 17148 | E8: 16672 | F8: 19811 | G8: 23594 | H8: 25580 | I8: 27543 | J8: 26681 | K8: 26832 | L8: 28389 | M8: 31250 | N8: 32520 | O8: 34042 | P8: 34466 | Q8: 33876 | R8: 34556 | S8: 34114 | T8: 33549
A9: Humanitní a spol. vědy a nauky | B9: 36843 | C9: 40517 | D9: 39000 | E9: 41252 | F9: 45128 | G9: 52489 | H9: 56709 | I9: 60104 | J9: 68318 | K9: 71395 | L9: 72967 | M9: 71223 | N9: 67194 | O9: 61775 | P9: 58504 | Q9: 49849 | R9: 47433 | S9: 44557 | T9: 41557
A10: Ekonomické vědy a nauky | B10: 46799 | C10: 39372 | D10: 46717 | E10: 43047 | F10: 46695 | G10: 54081 | H10: 61051 | I10: 66010 | J10: 71046 | K10: 72351 | L10: 72968 | M10: 71570 | N10: 70460 | O10: 63160 | P10: 55202 | Q10: 44675 | R10: 41045 | S10: 35080 | T10: 32001
A11: Právní vědy a nauky | B11: 15852 | C11: 18074 | D11: 16137 | E11: 15741 | F11: 17480 | G11: 20757 | H11: 21048 | I11: 19393 | J11: 20502 | K11: 19195 | L11: 19139 | M11: 17701 | N11: 16576 | O11: 13360 | P11: 12995 | Q11: 12299 | R11: 12355 | S11: 11589 | T11: 10581
A12: Pedagogika, učitelství a soc. péče | B12: 44593 | C12: 42516 | D12: 40529 | E12: 41261 | F12: 39794 | G12: 46965 | H12: 44139 | I12: 42817 | J12: 48392 | K12: 42356 | L12: 42227 | M12: 46358 | N12: 50797 | O12: 46773 | P12: 42469 | Q12: 41180 | R12: 35919 | S12: 31849 | T12: 30264
A13: Vědy a nauky o kultuře a umění | B13: 8727 | C13: 7403 | D13: 7338 | E13: 6708 | F13: 7737 | G13: 8513 | H13: 9049 | I13: 9346 | J13: 9687 | K13: 9800 | L13: 10448 | M13: 10407 | N13: 10423 | O13: 9847 | P13: 8924 | Q13: 8416 | R13: 8085 | S13: 7336 | T13: 7474
A14: Neuvedeno | B14: 0 | C14: 0 | D14: 0 | E14: 0 | F14: 0 | G14: 0 | H14: 0 | I14: 0 | J14: 0 | K14: 0 | L14: 0 | M14: 0 | N14: 0 | O14: 0 | P14: 0 | Q14: 0 | R14: 0 | S14: 0
A15: Celkem | B15: 233819 | C15: 208173 | D15: 237452 | E15: 234026 | F15: =SUM(F5:F14) -> 253273 | G15: 284977 | H15: 294758 | I15: 303334 | J15: 323704 | K15: 320365 | L15: 324993 | M15: 331536 | N15: 330066 | O15: =+'vš_druh studia '!D93 -> 309452 | P15: =+'vš_druh studia '!D101 -> 290953 | Q15: =+'vš_druh studia '!D109 -> 260467 | R15: =+'vš_druh studia '!D117 -> 243718 | S15: =+'vš_druh studia '!D125 -> 224151 | T15: =+'vš_druh studia '!D133 -> 213317
A16: Počet přihlášených
A17: Přírodní vědy a nauky | B17: 13854 | C17: 10285 | D17: 13563 | E17: 12707 | F17: 14504 | G17: 14865 | H17: 14493 | I17: 14810 | J17: 15253 | K17: 15644 | L17: 15847 | M17: 17234 | N17: 16793 | O17: 16215 | P17: 16141 | Q17: 15065 | R17: 13384 | S17: 12607 | T17: 12465
A18: Technické vědy a nauky | B18: 27370 | C18: 20646 | D18: 26932 | E18: 28062 | F18: 32507 | G18: 32713 | H18: 32430 | I18: 33527 | J18: 34332 | K18: 35072 | L18: 34285 | M18: 35789 | N18: 35603 | O18: 34571 | P18: 33567 | Q18: 29614 | R18: 26805 | S18: 24371 | T18: 23708
A19: Zemědělsko-lesnické a veterinární vědy a nauky | B19: 4967 | C19: 3941 | D19: 4459 | E19: 5498 | F19: 5800 | G19: 6242 | H19: 6431 | I19: 6620 | J19: 6629 | K19: 6875 | L19: 7575 | M19: 8034 | N19: 7756 | O19: 8753 | P19: 8211 | Q19: 7616 | R19: 7279 | S19: 6607 | T19: 6685
A20: Zdravotnictví, lékařské a farmaceut.vědy a nauky | B20: 7023 | C20: 7226 | D20: 8729 | E20: 8790 | F20: 10293 | G20: 12260 | H20: 12677 | I20: 12994 | J20: 12605 | K20: 12020 | L20: 12884 | M20: 14157 | N20: 14615 | O20: 15277 | P20: 15871 | Q20: 15098 | R20: 15088 | S20: 14555 | T20: 13833
A21: Humanitní a spol. vědy a nauky | B21: 25823 | C21: 28757 | D21: 25490 | E21: 26756 | F21: 28731 | G21: 32759 | H21: 34620 | I21: 36321 | J21: 40058 | K21: 40544 | L21: 40822 | M21: 40725 | N21: 39595 | O21: 36891 | P21: 35371 | Q21: 30341 | R21: 28628 | S21: 26683 | T21: 25014
A22: Ekonomické vědy a nauky | B22: 26475 | C22: 24343 | D22: 26816 | E22: 25828 | F22: 27393 | G22: 31241 | H22: 33801 | I22: 37061 | J22: 39903 | K22: 42037 | L22: 42928 | M22: 43140 | N22: 41806 | O22: 37791 | P22: 33767 | Q22: 28341 | R22: 26394 | S22: 22652 | T22: 21170
A23: Právní vědy a nauky | B23: 9886 | C23: 11910 | D23: 9905 | E23: 9853 | F23: 11070 | G23: 13834 | H23: 13518 | I23: 12251 | J23: 13096 | K23: 12350 | L23: 12104 | M23: 11276 | N23: 10715 | O23: 9243 | P23: 8940 | Q23: 8363 | R23: 8380 | S23: 7811 | T23: 6994
A24: Pedagogika, učitelství a soc. péče | B24: 30301 | C24: 29511 | D24: 26385 | E24: 27163 | F24: 27439 | G24: 32546 | H24: 30544 | I24: 30134 | J24: 33672 | K24: 29432 | L24: 29182 | M24: 31356 | N24: 33903 | O24: 30910 | P24: 28217 | Q24: 26646 | R24: 22643 | S24: 19949 | T24: 18893
A25: Vědy a nauky o kultuře a umění | B25: 6577 | C25: 5862 | D25: 5408 | E25: 4974 | F25: 5583 | G25: 6065 | H25: 6196 | I25: 6473 | J25: 6783 | K25: 6684 | L25: 7001 | M25: 7105 | N25: 6996 | O25: 6605 | P25: 5982 | Q25: 5661 | R25: 5478 | S25: 4979 | T25: 5114
A26: Neuvedeno | B26: 0 | C26: 0 | D26: 0 | E26: 0 | F26: 0 | G26: 0 | H26: 0 | I26: 0 | J26: 0 | K26: 0 | L26: 0 | M26: 0 | N26: 0 | O26: 0 | P26: 0 | Q26: 0 | R26: 0 | S26: 0
A27: Celkem | B27: 105439 | C27: 103485 | D27: 104097 | E27: 108385 | F27: 117531 | G27: 130132 | H27: 132703 | I27: 137833 | J27: 146795 | K27: 147271 | L27: 146620 | M27: 150588 | N27: 149613 | O27: =+'vš_druh studia '!E93 -> 141054 | P27: =+'vš_druh studia '!E101 -> 134257 | Q27: =+'vš_druh studia '!E109 -> 121761 | R27: =+'vš_druh studia '!E117 -> 113093 | S27: =+'vš_druh studia '!E125 -> 102791 | T27: =+'vš_druh studia '!E133 -> 97998
A28: Index přihlášek (počet přihlášek na 1 přihlášeného)
A29: Přírodní vědy a nauky | B29: 1.3434387 | C29: 1.3569276 | D29: 1.5982241 | E29: 1.4228019 | F29: . | G29: 1.4377793 | H29: =H5/H17 -> 1.3852205 | I29: 1.3908845 | J29: 1.3942831 | K29: 1.3614165 | L29: 1.3685871 | M29: =M5/M17 -> 1.3561564 | N29: =N5/N17 -> 1.3622938 | O29: =O5/O17 -> 1.3517114 | P29: =P5/P17 -> 1.3621213 | Q29: =Q5/Q17 -> 1.3645536 | R29: =R5/R17 -> 1.3812014 | S29: =S5/S17 -> 1.392639 | T29: =T5/T17 -> 1.3822704
A30: Technické vědy a nauky | B30: 1.5583851 | C30: 1.3920372 | D30: 1.5902343 | E30: 1.5703672 | F30: . | G30: 1.2666947 | H30: =H6/H18 -> 1.4897934 | I30: 1.4478048 | J30: 1.4166545 | K30: 1.3639733 | L30: 1.3734578 | M30: =M6/M18 -> 1.3612283 | N30: =N6/N18 -> 1.3585653 | O30: =O6/O18 -> 1.3589135 | P30: =P6/P18 -> 1.3555873 | Q30: =Q6/Q18 -> 1.3313973 | R30: =R6/R18 -> 1.3445999 | S30: =S6/S18 -> 1.3628493 | T30: =T6/T18 -> 1.3360891
A31: Zemědělsko-lesnické a veterinární vědy a nauky | B31: 1.2736058 | C31: 1.2093377 | D31: 1.3060085 | E31: 1.2835848 | F31: . | G31: 1.33076 | H31: =H7/H19 -> 1.367128 | I31: 1.3564955 | J31: 1.3837683 | K31: 1.3524364 | L31: 1.330429 | M31: =M7/M19 -> 1.3614638 | N31: =N7/N19 -> 1.398917 | O31: =O7/O19 -> 1.3250314 | P31: =P7/P19 -> 1.3279747 | Q31: =Q7/Q19 -> 1.3375788 | R31: =R7/R19 -> 1.3459266 | S31: =S7/S19 -> 1.3402452 | T31: =T7/T19 -> 1.3440539
A32: Zdravotnictví, lékařské a farmaceut.vědy a nauky | B32: 1.91001 | C32: 1.7753944 | D32: 1.9479723 | E32: 1.8943302 | F32: . | G32: 1.9135911 | H32: =H8/H20 -> 2.0178276 | I32: 2.1196706 | J32: 2.1166997 | K32: 2.2322795 | L32: 2.2034306 | M32: =M8/M20 -> 2.2073886 | N32: =N8/N20 -> 2.2251112 | O32: =O8/O20 -> 2.2283171 | P32: =P8/P20 -> 2.1716338 | Q32: =Q8/Q20 -> 2.2437409 | R32: =R8/R20 -> 2.2902969 | S32: =S8/S20 -> 2.3437994 | T32: =T8/T20 -> 2.4252874
A33: Humanitní a spol. vědy a nauky | B33: 1.4267513 | C33: 1.4089439 | D33: 1.5199938 | E33: 1.5649373 | F33: . | G33: 1.6115963 | H33: 1.6613154 | I33: 1.6613154 | J33: 1.6613154 | K33: 1.760883 | L33: 1.787443 | M33: =M9/M21 -> 1.7488766 | N33: =N9/N21 -> 1.6970325 | O33: =O9/O21 -> 1.6745277 | P33: =P9/P21 -> 1.6540103 | Q33: =Q9/Q21 -> 1.6429584 | R33: =R9/R21 -> 1.6568744 | S33: =S9/S21 -> 1.6698647 | T33: =T9/T21 -> 1.6613496
A34: Ekonomické vědy a nauky | B34: 1.7676676 | C34: 1.6173849 | D34: 1.7334694 | E34: 1.6615331 | F34: . | G34: 1.7293315 | H34: 1.832868 | I34: 1.832868 | J34: 1.832868 | K34: 1.7210857 | L34: 1.6997368 | M34: =M10/M22 -> 1.6590172 | N34: =N10/N22 -> 1.685404 | O34: =O10/O22 -> 1.6712974 | P34: =P10/P22 -> 1.6347914 | Q34: =Q10/Q22 -> 1.5763382 | R34: =R10/R22 -> 1.5550883 | S34: =S10/S22 -> 1.5486491 | T34: =T10/T22 -> 1.5116202
A35: Právní vědy a nauky | B35: 1.6034797 | C35: 1.5175483 | D35: 1.6258942 | E35: 1.5928962 | F35: . | G35: 1.5004723 | H35: =H11/H23 -> 1.5570351 | I35: 1.5829728 | J35: 1.5653967 | K35: 1.554251 | L35: 1.5812128 | M35: =M11/M23 -> 1.5697943 | N35: =N11/N23 -> 1.5469902 | O35: =O11/O23 -> 1.4454182 | P35: =P11/P23 -> 1.4535794 | Q35: =Q11/Q23 -> 1.4706445 | R35: =R11/R23 -> 1.4743437 | S35: =S11/S23 -> 1.4836769 | T35: =T11/T23 -> 1.5128682
A36: Pedagogika, učitelství a soc. péče | B36: 1.4716676 | C36: 1.4406831 | D36: 1.5211305 | E36: 1.5329318 | F36: . | G36: 1.4618288 | H36: =H12/H24 -> 1.4450956 | I36: 1.4208867 | J36: 1.4371585 | K36: 1.4391139 | L36: 1.4470221 | M36: =M12/M24 -> 1.4784411 | N36: =N12/N24 -> 1.498304 | O36: =O12/O24 -> 1.5131996 | P36: =P12/P24 -> 1.5050856 | Q36: =Q12/Q24 -> 1.5454477 | R36: =R12/R24 -> 1.5863181 | S36: =S12/S24 -> 1.5965211 | T36: =T12/T24 -> 1.6018631
A37: Vědy a nauky o kultuře a umění | B37: 1.3268968 | C37: 1.2628796 | D37: 1.3336968 | E37: 1.3285799 | F37: . | G37: 1.3423469 | H37: =H13/H25 -> 1.4604584 | I37: 1.4438437 | J37: 1.4281291 | K37: 1.4661879 | L37: 1.4923582 | M37: =M13/M25 -> 1.4647431 | N37: =N13/N25 -> 1.4898513 | O37: =O13/O25 -> 1.4908403 | P37: =P13/P25 -> 1.4918088 | Q37: =Q13/Q25 -> 1.4866631 | R37: =R13/R25 -> 1.4759036 | S37: =S13/S25 -> 1.4733882 | T37: =T13/T25 -> 1.4614783
A38: Neuvedeno | B38: x | C38: x | D38: x | E38: x | F38: . | G38: 1.2141703 | H38: x | I38: x | J38: x | K38: x | L38: x | M38: x | N38: x | O38: x | P38: x | Q38: x | R38: x | S38: x | T38: x
A39: Celkem | B39: 2.217576 | C39: 2.0116249 | D39: 2.2614476 | E39: 2.1500257 | F39: . | G39: 2.1861944 | H39: =H15/H27 -> 2.2211857 | I39: 2.2006878 | J39: 2.2050681 | K39: 2.1752696 | L39: 2.2165666 | M39: =M15/M27 -> 2.2016097 | N39: =N15/N27 -> 2.2061318 | O39: =O15/O27 -> 2.1938548 | P39: =P15/P27 -> 2.1671347 | Q39: =Q15/Q27 -> 2.1391661 | R39: =R15/R27 -> 2.1550229 | S39: =S15/S27 -> 2.1806481 | T39: =T15/T27 -> 2.1767485
A40: Počet přihlášených, kteří se dostavili k přijímacímu řízení
...

Sheet vš_věk x dfst
A1: Struktura přihlášených, přijatých a zapsaných na VŠ podle věku a formy studia pro roky 1999/00–2025/2026 | Y1: Věk k 31.8.1998 | Z1: Struktura přihláše- ných v % | AA1: Struktura přijatých v % | AB1: Struktura zapsa- ných v % | AC1: Struktura přihláše- ných v % | AD1: Struktura přijatých v % | AE1: Struktura zapsa- ných v %
A3: 1999/2000 | I3: 2000/01 | Q3: 18 | R3: =196+32254 -> 32450 | S3: =133+23429 -> 23562 | T3: =121+22237 -> 22358 | U3: =1+495 -> 496 | V3: =2+225 -> 227 | W3: =2+181 -> 183
A4: Věk k 31.8.1999 | B4: Struktura přihlášených v % | C4: Struktura přijatých v % | D4: Struktura zapsaných v % | E4: Struktura přihlášených v % | F4: Struktura přijatých v % | G4: Struktura zapsaných v % | I4: Věk k 31.8.2000 | J4: Struktura přihlášených v % | K4: Struktura přijatých v % | L4: Struktura zapsaných v % | M4: Struktura přihlášených v % | N4: Struktura přijatých v % | O4: Struktura zapsaných v % | Q4: 19 | R4: 24051 | S4: 15139 | T4: 14234 | U4: 1003 | V4: 471 | W4: 404
B5: prezenční studium | E5: kombinované / distanční studium | J5: prezenční studium | M5: kombinované / distanční studium | Q5: 20 | R5: 12424 | S5: 6574 | T5: 6167 | U5: 1331 | V5: 571 | W5: 516
A6: 18 | B6: 0.35840117 | C6: 0.43103322 | D6: 0.43556525 | E6: 0.027766892 | F6: 0.032746682 | G6: 0.028197227 | I6: 18 | J6: 0.21968901 | K6: 0.27209227 | L6: 0.27415459 | M6: 0.028131008 | N6: 0.022219664 | O6: 0.018994951 | Q6: 21 | R6: 7341 | S6: 3385 | T6: 3163 | U6: 1558 | V6: 643 | W6: 602
A7: 19 | B7: 0.26563656 | C7: 0.27694644 | D7: 0.27729832 | E7: 0.056149583 | F7: 0.067945759 | G7: 0.062249615 | I7: 19 | J7: 0.26075262 | K7: 0.27718215 | L7: 0.27828334 | M7: 0.054508045 | N7: 0.049965462 | O7: 0.044602068 | Q7: 22 | R7: 4644 | S7: 2060 | T7: 1894 | U7: 1591 | V7: 622 | W7: 2581
A8: 20 | B8: 0.1372196 | C8: 0.12026196 | D8: 0.12014182 | E8: 0.07451156 | F8: 0.08237161 | G8: 0.079506934 | I8: 20 | J8: 0.17201629 | K8: 0.16171215 | L8: 0.16228514 | M8: 0.0777819 | N8: 0.070573336 | O8: 0.068165424 | Q8: 23 | R8: 3046 | S8: 1368 | T8: 1206 | U8: 1606 | V8: 607 | W8: 580
A9: 21 | B9: 0.08107929 | C9: 0.061923752 | D9: 0.061619684 | E9: 0.087219392 | F9: 0.092758223 | G9: 0.092758089 | I9: 21 | J9: 0.11898968 | K9: 0.10921594 | L9: 0.10897652 | M9: 0.082639053 | N9: 0.079668432 | O9: 0.078624669 | Q9: 24 | R9: 1877 | S9: 817 | T9: 711 | U9: 1444 | V9: 563 | W9: 526
A10: 22 | B10: 0.05129168 | C10: 0.037684765 | D10: 0.036897781 | E10: 0.089066786 | F10: 0.089728794 | G10: 0.08952234 | I10: 22 | J10: 0.074275687 | K10: 0.064435781 | L10: 0.064093922 | M10: 0.089148986 | N10: 0.084273544 | O10: 0.084275066 | Q10: 25 | R10: 1248 | S10: 510 | T10: 440 | U10: 1278 | V10: 524 | W10: 499
A11: 23 | B11: 0.033642217 | C11: 0.025025611 | D11: 0.023494574 | E11: 0.089906511 | F11: 0.087564916 | G11: 0.089368259 | I11: 23 | J11: 0.048838282 | K11: 0.042614252 | L11: 0.041877317 | M11: 0.085708503 | N11: 0.088878655 | O11: 0.090286126 | Q11: 26 | R11: 735 | S11: 275 | T11: 254 | U11: 1059 | V11: 383 | W11: 365
A12: 24 | B12: 0.02073094 | C12: 0.014945851 | D12: 0.013851279 | E12: 0.080837485 | F12: 0.081217542 | G12: 0.081047766 | I12: 24 | J12: 0.031764736 | K12: 0.027696556 | L12: 0.026485788 | M12: 0.077512059 | N12: 0.080359199 | O12: 0.081269536 | Q12: 27 | R12: 534 | S12: 209 | T12: 192 | U12: 752 | V12: 274 | W12: 261
A13: 25 | B13: 0.013783811 | C13: 0.0093297234 | D13: 0.0085718182 | E13: 0.071544533 | F13: 0.07559146 | G13: 0.076887519 | I13: 25 | J13: 0.019648026 | K13: 0.015756985 | L13: 0.015363442 | M13: 0.069990218 | N13: 0.079323049 | O13: 0.080307766 | Q13: 28 | R13: 374 | S13: 138 | T13: 119 | U13: 678 | V13: 241 | W13: 236
A14: 26 | B14: 0.0081178693 | C14: 0.0050307332 | D14: 0.0049482769 | E14: 0.059284555 | F14: 0.05525101 | G14: 0.05624037 | I14: 26 | J14: 0.012910828 | K14: 0.0086094867 | L14: 0.0083136726 | M14: 0.059365197 | N14: 0.06516233 | O14: 0.066602549 | Q14: 29 | R14: 256 | S14: 85 | T14: 81 | U14: 555 | V14: 187 | W14: 179
A15: 27 | B15: 0.0058978805 | C15: 0.0038233572 | D15: 0.0037404298 | E15: 0.042098192 | F15: 0.039526832 | G15: 0.040215716 | I15: 27 | J15: 0.0089914696 | K15: 0.0056584362 | L15: 0.0055611729 | M15: 0.051404864 | N15: 0.054110062 | O15: 0.054460207 | Q15: 30 a více | R15: =184+180+1197 -> 1561 | S15: =60+59+423 -> 542 | T15: =59+55+398 -> 512 | U15: =469+446+3597 -> 4512 | V15: =173+150+1296 -> 1619 | W15: =164+142+1252 -> 1558
A16: 28 | B16: 0.0041307253 | C16: 0.0025245134 | D16: 0.0023182872 | E16: 0.037955551 | F16: 0.034766301 | G16: 0.036363636 | I16: 28 | J16: 0.0059302713 | K16: 0.0031676413 | L16: 0.0030052803 | M16: 0.038553648 | N16: 0.040524983 | O16: 0.041476316 | Q16: průměr | R16: 19.8 | S16: 19.38 | T16: 19.36 | U16: 25.29 | V16: 24.96 | W16: 25.1
A17: 29 | B17: 0.0028274483 | C17: 0.0015549539 | D17: 0.0015779938 | E17: 0.031069809 | F17: 0.026976342 | G17: 0.027580894 | I17: 29 | J17: 0.0043036094 | K17: 0.002274204 | L17: 0.002303112 | M17: 0.033291733 | N17: 0.033962699 | O17: 0.035104592 | R17: 90541 | S17: 54664 | T17: 51331 | U17: 17863 | V17: 6932 | W17: 6490
A18: 30 a více | B18: 0.017240808 | C18: 0.0099151178 | D18: 0.0099744794 | E18: 0.25258915 | F18: 0.23355453 | G18: 0.24006163 | I18: 30 a více | J18: 0.02141558 | K18: 0.0093675547 | L18: 0.0091281878 | M18: 0.25189733 | N18: 0.25086346 | O18: 0.25571051
A19: průměr | B19: =+R16 -> 19.8 | C19: =+S16 -> 19.38 | D19: =+T16 -> 19.36 | E19: =+U16 -> 25.29 | F19: =+V16 -> 24.96 | G19: =+W16 -> 25.1 | I19: průměr | J19: 20.47 | K19: 20 | L19: 19.986 | M19: 26.168 | N19: 26.298 | O19: 26.42
A21: 2001/02 | I21: 2002/03
A22: Věk k 31.8.2001 | B22: Struktura přihlášených v % | C22: Struktura přijatých v % | D22: Struktura zapsaných v % | E22: Struktura přihlášených v % | F22: Struktura přijatých v % | G22: Struktura zapsaných v % | I22: Věk k 31.8.2002 | J22: Struktura přihlášených v % | K22: Struktura přijatých v % | L22: Struktura zapsaných v % | M22: Struktura přihlášených v % | N22: Struktura přijatých v % | O22: Struktura zapsaných v % | R22: Věk k 31.8.1998 | S22: Struktura přihláše- ných v % | T22: Struktura přijatých v % | U22: Struktura zapsa- ných v % | V22: Struktura přihláše- ných v % | W22: Struktura přijatých v % | X22: Struktura zapsa- ných v %
B23: prezenční studium | E23: kombinované / distanční studium | J23: prezenční studium | M23: kombinované / distanční studium | S23: prezenční studium | V23: kombinované / distanční studium
A24: 18 | B24: 0.092789771 | C24: 0.12471605 | D24: 0.12705926 | E24: 0.0071707464 | F24: 0.0074104152 | G24: 0.0046718818 | I24: 18 | J24: 0.0018518519 | K24: 0.023186945 | L24: 0.023647981 | M24: 0.0019059949 | N24: 0.0018518519 | O24: 0.0014805415 | R24: 18 | S24: 17152 | T24: 10050 | U24: 9761 | V24: 834 | W24: 193 | X24: 158
A25: 19 | B25: 0.45367804 | C25: 0.48752839 | D25: 0.49389978 | E25: 0.054212344 | F25: 0.050147193 | G25: 0.039330726 | I25: 19 | J25: 0.44995863 | K25: 0.50839057 | L25: 0.51421733 | M25: 0.053547668 | N25: 0.051267057 | O25: 0.041032149 | R25: 19 | S25: 20358 | T25: 10238 | U25: 9908 | V25: 1616 | W25: 434 | X25: 371
A26: 20 | B26: 0.15871743 | C26: 0.14332973 | D26: 0.1426602 | E26: 0.056990539 | F26: 0.051162319 | G26: 0.045415037 | I26: 20 | J26: 0.23582587 | K26: 0.23604898 | L26: 0.23549173 | M26: 0.062574172 | N26: 0.066471735 | O26: 0.060067682 | R26: 20 | S26: 13430 | T26: 5973 | U26: 5778 | V26: 2306 | W26: 613 | X26: 567
A27: 21 | B27: 0.091258265 | C27: 0.078799374 | D27: 0.076970797 | E27: 0.072120439 | F27: 0.070246675 | G27: 0.068991743 | I27: 21 | J27: 0.098853903 | K27: 0.093314851 | L27: 0.092527941 | M27: 0.072283957 | N27: 0.0791423 | O27: 0.076565144 | R27: 21 | S27: 9290 | T27: 4034 | U27: 3880 | V27: 2450 | W27: 692 | X27: 654
A28: 22 | B28: 0.065453617 | C28: 0.057252498 | D28: 0.055625761 | E28: 0.08597387 | F28: 0.085372043 | G28: 0.086158192 | I28: 22 | J28: 0.064811661 | K28: 0.058072375 | L28: 0.057176734 | M28: 0.081346424 | N28: 0.092690058 | O28: 0.09179357 | R28: 22 | S28: 5799 | T28: 2380 | U28: 2282 | V28: 2643 | W28: 732 | X28: 701
A29: 23 | B29: 0.044134092 | C29: 0.038815253 | D29: 0.037451462 | E29: 0.08597387 | F29: 0.086996244 | G29: 0.088005215 | I29: 23 | J29: 0.04880037 | K29: 0.045575788 | L29: 0.044068243 | M29: 0.090229079 | N29: 0.10243665 | O29: 0.10384941 | R29: 23 | S29: 3813 | T29: 1574 | U29: 1491 | V29: 2541 | W29: 772 | X29: 751
A30: 24 | B30: 0.028977052 | C30: 0.024810886 | D30: 0.023412908 | E30: 0.081618862 | F30: 0.07562684 | G30: 0.091373316 | I30: 24 | J30: 0.032241581 | K30: 0.030243841 | L30: 0.028939683 | M30: 0.085374186 | N30: 0.092592593 | O30: 0.094120135 | R30: 24 | S30: 2480 | T30: 1023 | U30: 943 | V30: 2298 | W30: 698 | X30: 676
A31: 25 | B31: 0.017138273 | C31: 0.014048475 | D31: 0.013349264 | E31: 0.0726085 | F31: 0.07562684 | G31: 0.075945241 | I31: 25 | J31: 0.019685614 | K31: 0.016697121 | L31: 0.016226423 | M31: 0.076167871 | N31: 0.083820663 | O31: 0.085765651 | R31: 25 | S31: 1534 | T31: 582 | U31: 547 | V31: 2075 | W31: 689 | X31: 668
A32: 26 | B32: 0.011923862 | C32: 0.00840262 | D32: 0.0079038669 | E32: 0.063297792 | F32: 0.063343823 | G32: 0.064211213 | I32: 26 | J32: 0.012081468 | K32: 0.0096402243 | L32: 0.0089146521 | M32: 0.067932535 | N32: 0.073976608 | O32: 0.075296108 | R32: 26 | S32: 1008 | T32: 318 | U32: 296 | V32: 1760 | W32: 566 | X32: 554
A33: 27 | B33: 0.0076453715 | C33: 0.0049621772 | D33: 0.0046412242 | E33: 0.055563898 | F33: 0.059892397 | G33: 0.060843112 | I33: 27 | J33: 0.0085409772 | K33: 0.0065318295 | L33: 0.0062578223 | M33: 0.058654296 | N33: 0.06539961 | O33: 0.066730118 | R33: 27 | S33: 702 | T33: 209 | U33: 198 | V33: 1524 | W33: 470 | X33: 453
A34: 28 | B34: 0.0057492221 | C34: 0.0039917959 | D34: 0.003860028 | E34: 0.045952846 | F34: 0.049944168 | G34: 0.051716645 | I34: 28 | J34: 0.0055358186 | K34: 0.0035704534 | L34: 0.0034472916 | M34: 0.053295933 | N34: 0.057407407 | O34: 0.058798646 | R34: 28 | S34: 463 | T34: 117 | U34: 107 | V34: 1143 | W34: 352 | X34: 345
A35: 29 | B35: 0.0039381564 | C35: 0.0018746003 | D35: 0.0018151322 | E35: 0.037918606 | F35: 0.037356614 | G35: 0.038787484 | I35: 29 | J35: 0.0042218221 | K35: 0.0028563628 | L35: 0.0027227016 | M35: 0.044988672 | N35: 0.051461988 | O35: 0.052453469 | R35: 29 | S35: 336 | T35: 84 | U35: 82 | V35: 987 | W35: 295 | X35: 292
A36: 30 a více | B36: 0.017150428 | C36: 0.010299274 | D36: 0.010178526 | E36: 0.28119838 | F36: 0.27215511 | G36: 0.2845502 | I36: 30 a více | J36: 0.018919116 | K36: 0.012139542 | L36: 0.011922798 | M36: 0.30632575 | N36: 0.33859649 | O36: 0.35035956 | R36: 30 a více | S36: 1672 | T36: 346 | U36: 325 | V36: 7468 | W36: 2179 | X36: 2127
A37: průměr | B37: 20.73 | C37: 20.01 | D37: 19.97 | E37: 26.82 | F37: 26.79 | G37: 27.04 | I37: průměr | J37: 20.87 | K37: 21.200491 | L37: 21.485607 | M37: 26.975869 | N37: 29.568226 | O37: 29.864213 | R37: průměr
S38: =+'vš_druh studia '!#REF! -> #REF! | T38: =+'vš_druh studia '!#REF! -> #REF! | U38: =+'vš_druh studia '!#REF! -> #REF! | V38: =+'vš_druh studia '!#REF! -> #REF! | W38: =+'vš_druh studia '!#REF! -> #REF! | X38: =+'vš_druh studia '!#REF! -> #REF!
A39: 2003/04 | I39: 2004/05
A40: Věk k 31.8.2003 | B40: Struktura přihlášených v % | C40: Struktura přijatých v % | D40: Struktura zapsaných v % | E40: Struktura přihlášených v % | F40: Struktura přijatých v % | G40: Struktura zapsaných v % | I40: Věk k 31.8.2004 | J40: Struktura přihlášených v % | K40: Struktura přijatých v % | L40: Struktura zapsaných v % | M40: Struktura přihlášených v % | N40: Struktura přijatých v % | O40: Struktura zapsaných v %
B41: prezenční studium | E41: kombinované / distanční studium | J41: prezenční studium | M41: kombinované / distanční studium
A42: 18 | B42: =33.5651449005112%/100 -> 0.0033565145 | C42: =40%/100 -> 0.004 | D42: 0.004 | E42: 0 | F42: =0.0520639642989959/100 -> 0.00052063964 | G42: =4.78850758180367%/100 -> 0.00047885076 | I42: 18 | J42: 0.0038465603 | K42: 0.0042008266 | L42: 0.004170231 | M42: 0.00060986022 | N42: 0.00091858996 | O42: 0.0008487935
...

Sheet vš_věk
A1: Struktura přihlášených uchazečů o prezenční studium na VŠ podle věku v letech 1999/00–2025/26
B3: 1999/00 | C3: 2000/01 | D3: 2001/02 | E3: 2002/03 | F3: 2003/04 | G3: 2004/05 | H3: 2005/06 | I3: 2006/07 | J3: 2007/08 | K3: 2008/09 | L3: 2009/10 | M3: 2010/11 | N3: 2011/12 | O3: 2012/13 | P3: 2013/14 | Q3: 2014/15 | R3: 2015/16 | S3: 2016/17 | T3: 2017/18 | U3: 2018/19 | V3: 2019/20 | W3: 2020/21 | X3: 2021/22 | Y3: 2022/23 | Z3: 2023/24 | AA3: 2024/25 | AB3: 2025/26
A4: 18 | B4: 0.43103322 | C4: =+'vš_věk x dfst'!J6 -> 0.21968901 | D4: 0.0927 | E4: 0.0018518519 | F4: 0.0033565145 | G4: 0.0038465603 | H4: 0.0033312469 | I4: 0.0050254894 | J4: 0.0055919862 | K4: 0.0054916662 | L4: 0.0056390417 | M4: 0.0051370999 | N4: 0.0045092685 | O4: =+'vš_věk x dfst'!J114 -> 0.0047778875 | P4: =+'vš_věk x dfst'!B132 -> 0.003483 | Q4: =+'vš_věk x dfst'!J132 -> 0.004631 | R4: =+'vš_věk x dfst'!B150 -> 0.005 | S4: =+'vš_věk x dfst'!J150 -> 0.0055343714 | T4: =+'vš_věk x dfst'!B168 -> 0.0064 | U4: =+'vš_věk x dfst'!J168 -> 0.0061 | V4: =+'vš_věk x dfst'!B186 -> 0.0066 | W4: =+'vš_věk x dfst'!J186 -> 0.0078 | X4: =+'vš_věk x dfst'!B204 -> 0.008 | Y4: =+'vš_věk x dfst'!J204 -> 0.0086 | Z4: =+'vš_věk x dfst'!B222 -> 0.009 | AA4: =+'vš_věk x dfst'!J222 -> 0.0095 | AB4: =+'vš_věk x dfst'!B240 -> 0.0097
A5: 19 | B5: 0.27694644 | C5: =+'vš_věk x dfst'!J7 -> 0.26075262 | D5: 0.4536 | E5: 0.44995863 | F5: 0.45650791 | G5: 0.46011836 | H5: 0.47048027 | I5: 0.47274758 | J5: 0.47214064 | K5: 0.47289123 | L5: 0.46197376 | M5: 0.46549518 | N5: 0.43532228 | O5: =+'vš_věk x dfst'!J115 -> 0.43363277 | P5: =+'vš_věk x dfst'!B133 -> 0.413409 | Q5: =+'vš_věk x dfst'!J133 -> 0.392593 | R5: =+'vš_věk x dfst'!B151 -> 0.4009 | S5: =+'vš_věk x dfst'!J151 -> 0.42549783 | T5: =+'vš_věk x dfst'!B169 -> 0.4404 | U5: =+'vš_věk x dfst'!J169 -> 0.452 | V5: =+'vš_věk x dfst'!B187 -> 0.4581 | W5: =+'vš_věk x dfst'!J187 -> 0.4681 | X5: =+'vš_věk x dfst'!B205 -> 0.4749 | Y5: =+'vš_věk x dfst'!J205 -> 0.4714 | Z5: =+'vš_věk x dfst'!B223 -> 0.4743 | AA5: =+'vš_věk x dfst'!J223 -> 0.4857 | AB5: =+'vš_věk x dfst'!B241 -> 0.4971
A6: 20 | B6: 0.12026196 | C6: =+'vš_věk x dfst'!J8 -> 0.17201629 | D6: 0.1587 | E6: 0.23582587 | F6: 0.21314964 | G6: 0.22379795 | H6: 0.22869965 | I6: 0.22362394 | J6: 0.22283461 | K6: 0.22361822 | L6: 0.23297099 | M6: 0.22762471 | N6: 0.25153834 | O6: =+'vš_věk x dfst'!J116 -> 0.24906219 | P6: =+'vš_věk x dfst'!B134 -> 0.258913 | Q6: =+'vš_věk x dfst'!J134 -> 0.255366 | R6: =+'vš_věk x dfst'!B152 -> 0.2422 | S6: =+'vš_věk x dfst'!J152 -> 0.24173816 | T6: =+'vš_věk x dfst'!B170 -> 0.2495 | U6: =+'vš_věk x dfst'!J170 -> 0.251 | V6: =+'vš_věk x dfst'!B188 -> 0.2435 | W6: =+'vš_věk x dfst'!J188 -> 0.2477 | X6: =+'vš_věk x dfst'!B206 -> 0.2468 | Y6: =+'vš_věk x dfst'!J206 -> 0.2438 | Z6: =+'vš_věk x dfst'!B224 -> 0.2452 | AA6: =+'vš_věk x dfst'!J224 -> 0.243 | AB6: =+'vš_věk x dfst'!B242 -> 0.2417
A7: 21 | B7: 0.061923752 | C7: =+'vš_věk x dfst'!J9 -> 0.11898968 | D7: 0.0912 | E7: 0.098853903 | F7: 0.10395323 | G7: 0.10075029 | H7: 0.098473355 | I7: 0.096239155 | J7: 0.097024983 | K7: 0.097613861 | L7: 0.097226228 | M7: 0.102524 | N7: 0.10566495 | O7: =+'vš_věk x dfst'!J117 -> 0.11353406 | P7: =+'vš_věk x dfst'!B135 -> 0.114421 | Q7: =+'vš_věk x dfst'!J135 -> 0.121367 | R7: =+'vš_věk x dfst'!B153 -> 0.1197 | S7: =+'vš_věk x dfst'!J153 -> 0.11107139 | T7: =+'vš_věk x dfst'!B171 -> 0.103 | U7: =+'vš_věk x dfst'!J171 -> 0.104 | V7: =+'vš_věk x dfst'!B189 -> 0.1058 | W7: =+'vš_věk x dfst'!J189 -> 0.1012 | X7: =+'vš_věk x dfst'!B207 -> 0.0996 | Y7: =+'vš_věk x dfst'!J207 -> 0.101 | Z7: =+'vš_věk x dfst'!B225 -> 0.0973 | AA7: =+'vš_věk x dfst'!J225 -> 0.0914 | AB7: =+'vš_věk x dfst'!B243 -> 0.0899
A8: 22 | B8: 0.037684765 | C8: =+'vš_věk x dfst'!J10 -> 0.074275687 | D8: 0.0654 | E8: 0.064811661 | F8: 0.0607573 | G8: 0.068931628 | H8: 0.065829258 | I8: 0.067358102 | J8: 0.067224524 | K8: 0.06929429 | L8: 0.06954818 | M8: 0.071246458 | N8: 0.07679217 | O8: =+'vš_věk x dfst'!J118 -> 0.075320829 | P8: =+'vš_věk x dfst'!B136 -> 0.080181 | Q8: =+'vš_věk x dfst'!J136 -> 0.081558 | R8: =+'vš_věk x dfst'!B154 -> 0.0851 | S8: =+'vš_věk x dfst'!J154 -> 0.077454719 | T8: =+'vš_věk x dfst'!B172 -> 0.0675 | U8: =+'vš_věk x dfst'!J172 -> 0.0621 | V8: =+'vš_věk x dfst'!B190 -> 0.0656 | W8: =+'vš_věk x dfst'!J190 -> 0.0606 | X8: =+'vš_věk x dfst'!B208 -> 0.0585 | Y8: =+'vš_věk x dfst'!J208 -> 0.064 | Z8: =+'vš_věk x dfst'!B226 -> 0.0628 | AA8: =+'vš_věk x dfst'!J226 -> 0.0605 | AB8: =+'vš_věk x dfst'!B244 -> 0.0568
A9: 23 | B9: 0.025025611 | C9: =+'vš_věk x dfst'!J11 -> 0.048838282 | D9: 0.0441 | E9: 0.04880037 | F9: 0.047715157 | G9: 0.04153017 | H9: 0.043391082 | I9: 0.042571892 | J9: 0.042563463 | K9: 0.042879578 | L9: 0.044764244 | M9: 0.044916451 | N9: 0.045631105 | O9: =+'vš_věk x dfst'!J119 -> 0.046495558 | P9: =+'vš_věk x dfst'!B137 -> 0.047744 | Q9: =+'vš_věk x dfst'!J137 -> 0.055384 | R9: =+'vš_věk x dfst'!B155 -> 0.053 | S9: =+'vš_věk x dfst'!J155 -> 0.050325707 | T9: =+'vš_věk x dfst'!B173 -> 0.0448 | U9: =+'vš_věk x dfst'!J173 -> 0.0398 | V9: =+'vš_věk x dfst'!B191 -> 0.0379 | W9: =+'vš_věk x dfst'!J191 -> 0.0382 | X9: =+'vš_věk x dfst'!B209 -> 0.0363 | Y9: =+'vš_věk x dfst'!J209 -> 0.0378 | Z9: =+'vš_věk x dfst'!B227 -> 0.0403 | AA9: =+'vš_věk x dfst'!J227 -> 0.0393 | AB9: =+'vš_věk x dfst'!B245 -> 0.036
A10: 24 | B10: 0.014945851 | C10: =+'vš_věk x dfst'!J12 -> 0.031764736 | D10: 0.0289 | E10: 0.032241581 | F10: 0.037470109 | G10: 0.028976012 | H10: 0.024061363 | I10: 0.027567808 | J10: 0.025536066 | K10: 0.027397538 | L10: 0.028036082 | M10: 0.028055011 | N10: 0.028507423 | O10: =+'vš_věk x dfst'!J120 -> 0.028983218 | P10: =+'vš_věk x dfst'!B138 -> 0.030522 | Q10: =+'vš_věk x dfst'!J138 -> 0.032781 | R10: =+'vš_věk x dfst'!B156 -> 0.0355 | S10: =+'vš_věk x dfst'!J156 -> 0.032451541 | T10: =+'vš_věk x dfst'!B174 -> 0.0328 | U10: =+'vš_věk x dfst'!J174 -> 0.0311 | V10: =+'vš_věk x dfst'!B192 -> 0.0307 | W10: =+'vš_věk x dfst'!J192 -> 0.029 | X10: =+'vš_věk x dfst'!B210 -> 0.0284 | Y10: =+'vš_věk x dfst'!J210 -> 0.0296 | Z10: =+'vš_věk x dfst'!B228 -> 0.0294 | AA10: =+'vš_věk x dfst'!J228 -> 0.0294 | AB10: =+'vš_věk x dfst'!B246 -> 0.0293
A11: 25 | B11: 0.0093297234 | C11: =+'vš_věk x dfst'!J13 -> 0.019648026 | D11: 0.0171 | E11: 0.019685614 | F11: 0.021652809 | G11: 0.018429673 | H11: 0.014757212 | I11: 0.013535732 | J11: 0.014915316 | K11: 0.013800091 | L11: 0.015037444 | M11: 0.015108002 | N11: 0.015143066 | O11: =+'vš_věk x dfst'!J121 -> 0.015429418 | P11: =+'vš_věk x dfst'!B139 -> 0.016556 | Q11: =+'vš_věk x dfst'!J139 -> 0.017742 | R11: =+'vš_věk x dfst'!B157 -> 0.0184 | S11: =+'vš_věk x dfst'!J157 -> 0.019145218 | T11: =+'vš_věk x dfst'!B175 -> 0.0181 | U11: =+'vš_věk x dfst'!J175 -> 0.0189 | V11: =+'vš_věk x dfst'!B193 -> 0.0196 | W11: =+'vš_věk x dfst'!J193 -> 0.0177 | X11: =+'vš_věk x dfst'!B211 -> 0.0164 | Y11: =+'vš_věk x dfst'!J211 -> 0.0185 | Z11: =+'vš_věk x dfst'!B229 -> 0.0176 | AA11: =+'vš_věk x dfst'!J229 -> 0.0168 | AB11: =+'vš_věk x dfst'!B247 -> 0.0178
A12: 26 | B12: 0.0050307332 | C12: =+'vš_věk x dfst'!J14 -> 0.012910828 | D12: 0.01316 | E12: 0.012081468 | F12: 0.012910515 | G12: 0.010504068 | H12: 0.0091662335 | I12: 0.0079311735 | J12: 0.0076437221 | K12: 0.0076194336 | L12: 0.0070015614 | M12: 0.0067578455 | N12: 0.0068360126 | O12: =+'vš_věk x dfst'!J122 -> 0.0062586377 | P12: =+'vš_věk x dfst'!B140 -> 0.00641 | Q12: =+'vš_věk x dfst'!J140 -> 0.006869 | R12: =+'vš_věk x dfst'!B158 -> 0.0071 | S12: =+'vš_věk x dfst'!J158 -> 0.0065803411 | T12: =+'vš_věk x dfst'!B176 -> 0.0066 | U12: =+'vš_věk x dfst'!J176 -> 0.0058 | V12: =+'vš_věk x dfst'!B194 -> 0.0056 | W12: =+'vš_věk x dfst'!J194 -> 0.0046 | X12: =+'vš_věk x dfst'!B212 -> 0.0041 | Y12: =+'vš_věk x dfst'!J212 -> 0.0041 | Z12: =+'vš_věk x dfst'!B230 -> 0.004 | AA12: =+'vš_věk x dfst'!J230 -> 0.0042 | AB12: =+'vš_věk x dfst'!B248 -> 0.0038
A13: 27 | B13: 0.0038233572 | C13: =+'vš_věk x dfst'!J15 -> 0.0089914696 | D13: 0.0076 | E13: 0.0085409772 | F13: 0.0088519843 | G13: 0.0071119095 | H13: 0.0069595476 | I13: 0.0069281438 | J13: 0.006215553 | K13: 0.0057449719 | L13: 0.0053804613 | M13: 0.0049191049 | N13: 0.0043458196 | O13: =+'vš_věk x dfst'!J123 -> 0.0040868707 | P13: =+'vš_věk x dfst'!B141 -> 0.004454 | Q13: =+'vš_věk x dfst'!J141 -> 0.004507 | R13: =+'vš_věk x dfst'!B159 -> 0.0048 | S13: =+'vš_věk x dfst'!J159 -> 0.0048723652 | T13: =+'vš_věk x dfst'!B177 -> 0.0047 | U13: =+'vš_věk x dfst'!J177 -> 0.0041 | V13: =+'vš_věk x dfst'!B195 -> 0.0037 | W13: =+'vš_věk x dfst'!J195 -> 0.0035 | X13: =+'vš_věk x dfst'!B213 -> 0.0034 | Y13: =+'vš_věk x dfst'!J213 -> 0.0025 | Z13: =+'vš_věk x dfst'!B231 -> 0.0026 | AA13: =+'vš_věk x dfst'!J231 -> 0.0025 | AB13: =+'vš_věk x dfst'!B249 -> 0.0024
A14: 28 | B14: 0.0025245134 | C14: =+'vš_věk x dfst'!J16 -> 0.0059302713 | D14: 0.0057 | E14: 0.0055358186 | F14: 0.006559463 | G14: 0.0059917574 | H14: 0.0054848874 | I14: 0.0052012781 | J14: 0.0057428491 | K14: 0.0045088404 | L14: 0.0041074501 | M14: 0.0039144322 | N14: 0.0033747404 | O14: =+'vš_věk x dfst'!J124 -> 0.0032379072 | P14: =+'vš_věk x dfst'!B142 -> 0.003532 | Q14: =+'vš_věk x dfst'!J142 -> 0.00364 | R14: =+'vš_věk x dfst'!B160 -> 0.0038 | S14: =+'vš_věk x dfst'!J160 -> 0.0034027116 | T14: =+'vš_věk x dfst'!B178 -> 0.0033 | U14: =+'vš_věk x dfst'!J178 -> 0.0028 | V14: =+'vš_věk x dfst'!B196 -> 0.0031 | W14: =+'vš_věk x dfst'!J196 -> 0.0024 | X14: =+'vš_věk x dfst'!B214 -> 0.0025 | Y14: =+'vš_věk x dfst'!J214 -> 0.0023 | Z14: =+'vš_věk x dfst'!B232 -> 0.0017 | AA14: =+'vš_věk x dfst'!J232 -> 0.0019 | AB14: =+'vš_věk x dfst'!B250 -> 0.0017
A15: 29 | B15: 0.0015549539 | C15: =+'vš_věk x dfst'!J17 -> 0.0043036094 | D15: 0.0039 | E15: 0.0042218221 | F15: 0.0049031437 | G15: 0.0053788439 | H15: 0.0043497173 | I15: 0.0043430155 | J15: 0.0042241622 | K15: 0.0040630224 | L15: 0.0032620911 | M15: 0.002796023 | N15: 0.0028940082 | O15: =+'vš_věk x dfst'!J125 -> 0.0024185587 | P15: =+'vš_věk x dfst'!B143 -> 0.002539 | Q15: =+'vš_věk x dfst'!J143 -> 0.002807 | R15: =+'vš_věk x dfst'!B161 -> 0.0028 | S15: =+'vš_věk x dfst'!J161 -> 0.0027009851 | T15: =+'vš_věk x dfst'!B179 -> 0.0029 | U15: =+'vš_věk x dfst'!J179 -> 0.0026 | V15: =+'vš_věk x dfst'!B197 -> 0.0021 | W15: =+'vš_věk x dfst'!J197 -> 0.002 | X15: =+'vš_věk x dfst'!B215 -> 0.0022 | Y15: =+'vš_věk x dfst'!J215 -> 0.0019 | Z15: =+'vš_věk x dfst'!B233 -> 0.0018 | AA15: =+'vš_věk x dfst'!J233 -> 0.0013 | AB15: =+'vš_věk x dfst'!B251 -> 0.0015
